Workbook
Name Price: прайс!$A:$C
Name курс: Змiст!$K$4

Sheet прайс
A1: Артикул | B1: Ціна без ПДВ, EUR | C1: Номенклатура
A3: 015.39.654 | B3: 0.03584 | C3: Шуруп 3.5х20мм сталь колір: бронза
A4: 015.35.648 | B4: 0.03584 | C4: Шуруп 3.5х20мм сталь покриття: латунь
A5: 015.35.656 | B5: 0.03584 | C5: Шуруп 3.5х20мм сталь нікельована
A6: 015.31.657 | B6: 0.00677 | C6: Шуруп 3,5х20 (потай,цинк) "Hospa"
A7: 900.00.01X | B7: 192.75796 | C7: Комплект ручки GIOVE цамак колір: стара бронза
A8: 900.00.02X | B8: 101.95675 | C8: Комплект ручки LUXOR PC на планці цамак колір: стара бронза 72мм
A9: 900.00.03X | B9: 88.65476 | C9: Комплект ручки LUXOR PC на розетці цамак колір: стара бронза
A10: 900.00.04X | B10: 105.2369 | C10: Комплект ручки LUXOR WC на розетці цамак колір: стара бронза
A11: 900.00.05X | B11: 44.33494 | C11: Ручка LUXOR PC на розетці цамак колір: стара бронза
A12: 900.00.06X | B12: 106.14813 | C12: Комплект ручки SABIK WC на розетці цамак колір: бронза
A13: 900.00.07X | B13: 90.3734 | C13: Комплект ручки SABIK PC на розетці цамак колір: бронза
A14: 900.00.08X | B14: 70.85093 | C14: Комплект ручки SABIK на розетці цамак колір: бронза
... A604: 900.99.XX3 | B604: 0 | C604: Набір для аварійних дверей
A605: 900 | B605: 0 | C605: Набір ручок дверних ALASEPT демонстраційний
A606: 900 | B606: 0 | C606: Набір ручок дверних ALASEPT демонстраційний
A607: 900 | B607: 0 | C607: Набір ручок дверних ALASEPT демонстраційний
A608: 900 | B608: 0 | C608: Набір ручок дверних ALASEPT демонстраційний
A609: 900 | B609: 0 | C609: Набір ручок дверних ALASEPT демонстраційний
A610: 900 | B610: 0 | C610: Набір ручок дверних ALASEPT демонстраційний
A611: 900 | B611: 0 | C611: Набір ручок дверних ALASEPT демонстраційний
A612: 900 | B612: 0 | C612: Набір ручок дверних ALASEPT демонстраційний
A613: 901.00.181 | B613: 96.35182 | C613: Ручка NIKLAS для вхідних дверей латунь хромована полірована / шкіра колір коричневий
A614: 901.00.183 | B614: 96.35182 | C614: Ручка NIKLAS для вхідних дверей латунь хромована полірована / шкіра колір чорний
A615: 901.00.301 | B615: 25.2603 | C615: Ручка для плоских дверей, латунь,полір.
A616: 901.00.311 | B616: 25.2603 | C616: Врізна ручка для розсувних дверей CB латунь поліров.
A617: 901.00.346 | B617: 31.80307 | C617: Врізна ручка для розсувних дверей CB подовгаста латунь нікельована матова
A618: 901.00.34X | B618: 31.05996 | C618: Врізна ручка хром матовий
A619: 901.00.356 | B619: 7.61919 | C619: Врізна ручка для розсувних дверей WC латунь нікельована матова
A620: 901.00.35X | B620: 31.06262 | C620: Врізна ручка хром полірований
A621: 901.00.366 | B621: 28.62103 | C621: Врізна ручка для розсувних дверей CB кругла латунь нікельована матова
A622: 901.00.36X | B622: 30.34151 | C622: Врізна ручка для розсувних дверей CB кругла латунь полірована
A623: 901.00.376 | B623: 43.18568 | C623: Врізна ручка для розсувних дверей WC кругла латунь нікельована матова
A624: 901.00.37X | B624: 27.75579 | C624: Врізна ручка для розсувних дверей WC кругла латунь полірована
... A2432: 905.XX. 1 | B2432: 90.99997 | C2432: Набір демонстраційний ручок JADO
A2433: 905 | B2433: 0 | C2433: Ручка-замок
A2434: 906 | B2434: 0 | C2434: Ручка-кнопка
A2435: 907.00.450 | B2435: 4.84049 | C2435: Ручка врізна 93х37 мм, пластик, темно-синій
A2436: 907.35.300 | B2436: 6.74135 | C2436: Ручка PZ-комплект, 135х70 мм, нейлон, білий
A2437: 907.35.303 | B2437: 6.74135 | C2437: Ручка 135х70 мм (сірий)
...

Sheet Змiст
S1: Дата оновлення: | AC1: 43381
D4: курс: | K4: 31.5
D5: знижка: | K5: 0
D6: Ви можете змінити знижку на групу індивідуально, якщо вона більша за загальну знижку, то враховується вона.
F21: 0 | X21: 0 | AO21: 0.24 | AP21: 0 | BH21: 0
F38: 0 | X38: 0 | AO38: 0.24 | AP38: 0 | BG38: 0.24 | BH38: 0
F55: 0 | X55: 0 | AP55: 0 | BH55: 0
AO56: 0.24 | BF56: 0.24 | BG56: 0.24
F73: 0

Sheet Дверні ручки
G1: Ваша знижка на дану групу товарів: | I1: =IF(Змiст!$K$5>Змiст!$F$21,Змiст!$K$5,Змiст!$F$21) -> 0
D2: Зображення | F2: Артикул | G2: Назва | H2: Ціна грн. з ПДВ | I2: Ціна євро з ПДВ | K2: Од. | L2: Примітка
F3: 903.92.870 | G3: =VLOOKUP(F3,Price,3,FALSE) -> Комплект ручок LDH 2166 РС нержавіюча сталь матова 8мм | H3: =I3*Змiст!$K$4 -> 814.82323 | I3: =IF(Змiст!$K$5>Змiст!$F$21,J3*(1-Змiст!$K$5),'Дверні ручки'!J3*(1-Змiст!$F$21)) -> 25.867404 | J3: =VLOOKUP(F3,Price,2,FALSE)*1.2 -> 25.867404 | K3: комплект
F4: 903.93.870 | G4: =VLOOKUP(F4,Price,3,FALSE) -> Комплект ручок LDH 2166 WС нержавіюча сталь матова 8мм | H4: =I4*Змiст!$K$4 -> 1064.1441 | I4: =IF(Змiст!$K$5>Змiст!$F$21,J4*(1-Змiст!$K$5),'Дверні ручки'!J4*(1-Змiст!$F$21)) -> 33.782352 | J4: =VLOOKUP(F4,Price,2,FALSE)*1.2 -> 33.782352 | K4: комплект
F5: 903.82.200 | G5: =VLOOKUP(F5,Price,3,FALSE) -> Комплект ручок PС нержавіюча сталь матова 8мм | H5: =I5*Змiст!$K$4 -> 1036.9455 | I5: =IF(Змiст!$K$5>Змiст!$F$21,J5*(1-Змiст!$K$5),'Дверні ручки'!J5*(1-Змiст!$F$21)) -> 32.918904 | J5: =VLOOKUP(F5,Price,2,FALSE)*1.2 -> 32.918904 | K5: комплект
F6: 903.83.200 | G6: =VLOOKUP(F6,Price,3,FALSE) -> Комплект ручокWС нержавіюча сталь матова 8мм | H6: =I6*Змiст!$K$4 -> 1354.2621 | I6: =IF(Змiст!$K$5>Змiст!$F$21,J6*(1-Змiст!$K$5),'Дверні ручки'!J6*(1-Змiст!$F$21)) -> 42.992448 | J6: =VLOOKUP(F6,Price,2,FALSE)*1.2 -> 42.992448 | K6: комплект
F7: 903.82.150 | G7: =VLOOKUP(F7,Price,3,FALSE) -> Комплект дверних ручок PC 8 нержавіюча сталь матова | H7: =I7*Змiст!$K$4 -> 1207.242 | I7: =IF(Змiст!$K$5>Змiст!$F$21,J7*(1-Змiст!$K$5),'Дверні ручки'!J7*(1-Змiст!$F$21)) -> 38.325144 | J7: =VLOOKUP(F7,Price,2,FALSE)*1.2 -> 38.325144 | K7: комплект
F8: 903.83.150 | G8: =VLOOKUP(F8,Price,3,FALSE) -> Комплект дверних ручок WC 8 нержавіюча сталь матова | H8: =I8*Змiст!$K$4 -> 1485.8035 | I8: =IF(Змiст!$K$5>Змiст!$F$21,J8*(1-Змiст!$K$5),'Дверні ручки'!J8*(1-Змiст!$F$21)) -> 47.168364 | J8: =VLOOKUP(F8,Price,2,FALSE)*1.2 -> 47.168364 | K8: комплект
F9: 902.92.112 | G9: =VLOOKUP(F9,Price,3,FALSE) -> Комплект ручок PC 8 нержавіюча сталь матова | H9: =I9*Змiст!$K$4 -> 1846.6865 | I9: =IF(Змiст!$K$5>Змiст!$F$21,J9*(1-Змiст!$K$5),'Дверні ручки'!J9*(1-Змiст!$F$21)) -> 58.624968 | J9: =VLOOKUP(F9,Price,2,FALSE)*1.2 -> 58.624968 | K9: комплект
F10: 902.93.112 | G10: =VLOOKUP(F10,Price,3,FALSE) -> Комплект ручок WC 8 нержавіюча сталь матова | H10: =I10*Змiст!$K$4 -> 2397.9689 | I10: =IF(Змiст!$K$5>Змiст!$F$21,J10*(1-Змiст!$K$5),'Дверні ручки'!J10*(1-Змiст!$F$21)) -> 76.125996 | J10: =VLOOKUP(F10,Price,2,FALSE)*1.2 -> 76.125996 | K10: комплект
F11: 903.82.070 | G11: =VLOOKUP(F11,Price,3,FALSE) -> Комплект ручок LDH 2187 РС нержавіюча сталь матова 8мм | H11: =I11*Змiст!$K$4 -> 815.64689 | I11: =IF(Змiст!$K$5>Змiст!$F$21,J11*(1-Змiст!$K$5),'Дверні ручки'!J11*(1-Змiст!$F$21)) -> 25.893552 | J11: =VLOOKUP(F11,Price,2,FALSE)*1.2 -> 25.893552 | K11: комплект
F12: 903.83.070 | G12: =VLOOKUP(F12,Price,3,FALSE) -> Комплект дверних ручок WC 8 нержавіюча сталь матова | H12: =I12*Змiст!$K$4 -> 1148.1051 | I12: =IF(Змiст!$K$5>Змiст!$F$21,J12*(1-Змiст!$K$5),'Дверні ручки'!J12*(1-Змiст!$F$21)) -> 36.44778 | J12: =VLOOKUP(F12,Price,2,FALSE)*1.2 -> 36.44778 | K12: комплект
F13: 903.82.220 | G13: =VLOOKUP(F13,Price,3,FALSE) -> Комплект ручок PС нержавіюча сталь матова 8мм | H13: =I13*Змiст!$K$4 -> 759.37554 | I13: =IF(Змiст!$K$5>Змiст!$F$21,J13*(1-Змiст!$K$5),'Дверні ручки'!J13*(1-Змiст!$F$21)) -> 24.10716 | J13: =VLOOKUP(F13,Price,2,FALSE)*1.2 -> 24.10716 | K13: комплект
F14: 903.83.220 | G14: =VLOOKUP(F14,Price,3,FALSE) -> Комплект ручокWС нержавіюча сталь матова 8мм | H14: =I14*Змiст!$K$4 -> 1052.4473 | I14: =IF(Змiст!$K$5>Змiст!$F$21,J14*(1-Змiст!$K$5),'Дверні ручки'!J14*(1-Змiст!$F$21)) -> 33.411024 | J14: =VLOOKUP(F14,Price,2,FALSE)*1.2 -> 33.411024 | K14: комплект
... F54: 902.93.896 | G54: =VLOOKUP(F54,Price,3,FALSE) -> Комплект ручок PDH3104 WC нержавіюча сталь матова 8мм | H54: =I54*Змiст!$K$4 -> 1509.3256 | I54: =IF(Змiст!$K$5>Змiст!$F$21,J54*(1-Змiст!$K$5),'Дверні ручки'!J54*(1-Змiст!$F$21)) -> 47.9151 | J54: =VLOOKUP(F54,Price,2,FALSE)*1.2 -> 47.9151 | K54: комплект

Sheet Замки
H1: Ваша знижка на дану групу товарів: | J1: =IF(Змiст!$K$5>Змiст!$X$21,Змiст!$K$5,Змiст!$X$21) -> 0
D2: Зображення | E2: Колір | F2: Артикул | H2: Назва | I2: Ціна грн. з ПДВ | J2: Ціна євро з ПДВ | L2: Од. | M2: Примітка
F3: 911.23.623 | H3: =VLOOKUP(F3,Price,3,FALSE) -> Замок врізний WC 18х196мм сталь колір: стара бронза 8/6мм | I3: =J3*Змiст!$K$4 -> 290.76592 | J3: =IF(Змiст!$K$5>Змiст!$X$21,K3*(1-Змiст!$K$5),K3*(1-Змiст!$X$21)) -> 9.230664 | K3: =VLOOKUP(F3,Price,2,0)*1.2 -> 9.230664 | L3: шт | M3: Правий чи лівий замок?
F4: 911.23.628 | H4: =VLOOKUP(F4,Price,3,FALSE) -> Замок врізний WC 18х196мм сталь колір: бронза 8/6мм | I4: =J4*Змiст!$K$4 -> 182.96712 | J4: =IF(Змiст!$K$5>Змiст!$X$21,K4*(1-Змiст!$K$5),K4*(1-Змiст!$X$21)) -> 5.80848 | K4: =VLOOKUP(F4,Price,2,0)*1.2 -> 5.80848 | L4: шт
F5: 911.23.622 | H5: =VLOOKUP(F5,Price,3,FALSE) -> Замок врізний WC 18х196мм сталь хромована матова 8/6мм | I5: =J5*Змiст!$K$4 -> 248.69527 | J5: =IF(Змiст!$K$5>Змiст!$X$21,K5*(1-Змiст!$K$5),K5*(1-Змiст!$X$21)) -> 7.895088 | K5: =VLOOKUP(F5,Price,2,0)*1.2 -> 7.895088 | L5: шт
F6: 911.23.620 | H6: =VLOOKUP(F6,Price,3,FALSE) -> Замок врізний WC 18х196мм сталь покриття: латунь полірована 8/6мм | I6: =J6*Змiст!$K$4 -> 191.8849 | J6: =IF(Змiст!$K$5>Змiст!$X$21,K6*(1-Змiст!$K$5),K6*(1-Змiст!$X$21)) -> 6.091584 | K6: =VLOOKUP(F6,Price,2,0)*1.2 -> 6.091584 | L6: шт
F7: 911.23.626 | H7: =VLOOKUP(F7,Price,3,FALSE) -> Замок врізний WC 18х196мм сталь нікельована полірована 8/6мм | I7: =J7*Змiст!$K$4 -> 219.429 | J7: =IF(Змiст!$K$5>Змiст!$X$21,K7*(1-Змiст!$K$5),K7*(1-Змiст!$X$21)) -> 6.966 | K7: =VLOOKUP(F7,Price,2,0)*1.2 -> 6.966 | L7: шт
F8: 911.23.621 | H8: =VLOOKUP(F8,Price,3,FALSE) -> Замок врізний WC 18х196мм сталь хромована полірована 8/6мм | I8: =J8*Змiст!$K$4 -> 219.429 | J8: =IF(Змiст!$K$5>Змiст!$X$21,K8*(1-Змiст!$K$5),K8*(1-Змiст!$X$21)) -> 6.966 | K8: =VLOOKUP(F8,Price,2,0)*1.2 -> 6.966 | L8: шт
F9: 911.23.624 | H9: =VLOOKUP(F9,Price,3,FALSE) -> Замок врізний механічний WC чорний матовий 18x196 мм | I9: =J9*Змiст!$K$4 -> 191.9794 | J9: =IF(Змiст!$K$5>Змiст!$X$21,K9*(1-Змiст!$K$5),K9*(1-Змiст!$X$21)) -> 6.094584 | K9: =VLOOKUP(F9,Price,2,0)*1.2 -> 6.094584 | L9: шт
F10: 911.23.643 | H10: =VLOOKUP(F10,Price,3,FALSE) -> Замок врізний PC 18х196мм сталь колір: стара бронза 8мм | I10: =J10*Змiст!$K$4 -> 313.37788 | J10: =IF(Змiст!$K$5>Змiст!$X$21,K10*(1-Змiст!$K$5),K10*(1-Змiст!$X$21)) -> 9.948504 | K10: =VLOOKUP(F10,Price,2,0)*1.2 -> 9.948504 | L10: шт | M10: Правий чи лівий замок?
F11: 911.23.648 | H11: =VLOOKUP(F11,Price,3,FALSE) -> Замок врізний PC 18х196мм сталь колір: бронза 8мм | I11: =J11*Змiст!$K$4 -> 202.57927 | J11: =IF(Змiст!$K$5>Змiст!$X$21,K11*(1-Змiст!$K$5),K11*(1-Змiст!$X$21)) -> 6.431088 | K11: =VLOOKUP(F11,Price,2,0)*1.2 -> 6.431088 | L11: шт
F12: 911.23.642 | H12: =VLOOKUP(F12,Price,3,FALSE) -> Замок врізний PC 18х196мм сталь хромована матова 8мм | I12: =J12*Змiст!$K$4 -> 267.2993 | J12: =IF(Змiст!$K$5>Змiст!$X$21,K12*(1-Змiст!$K$5),K12*(1-Змiст!$X$21)) -> 8.485692 | K12: =VLOOKUP(F12,Price,2,0)*1.2 -> 8.485692 | L12: шт
F13: 911.23.640 | H13: =VLOOKUP(F13,Price,3,FALSE) -> Замок врізний PC 18х196мм сталь покриття: латунь полірована 8мм | I13: =J13*Змiст!$K$4 -> 203.29672 | J13: =IF(Змiст!$K$5>Змiст!$X$21,K13*(1-Змiст!$K$5),K13*(1-Змiст!$X$21)) -> 6.453864 | K13: =VLOOKUP(F13,Price,2,0)*1.2 -> 6.453864 | L13: шт
F14: 911.23.646 | H14: =VLOOKUP(F14,Price,3,FALSE) -> Замок врізний PC 18х196мм сталь нікельована полірована 8мм | I14: =J14*Змiст!$K$4 -> 230.202 | J14: =IF(Змiст!$K$5>Змiст!$X$21,K14*(1-Змiст!$K$5),K14*(1-Змiст!$X$21)) -> 7.308 | K14: =VLOOKUP(F14,Price,2,0)*1.2 -> 7.308 | L14: шт
F15: 911.23.641 | H15: =VLOOKUP(F15,Price,3,FALSE) -> Замок врізний PC 18х196мм сталь хромована полірована 8мм | I15: =J15*Змiст!$K$4 -> 238.50326 | J15: =IF(Змiст!$K$5>Змiст!$X$21,K15*(1-Змiст!$K$5),K15*(1-Змiст!$X$21)) -> 7.571532 | K15: =VLOOKUP(F15,Price,2,0)*1.2 -> 7.571532 | L15: шт
F16: 911.23.573 | H16: =VLOOKUP(F16,Price,3,FALSE) -> Замок врізний механічний PC чорний матовий 18x196 мм | I16: =J16*Змiст!$K$4 -> 200.01794 | J16: =IF(Змiст!$K$5>Змiст!$X$21,K16*(1-Змiст!$K$5),K16*(1-Змiст!$X$21)) -> 6.349776 | K16: =VLOOKUP(F16,Price,2,0)*1.2 -> 6.349776 | L16: шт
F17: 911.23.632 | H17: =VLOOKUP(F17,Price,3,FALSE) -> Замок врізний WC 18х196мм сталь хромована матова 8/8мм | I17: =J17*Змiст!$K$4 -> 248.69527 | J17: =IF(Змiст!$K$5>Змiст!$X$21,K17*(1-Змiст!$K$5),K17*(1-Змiст!$X$21)) -> 7.895088 | K17: =VLOOKUP(F17,Price,2,0)*1.2 -> 7.895088 | L17: шт
F18: 911.23.631 | H18: =VLOOKUP(F18,Price,3,FALSE) -> Замок врізний WC 18х196мм сталь хромована полірована 8/8мм | I18: =J18*Змiст!$K$4 -> 219.429 | J18: =IF(Змiст!$K$5>Змiст!$X$21,K18*(1-Змiст!$K$5),K18*(1-Змiст!$X$21)) -> 6.966 | K18: =VLOOKUP(F18,Price,2,0)*1.2 -> 6.966 | L18: шт
F19: 911.38.123 | H19: =VLOOKUP(F19,Price,3,FALSE) -> Відповідна планка сталь колір: стара бронза 82x22/12мм | I19: =J19*Змiст!$K$4 -> 74.621736 | J19: =IF(Змiст!$K$5>Змiст!$X$21,K19*(1-Змiст!$K$5),K19*(1-Змiст!$X$21)) -> 2.368944 | K19: =VLOOKUP(F19,Price,2,0)*1.2 -> 2.368944 | L19: шт
F20: 911.38.128 | H20: =VLOOKUP(F20,Price,3,FALSE) -> Відповідна планка сталь колір: бронза 82x22/12мм | I20: =J20*Змiст!$K$4 -> 16.147404 | J20: =IF(Змiст!$K$5>Змiст!$X$21,K20*(1-Змiст!$K$5),K20*(1-Змiст!$X$21)) -> 0.512616 | K20: =VLOOKUP(F20,Price,2,0)*1.2 -> 0.512616 | L20: шт
F21: 911.38.122 | H21: =VLOOKUP(F21,Price,3,FALSE) -> Відповідна планка сталь хромована матова 82x22/12мм | I21: =J21*Змiст!$K$4 -> 36.73026 | J21: =IF(Змiст!$K$5>Змiст!$X$21,K21*(1-Змiст!$K$5),K21*(1-Змiст!$X$21)) -> 1.16604 | K21: =VLOOKUP(F21,Price,2,0)*1.2 -> 1.16604 | L21: шт
F22: 911.38.120 | H22: =VLOOKUP(F22,Price,3,FALSE) -> Відповідна планка сталь покриття: латунь полірована 82x22/12мм | I22: =J22*Змiст!$K$4 -> 24.600618 | J22: =IF(Змiст!$K$5>Змiст!$X$21,K22*(1-Змiст!$K$5),K22*(1-Змiст!$X$21)) -> 0.780972 | K22: =VLOOKUP(F22,Price,2,0)*1.2 -> 0.780972 | L22: шт
... F56: 911.22.761 | H56: =VLOOKUP(F56,Price,3,FALSE) -> Замок магнітний PC 18х196мм сталь хромована полірована 8мм | I56: =J56*Змiст!$K$4 -> 325.458 | J56: =IF(Змiст!$K$5>Змiст!$X$21,K56*(1-Змiст!$K$5),K56*(1-Змiст!$X$21)) -> 10.332 | K56: =VLOOKUP(F56,Price,2,0)*1.2 -> 10.332 | L56: шт
F57: 911.23.593 | H57: =VLOOKUP(F57,Price,3,FALSE) -> Замок врізний магнітний PC чорний матовий 18x196 мм | I57: =J57*Змiст!$K$4 -> 254.87406 | J57: =IF(Змiст!$K$5>Змiст!$X$21,K57*(1-Змiст!$K$5),K57*(1-Змiст!$X$21)) -> 8.09124 | K57: =VLOOKUP(F57,Price,2,0)*1.2 -> 8.09124
F58: 911.22.752 | H58: =VLOOKUP(F58,Price,3,FALSE) -> Замок магнітний WC 18х196мм сталь хромована матова 8/8мм | I58: =J58*Змiст!$K$4 -> 325.1745 | J58: =IF(Змiст!$K$5>Змiст!$X$21,K58*(1-Змiст!$K$5),K58*(1-Змiст!$X$21)) -> 10.323 | K58: =VLOOKUP(F58,Price,2,0)*1.2 -> 10.323 | L58: шт
F59: 911.22.751 | H59: =VLOOKUP(F59,Price,3,FALSE) -> Замок магнітний WC 18х196мм сталь хромована полірована 8/8мм | I59: =J59*Змiст!$K$4 -> 318.9375 | J59: =IF(Змiст!$K$5>Змiст!$X$21,K59*(1-Змiст!$K$5),K59*(1-Змiст!$X$21)) -> 10.125 | K59: =VLOOKUP(F59,Price,2,0)*1.2 -> 10.125 | L59: шт
F60: 911.38.161 | H60: =VLOOKUP(F60,Price,3,FALSE) -> Відповідна планка до магнітного замка 55.2x15.7мм пластик колір: коричневий | I60: =J60*Змiст!$K$4 -> 86.101974 | J60: =IF(Змiст!$K$5>Змiст!$X$21,K60*(1-Змiст!$K$5),K60*(1-Змiст!$X$21)) -> 2.733396 | K60: =VLOOKUP(F60,Price,2,0)*1.2 -> 2.733396 | L60: шт
F61: 911.38.162 | H61: =VLOOKUP(F61,Price,3,FALSE) -> Відповідна планка до магнітного замка 55.2x15.7мм пластик хромований матовий | I61: =J61*Змiст!$K$4 -> 86.101974 | J61: =IF(Змiст!$K$5>Змiст!$X$21,K61*(1-Змiст!$K$5),K61*(1-Змiст!$X$21)) -> 2.733396 | K61: =VLOOKUP(F61,Price,2,0)*1.2 -> 2.733396 | L61: шт
F62: 911.38.160 | H62: =VLOOKUP(F62,Price,3,FALSE) -> Відповідна планка до магнітного замка 55.2x15.7мм пластик покриття латунь металізована | I62: =J62*Змiст!$K$4 -> 86.101974 | J62: =IF(Змiст!$K$5>Змiст!$X$21,K62*(1-Змiст!$K$5),K62*(1-Змiст!$X$21)) -> 2.733396 | K62: =VLOOKUP(F62,Price,2,0)*1.2 -> 2.733396 | L62: шт
F63: 911.38.165 | H63: =VLOOKUP(F63,Price,3,FALSE) -> Відповідна планка до магнітного замка 55.2x15.7мм пластик колір: сірий | I63: =J63*Змiст!$K$4 -> 86.101974 | J63: =IF(Змiст!$K$5>Змiст!$X$21,K63*(1-Змiст!$K$5),K63*(1-Змiст!$X$21)) -> 2.733396 | K63: =VLOOKUP(F63,Price,2,0)*1.2 -> 2.733396 | L63: шт
F64: 911.38.164 | H64: =VLOOKUP(F64,Price,3,FALSE) -> Відповідна планка до магнітного замка 55.2x15.7мм пластик хромований | I64: =J64*Змiст!$K$4 -> 86.101974 | J64: =IF(Змiст!$K$5>Змiст!$X$21,K64*(1-Змiст!$K$5),K64*(1-Змiст!$X$21)) -> 2.733396 | K64: =VLOOKUP(F64,Price,2,0)*1.2 -> 2.733396 | L64: шт
F65: 911.39.999 | H65: =VLOOKUP(F65,Price,3,FALSE) -> Відповідна планка до магнітного замка 55.2x15.7мм пластик чорний матовий | I65: =J65*Змiст!$K$4 -> 90.689382 | J65: =IF(Змiст!$K$5>Змiст!$X$21,K65*(1-Змiст!$K$5),K65*(1-Змiст!$X$21)) -> 2.879028 | K65: =VLOOKUP(F65,Price,2,0)*1.2 -> 2.879028 | L65: шт
F66: 911.3X.143 | G66: 911.38.143 | H66: =VLOOKUP(F66,Price,3,FALSE) -> Відповідна планка в комплекті колір: антична бронза | I66: =(J66+J67)*Змiст!$K$4 -> 233.22789 | J66: =IF(Змiст!$K$5>Змiст!$X$21,K66*(1-Змiст!$K$5),K66*(1-Змiст!$X$21)) -> 4.609908 | K66: =VLOOKUP(G66,Price,2,0)*1.2 -> 4.609908 | L66: компл
G67: 911.38.153 | H67: =VLOOKUP(F67,Price,3,FALSE) -> #N/A | J67: =IF(Змiст!$K$5>Змiст!$X$21,K67*(1-Змiст!$K$5),K67*(1-Змiст!$X$21)) -> 2.794152 | K67: =VLOOKUP(G67,Price,2,0)*1.2 -> 2.794152
F68: 911.3X.148 | G68: 911.38.148 | H68: =VLOOKUP(F68,Price,3,FALSE) -> Відповідна планка в комплекті колір: бронза | I68: =(J68+J69)*Змiст!$K$4 -> 103.32479 | J68: =IF(Змiст!$K$5>Змiст!$X$21,K68*(1-Змiст!$K$5),K68*(1-Змiст!$X$21)) -> 0.486 | K68: =VLOOKUP(G68,Price,2,0)*1.2 -> 0.486 | L68: компл
G69: 911.38.153 | H69: =VLOOKUP(F69,Price,3,FALSE) -> #N/A | J69: =IF(Змiст!$K$5>Змiст!$X$21,K69*(1-Змiст!$K$5),K69*(1-Змiст!$X$21)) -> 2.794152 | K69: =VLOOKUP(G69,Price,2,0)*1.2 -> 2.794152
F70: 911.3X.142 | G70: 911.38.142 | H70: =VLOOKUP(F70,Price,3,FALSE) -> Відповідна планка в комплекті колір: хром матовий | I70: =(J70+J71)*Змiст!$K$4 -> 199.06009 | J70: =IF(Змiст!$K$5>Змiст!$X$21,K70*(1-Змiст!$K$5),K70*(1-Змiст!$X$21)) -> 3.525216 | K70: =VLOOKUP(G70,Price,2,0)*1.2 -> 3.525216 | L70: компл
G71: 911.38.155 | H71: =VLOOKUP(F71,Price,3,FALSE) -> #N/A | J71: =IF(Змiст!$K$5>Змiст!$X$21,K71*(1-Змiст!$K$5),K71*(1-Змiст!$X$21)) -> 2.794152 | K71: =VLOOKUP(G71,Price,2,0)*1.2 -> 2.794152
F72: 911.3X.140 | G72: 911.38.140 | H72: =VLOOKUP(F72,Price,3,FALSE) -> Відповідна планка в комплекті колір: латунь полірована | I72: =(J72+J73)*Змiст!$K$4 -> 199.06009 | J72: =IF(Змiст!$K$5>Змiст!$X$21,K72*(1-Змiст!$K$5),K72*(1-Змiст!$X$21)) -> 3.525216 | K72: =VLOOKUP(G72,Price,2,0)*1.2 -> 3.525216 | L72: компл
G73: 911.38.151 | H73: =VLOOKUP(F73,Price,3,FALSE) -> #N/A | J73: =IF(Змiст!$K$5>Змiст!$X$21,K73*(1-Змiст!$K$5),K73*(1-Змiст!$X$21)) -> 2.794152 | K73: =VLOOKUP(G73,Price,2,0)*1.2 -> 2.794152
...

Sheet Циліндри
A1: 0 | G1: Ваша знижка на дану групу товарів: | I1: =IF(Змiст!$K$5>Змiст!$AP$21,Змiст!$K$5,Змiст!$AP$21) -> 0
D2: Зображення | E2: Колір | F2: Артикул | G2: Назва | H2: Ціна грн. з ПДВ | I2: Ціна євро з ПДВ | K2: Од. | L2: Примітка
F3: 916.59.007 | G3: Циліндр подвійний латунь нікельована матова 31.5/31.5мм | H3: =I3*Змiст!$K$4 -> 430.63348 | I3: =IF(Змiст!$K$5>Змiст!$AP$21,J3*(1-Змiст!$K$5),J3*(1-Змiст!$AP$21)) -> 13.670904 | J3: =VLOOKUP(F3,Price,2,FALSE)*1.2 -> 13.670904 | K3: комплект
F4: 916.59.008 | G4: Подвійний циліндр латунь нікельована матова 35.5/35.5мм | H4: =I4*Змiст!$K$4 -> 443.19895 | I4: =IF(Змiст!$K$5>Змiст!$AP$21,J4*(1-Змiст!$K$5),J4*(1-Змiст!$AP$21)) -> 14.069808 | J4: =VLOOKUP(F4,Price,2,FALSE)*1.2 -> 14.069808 | K4: комплект
F5: 916.91.000 | G5: Циліндр двосторонній латунь нікельований матовий 30.5/30.5мм різне закриття | H5: =I5*Змiст!$K$4 -> 455.61474 | I5: =IF(Змiст!$K$5>Змiст!$AP$21,J5*(1-Змiст!$K$5),J5*(1-Змiст!$AP$21)) -> 14.46396 | J5: =VLOOKUP(F5,Price,2,FALSE)*1.2 -> 14.46396 | K5: комплект
F6: 916.91.040 | G6: Циліндр двосторонній латунь нікельований матовий 33/33мм різне закриття | H6: =I6*Змiст!$K$4 -> 413.03947 | I6: =IF(Змiст!$K$5>Змiст!$AP$21,J6*(1-Змiст!$K$5),J6*(1-Змiст!$AP$21)) -> 13.112364 | J6: =VLOOKUP(F6,Price,2,FALSE)*1.2 -> 13.112364 | K6: комплект
F7: 916.91.800 | G7: Подвійний циліндр латунь нікельована матова 35,5/35,5 мм | H7: =I7*Змiст!$K$4 -> 424.51706 | I7: =IF(Змiст!$K$5>Змiст!$AP$21,J7*(1-Змiст!$K$5),J7*(1-Змiст!$AP$21)) -> 13.476732 | J7: =VLOOKUP(F7,Price,2,FALSE)*1.2 -> 13.476732 | K7: комплект
F8: 916.91.850 | G8: Подвійний циліндр латунь нікельований матовий 43/43 мм | H8: =I8*Змiст!$K$4 -> 445.8253 | I8: =IF(Змiст!$K$5>Змiст!$AP$21,J8*(1-Змiст!$K$5),J8*(1-Змiст!$AP$21)) -> 14.153184 | J8: =VLOOKUP(F8,Price,2,FALSE)*1.2 -> 14.153184 | K8: комплект
F9: 916.91.020 | G9: Циліндр двосторонній латунь полірована 30.5/30.5мм | H9: =I9*Змiст!$K$4 -> 228.29688 | I9: =IF(Змiст!$K$5>Змiст!$AP$21,J9*(1-Змiст!$K$5),J9*(1-Змiст!$AP$21)) -> 7.24752 | J9: =VLOOKUP(F9,Price,2,FALSE)*1.2 -> 7.24752 | K9: комплект
F10: 916.91.070 | G10: Циліндр двосторонній латунь полірована 33/33мм різне закриття | H10: =I10*Змiст!$K$4 -> 399.54298 | I10: =IF(Змiст!$K$5>Змiст!$AP$21,J10*(1-Змiст!$K$5),J10*(1-Змiст!$AP$21)) -> 12.683904 | J10: =VLOOKUP(F10,Price,2,FALSE)*1.2 -> 12.683904 | K10: комплект
F11: 916.91.830 | G11: Циліндр латунь полірована 35.5/35.5мм | H11: =I11*Змiст!$K$4 -> 410.80171 | I11: =IF(Змiст!$K$5>Змiст!$AP$21,J11*(1-Змiст!$K$5),J11*(1-Змiст!$AP$21)) -> 13.041324 | J11: =VLOOKUP(F11,Price,2,FALSE)*1.2 -> 13.041324 | K11: комплект
F12: 916.91.870 | G12: Подвійний циліндр латунь нікельований полірований 43/43 мм | H12: =I12*Змiст!$K$4 -> 448.88332 | I12: =IF(Змiст!$K$5>Змiст!$AP$21,J12*(1-Змiст!$K$5),J12*(1-Змiст!$AP$21)) -> 14.250264 | J12: =VLOOKUP(F12,Price,2,FALSE)*1.2 -> 14.250264 | K12: комплект
F13: 916.91.100 | G13: Циліндр 30,5/30,5 мм, латунь, нікельов. матов. | H13: =I13*Змiст!$K$4 -> 528.97433 | I13: =IF(Змiст!$K$5>Змiст!$AP$21,J13*(1-Змiст!$K$5),J13*(1-Змiст!$AP$21)) -> 16.792836 | J13: =VLOOKUP(F13,Price,2,FALSE)*1.2 -> 16.792836 | K13: комплект
F14: 916.91.180 | G14: Вставка-циліндр з закруткою 35.5/35.5мм, латунь, нік.мат | H14: =I14*Змiст!$K$4 -> 551.49179 | I14: =IF(Змiст!$K$5>Змiст!$AP$21,J14*(1-Змiст!$K$5),J14*(1-Змiст!$AP$21)) -> 17.507676 | J14: =VLOOKUP(F14,Price,2,FALSE)*1.2 -> 17.507676 | K14: комплект
... F74: 916.22.424 | G74: Циліндр з закруткою латунний нікельований 50/50 мм | H74: =I74*Змiст!$K$4 -> 1660.5404 | I74: =IF(Змiст!$K$5>Змiст!$AP$21,J74*(1-Змiст!$K$5),J74*(1-Змiст!$AP$21)) -> 52.715568 | J74: =VLOOKUP(F74,Price,2,FALSE)*1.2 -> 52.715568 | K74: комплект

Sheet Карточні петлі
F1: Ваша знижка на дану групу товарів: | H1: =IF(Змiст!$K$5>Змiст!$BH$21,Змiст!$K$5,Змiст!$BH$21) -> 0
D2: Зображення | E2: Артикул | F2: Назва | G2: Ціна грн. з ПДВ | H2: Ціна євро з ПДВ | J2: Од. | K2: Примітка
E3: 926.90.213 | F3: =VLOOKUP(E3,Price,3,FALSE) -> Петля карточна нержавіюча сталь матова D14мм 102мм вага дверей: 120кг | G3: =H3*Змiст!$K$4 -> 204.33433 | H3: =IF(Змiст!$K$5>Змiст!$BH$21,I3*(1-Змiст!$K$5),I3*(1-Змiст!$BH$21)) -> 6.486804 | I3: =VLOOKUP(E3,Price,2,FALSE)*1.2 -> 6.486804 | J3: шт
E4: 926.90.290 | F4: =VLOOKUP(E4,Price,3,FALSE) -> Петля карточна нержавіюча сталь, латунь полірована D14 мм 102 мм вага дверей: 120 кг | G4: =H4*Змiст!$K$4 -> 312.94091 | H4: =IF(Змiст!$K$5>Змiст!$BH$21,I4*(1-Змiст!$K$5),I4*(1-Змiст!$BH$21)) -> 9.934632 | I4: =VLOOKUP(E4,Price,2,FALSE)*1.2 -> 9.934632 | J4: шт
E5: 926.98.053 | F5: =VLOOKUP(E5,Price,3,FALSE) -> Петля карточна DHB 3221 нержавіюча сталь колір чорний 102х76х3мм | G5: =H5*Змiст!$K$4 -> 273.19421 | H5: =IF(Змiст!$K$5>Змiст!$BH$21,I5*(1-Змiст!$K$5),I5*(1-Змiст!$BH$21)) -> 8.672832 | I5: =VLOOKUP(E5,Price,2,FALSE)*1.2 -> 8.672832 | J5: шт
E6: 926.33.202 | F6: =VLOOKUP(E6,Price,3,FALSE) -> Петля карточна нержавіюча сталь полірована 102x89мм навантаження: 120кг | G6: =H6*Змiст!$K$4 -> 294.29303 | H6: =IF(Змiст!$K$5>Змiст!$BH$21,I6*(1-Змiст!$K$5),I6*(1-Змiст!$BH$21)) -> 9.342636 | I6: =VLOOKUP(E6,Price,2,FALSE)*1.2 -> 9.342636 | J6: шт
E7: 926.98.040 | F7: =VLOOKUP(E7,Price,3,FALSE) -> Петля карточна DHB 3222 нержавіюча сталь колір сатин 102х76х3мм | G7: =H7*Змiст!$K$4 -> 185.04158 | H7: =IF(Змiст!$K$5>Змiст!$BH$21,I7*(1-Змiст!$K$5),I7*(1-Змiст!$BH$21)) -> 5.874336 | I7: =VLOOKUP(E7,Price,2,FALSE)*1.2 -> 5.874336 | J7: шт
E8: 926.90.280 | F8: =VLOOKUP(E8,Price,3,FALSE) -> Петля карточна нержавіюча сталь покриття: латунь полірована 102x76 мм вага дверей: 120кг | G8: =H8*Змiст!$K$4 -> 337.44514 | H8: =IF(Змiст!$K$5>Змiст!$BH$21,I8*(1-Змiст!$K$5),I8*(1-Змiст!$BH$21)) -> 10.712544 | I8: =VLOOKUP(E8,Price,2,FALSE)*1.2 -> 10.712544 | J8: шт
E9: 926.98.043 | F9: =VLOOKUP(E9,Price,3,FALSE) -> Петля карточна DHB 3222 нержавіюча сталь колір чорний 102х76х3мм | G9: =H9*Змiст!$K$4 -> 271.0895 | H9: =IF(Змiст!$K$5>Змiст!$BH$21,I9*(1-Змiст!$K$5),I9*(1-Змiст!$BH$21)) -> 8.606016 | I9: =VLOOKUP(E9,Price,2,FALSE)*1.2 -> 8.606016 | J9: шт
E10: 926.20.503 | F10: =VLOOKUP(E10,Price,3,FALSE) -> Петля карточна ліва нержавіюча сталь матова D12мм 80мм вага дверей: 40кг | G10: =H10*Змiст!$K$4 -> 132.86549 | H10: =IF(Змiст!$K$5>Змiст!$BH$21,I10*(1-Змiст!$K$5),I10*(1-Змiст!$BH$21)) -> 4.217952 | I10: =VLOOKUP(E10,Price,2,FALSE)*1.2 -> 4.217952 | J10: шт
E11: 926.20.403 | F11: =VLOOKUP(E11,Price,3,FALSE) -> Петля карточна права нержавіюча сталь матова D12мм 80мм вага дверей: 40кг | G11: =H11*Змiст!$K$4 -> 132.86549 | H11: =IF(Змiст!$K$5>Змiст!$BH$21,I11*(1-Змiст!$K$5),I11*(1-Змiст!$BH$21)) -> 4.217952 | I11: =VLOOKUP(E11,Price,2,FALSE)*1.2 -> 4.217952 | J11: шт
E12: 926.20.580 | F12: =VLOOKUP(E12,Price,3,FALSE) -> Петля карточна ліва латунь полірована 80х62мм D циліндр/штир 12/7мм товщина: 2.5мм | G12: =H12*Змiст!$K$4 -> 26.908686 | H12: =IF(Змiст!$K$5>Змiст!$BH$21,I12*(1-Змiст!$K$5),I12*(1-Змiст!$BH$21)) -> 0.854244 | I12: =VLOOKUP(E12,Price,2,FALSE)*1.2 -> 0.854244 | J12: шт
E13: 926.20.480 | F13: =VLOOKUP(E13,Price,3,FALSE) -> Петля карточна права латунь полірована 80х62мм D циліндр/штир 12/7мм товщина: 2.5мм | G13: =H13*Змiст!$K$4 -> 131.96207 | H13: =IF(Змiст!$K$5>Змiст!$BH$21,I13*(1-Змiст!$K$5),I13*(1-Змiст!$BH$21)) -> 4.189272 | I13: =VLOOKUP(E13,Price,2,FALSE)*1.2 -> 4.189272 | J13: шт
E14: 926.20.103 | F14: =VLOOKUP(E14,Price,3,FALSE) -> Петля карточна ліва нержавіюча сталь матова D16мм 100мм вага дверей: 68кг | G14: =H14*Змiст!$K$4 -> 192.89378 | H14: =IF(Змiст!$K$5>Змiст!$BH$21,I14*(1-Змiст!$K$5),I14*(1-Змiст!$BH$21)) -> 6.123612 | I14: =VLOOKUP(E14,Price,2,FALSE)*1.2 -> 6.123612 | J14: шт
... E24: 926.25.880 | F24: =VLOOKUP(E24,Price,3,FALSE) -> Петля карточна латунна полірована D14мм 102мм вага дверей: 58кг | G24: =H24*Змiст!$K$4 -> 413.07197 | H24: =IF(Змiст!$K$5>Змiст!$BH$21,I24*(1-Змiст!$K$5),I24*(1-Змiст!$BH$21)) -> 13.113396 | I24: =VLOOKUP(E24,Price,2,FALSE)*1.2 -> 13.113396 | J24: шт

Sheet Петлі для маятникових дверей
F1: Ваша знижка на дану групу товарів: | H1: =IF(Змiст!$K$5>Змiст!$F$38,Змiст!$K$5,Змiст!$F$38) -> 0
D2: Зображення | E2: Артикул | F2: Назва | G2: Ціна грн. з ПДВ | H2: Ціна євро з ПДВ | J2: Од. | K2: Примітка
E3: 927.01.003 | F3: =VLOOKUP(E3,Price,3,FALSE) -> Петля для двостороннього відкривання нержавіюча сталь матова 75 мм | G3: =H3*Змiст!$K$4 -> 2285.4077 | H3: =IF(Змiст!$K$5>Змiст!$F$38,I3*(1-Змiст!$K$5),I3*(1-Змiст!$F$38)) -> 72.552624 | I3: =VLOOKUP(E3,Price,2,FALSE)*1.2 -> 72.552624 | J3: пар
E4: 927.01.070 | F4: =VLOOKUP(E4,Price,3,FALSE) -> Петля для двостороннього відкривання сталева нікельована 75мм D22мм 180 градусів вага дверей: 15кг | G4: =H4*Змiст!$K$4 -> 810.57073 | H4: =IF(Змiст!$K$5>Змiст!$F$38,I4*(1-Змiст!$K$5),I4*(1-Змiст!$F$38)) -> 25.732404 | I4: =VLOOKUP(E4,Price,2,FALSE)*1.2 -> 25.732404 | J4: пар
E5: 927.01.081 | F5: =VLOOKUP(E5,Price,3,FALSE) -> Петля для двостороннього відкривання сталева колір: полірована латунь 75мм D22мм 180 градусів вага дверей: 15кг | G5: =H5*Змiст!$K$4 -> 864.83754 | H5: =IF(Змiст!$K$5>Змiст!$F$38,I5*(1-Змiст!$K$5),I5*(1-Змiст!$F$38)) -> 27.45516 | I5: =VLOOKUP(E5,Price,2,FALSE)*1.2 -> 27.45516 | J5: пар
E6: 927.01.103 | F6: =VLOOKUP(E6,Price,3,FALSE) -> Петля для двостороннього відкривання нержавіюча сталь матова 100 мм | G6: =H6*Змiст!$K$4 -> 3013.2905 | H6: =IF(Змiст!$K$5>Змiст!$F$38,I6*(1-Змiст!$K$5),I6*(1-Змiст!$F$38)) -> 95.660016 | I6: =VLOOKUP(E6,Price,2,FALSE)*1.2 -> 95.660016 | J6: пар
E7: 927.01.170 | F7: =VLOOKUP(E7,Price,3,FALSE) -> Петля для двостороннього відкривання сталева нікельована 100мм D22мм 180 градусів вага дверей: 22кг | G7: =H7*Змiст!$K$4 -> 956.18162 | H7: =IF(Змiст!$K$5>Змiст!$F$38,I7*(1-Змiст!$K$5),I7*(1-Змiст!$F$38)) -> 30.354972 | I7: =VLOOKUP(E7,Price,2,FALSE)*1.2 -> 30.354972 | J7: пар
E8: 927.01.181 | F8: =VLOOKUP(E8,Price,3,FALSE) -> Петля для двостороннього відкривання сталева колір: полірована латунь 100мм D22мм 180 градусів вага дверей: 22кг | G8: =H8*Змiст!$K$4 -> 1050.6604 | H8: =IF(Змiст!$K$5>Змiст!$F$38,I8*(1-Змiст!$K$5),I8*(1-Змiст!$F$38)) -> 33.3543 | I8: =VLOOKUP(E8,Price,2,FALSE)*1.2 -> 33.3543 | J8: пар
E9: 927.01.203 | F9: =VLOOKUP(E9,Price,3,FALSE) -> Петля для двосторон. дверей нержавіюч сталь колір | G9: =H9*Змiст!$K$4 -> 4123.6462 | H9: =IF(Змiст!$K$5>Змiст!$F$38,I9*(1-Змiст!$K$5),I9*(1-Змiст!$F$38)) -> 130.9094 | I9: =VLOOKUP(E9,Price,2,FALSE)*1.2 -> 130.9094 | J9: пар
E10: 927.01.270 | F10: =VLOOKUP(E10,Price,3,FALSE) -> Петля для двостороннього відкривання сталева нікельована 125мм D22мм 180 градусів вага дверей: 27кг | G10: =H10*Змiст!$K$4 -> 1360.3853 | H10: =IF(Змiст!$K$5>Змiст!$F$38,I10*(1-Змiст!$K$5),I10*(1-Змiст!$F$38)) -> 43.186836 | I10: =VLOOKUP(E10,Price,2,FALSE)*1.2 -> 43.186836 | J10: пар
E11: 927.01.281 | F11: =VLOOKUP(E11,Price,3,FALSE) -> Петля для двостороннього відкривання сталева колір: полірована латунь 125мм D22мм 180 градусів вага дверей: 27кг | G11: =H11*Змiст!$K$4 -> 1481.9154 | H11: =IF(Змiст!$K$5>Змiст!$F$38,I11*(1-Змiст!$K$5),I11*(1-Змiст!$F$38)) -> 47.044932 | I11: =VLOOKUP(E11,Price,2,FALSE)*1.2 -> 47.044932 | J11: пар
E12: 927.01.303 | F12: =VLOOKUP(E12,Price,3,FALSE) -> Петля для двостороннього відкривання дверей нержавіюча сталь матова 150мм | G12: =H12*Змiст!$K$4 -> 6990.732 | H12: =IF(Змiст!$K$5>Змiст!$F$38,I12*(1-Змiст!$K$5),I12*(1-Змiст!$F$38)) -> 221.928 | I12: =VLOOKUP(E12,Price,2,FALSE)*1.2 -> 221.928 | J12: пар
E13: 927.01.370 | F13: =VLOOKUP(E13,Price,3,FALSE) -> Петля для двостороннього відкривання сталева нікельована 150мм D26мм 180 градусів вага дверей: 40кг | G13: =H13*Змiст!$K$4 -> 1801.6674 | H13: =IF(Змiст!$K$5>Змiст!$F$38,I13*(1-Змiст!$K$5),I13*(1-Змiст!$F$38)) -> 57.195792 | I13: =VLOOKUP(E13,Price,2,FALSE)*1.2 -> 57.195792 | J13: пар
E14: 927.01.381 | F14: =VLOOKUP(E14,Price,3,FALSE) -> Петля для двостороннього відкривання сталева колір: полірована латунь 150мм D26мм 180 градусів вага дверей: 40кг | G14: =H14*Змiст!$K$4 -> 1965.6669 | H14: =IF(Змiст!$K$5>Змiст!$F$38,I14*(1-Змiст!$K$5),I14*(1-Змiст!$F$38)) -> 62.402124 | I14: =VLOOKUP(E14,Price,2,FALSE)*1.2 -> 62.402124 | J14: пар
... E34: 926.30.019 | F34: =VLOOKUP(E34,Price,3,FALSE) -> Петля для двостороннього відкривання алюм. колір: срібний 180мм D16мм 180 град. вага дверей: 29кг (2 петлі) - 58кг (3 петлі) | G34: =H34*Змiст!$K$4 -> 4051.291 | H34: =IF(Змiст!$K$5>Змiст!$F$38,I34*(1-Змiст!$K$5),I34*(1-Змiст!$F$38)) -> 128.61241 | I34: =VLOOKUP(E34,Price,2,FALSE)*1.2 -> 128.61241 | J34: пар

Sheet Врізні петлі
G1: Ваша знижка на дану групу товарів: | I1: =IF(Змiст!$K$5>Змiст!$X$38,Змiст!$K$5,Змiст!$X$38) -> 0
D2: Зображення | E2: Колір | F2: Артикул | G2: Назва | H2: Ціна грн. з ПДВ | I2: Ціна євро з ПДВ | K2: Од. | L2: Примітка
F3: 922.24.3X2 | G3: Петля 4-х штирева сталева біла оцинкована D14мм 83мм | H3: =IFERROR(I3*Змiст!$K$4,"") -> 64.490202 | I3: =IFERROR(IF(Змiст!$K$5>Змiст!$X$38,J3*(1-Змiст!$K$5),J3*(1-Змiст!$X$38)),"") -> 2.047308 | J3: =VLOOKUP(F3,Price,2,FALSE)*1.2 -> 2.047308 | K3: шт
F4: 922.24.839 | G4: Петля 4-х штирева сталева жовта оцинкована D14мм 83мм | H4: =IFERROR(I4*Змiст!$K$4,"") -> 64.490202 | I4: =IFERROR(IF(Змiст!$K$5>Змiст!$X$38,J4*(1-Змiст!$K$5),J4*(1-Змiст!$X$38)),"") -> 2.047308 | J4: =VLOOKUP(F4,Price,2,FALSE)*1.2 -> 2.047308 | K4: шт
F5: 922.24.390 | G5: Петля 4-х штирева сталева біла оцинкована D16мм 83мм | H5: =IFERROR(I5*Змiст!$K$4,"") -> 107.69598 | I5: =IFERROR(IF(Змiст!$K$5>Змiст!$X$38,J5*(1-Змiст!$K$5),J5*(1-Змiст!$X$38)),"") -> 3.41892 | J5: =VLOOKUP(F5,Price,2,FALSE)*1.2 -> 3.41892 | K5: шт
F6: 922.24.391 | G6: Петля 4-х штирева сталева жовта оцинкована D16мм 83мм | H6: =IFERROR(I6*Змiст!$K$4,"") -> 107.69598 | I6: =IFERROR(IF(Змiст!$K$5>Змiст!$X$38,J6*(1-Змiст!$K$5),J6*(1-Змiст!$X$38)),"") -> 3.41892 | J6: =VLOOKUP(F6,Price,2,FALSE)*1.2 -> 3.41892 | K6: шт
F7: 922.24.490 | G7: Петля 4-х штирева сталева біла оцинкована D20мм 109,5мм | H7: =IFERROR(I7*Змiст!$K$4,"") -> 166.92858 | I7: =IFERROR(IF(Змiст!$K$5>Змiст!$X$38,J7*(1-Змiст!$K$5),J7*(1-Змiст!$X$38)),"") -> 5.29932 | J7: =VLOOKUP(F7,Price,2,FALSE)*1.2 -> 5.29932 | K7: шт
F8: 922.24.491 | G8: Петля 4-х штирева сталева жовта оцинкована D20мм 109,5мм | H8: =IFERROR(I8*Змiст!$K$4,"") -> 166.92858 | I8: =IFERROR(IF(Змiст!$K$5>Змiст!$X$38,J8*(1-Змiст!$K$5),J8*(1-Змiст!$X$38)),"") -> 5.29932 | J8: =VLOOKUP(F8,Price,2,FALSE)*1.2 -> 5.29932 | K8: шт
F9: 922.24.090 | G9: Петля для прикручув. сталь оцинкована D циліндра 13мм вага дверей: 40кг | H9: =IFERROR(I9*Змiст!$K$4,"") -> 12.613104 | I9: =IFERROR(IF(Змiст!$K$5>Змiст!$X$38,J9*(1-Змiст!$K$5),J9*(1-Змiст!$X$38)),"") -> 0.400416 | J9: =VLOOKUP(F9,Price,2,FALSE)*1.2 -> 0.400416 | K9: шт
F10: 922.24.091 | G10: Петля для прикручув. сталь жовт. хром.D циліндра 13мм вага дверей: 40кг | H10: =IFERROR(I10*Змiст!$K$4,"") -> 12.735576 | I10: =IFERROR(IF(Змiст!$K$5>Змiст!$X$38,J10*(1-Змiст!$K$5),J10*(1-Змiст!$X$38)),"") -> 0.404304 | J10: =VLOOKUP(F10,Price,2,FALSE)*1.2 -> 0.404304 | K10: шт
F11: 922.24.190 | G11: Петля для прикручув 2-х штирева сталь біла оцинкована D16мм 54мм | H11: =IFERROR(I11*Змiст!$K$4,"") -> 3.261384 | I11: =IFERROR(IF(Змiст!$K$5>Змiст!$X$38,J11*(1-Змiст!$K$5),J11*(1-Змiст!$X$38)),"") -> 0.103536 | J11: =VLOOKUP(F11,Price,2,FALSE)*1.2 -> 0.103536 | K11: шт
F12: 922.24.191 | G12: Петля для прикручув 2-х штирева сталь жовта хром. D16мм 54мм | H12: =IFERROR(I12*Змiст!$K$4,"") -> 3.26214 | I12: =IFERROR(IF(Змiст!$K$5>Змiст!$X$38,J12*(1-Змiст!$K$5),J12*(1-Змiст!$X$38)),"") -> 0.10356 | J12: =VLOOKUP(F12,Price,2,FALSE)*1.2 -> 0.10356 | K12: шт
F13: 922.24.290 | G13: Петля для прикручув.3-х штирева сталь біла оцинкована D16мм 46.5мм | H13: =IFERROR(I13*Змiст!$K$4,"") -> 65.282112 | I13: =IFERROR(IF(Змiст!$K$5>Змiст!$X$38,J13*(1-Змiст!$K$5),J13*(1-Змiст!$X$38)),"") -> 2.072448 | J13: =VLOOKUP(F13,Price,2,FALSE)*1.2 -> 2.072448 | K13: шт
F14: 922.24.291 | G14: Петля для прикручув.3-х штирева сталь жовта оцинкована D16мм 46.5мм | H14: =IFERROR(I14*Змiст!$K$4,"") -> 6.219234 | I14: =IFERROR(IF(Змiст!$K$5>Змiст!$X$38,J14*(1-Змiст!$K$5),J14*(1-Змiст!$X$38)),"") -> 0.197436 | J14: =VLOOKUP(F14,Price,2,FALSE)*1.2 -> 0.197436 | K14: шт
F15: 922.11.582 | G15: Петля штирева BAKA 1-15 WF ZK до 60 кг сталь колір золотий | H15: =I15*Змiст!$K$4 -> 1594.0086 | I15: =IF(Змiст!$K$5>Змiст!$X$38,J15*(1-Змiст!$K$5),J15*(1-Змiст!$X$38)) -> 50.603448 | J15: =VLOOKUP(F15,Price,2,FALSE)*1.2 -> 50.603448 | K15: шт
H16: =I16*Змiст!$K$4 -> 0 | I16: =IF(Змiст!$K$5>Змiст!$X$38,J16*(1-Змiст!$K$5),J16*(1-Змiст!$X$38)) -> 0
H17: =I17*Змiст!$K$4 -> 0 | I17: =IF(Змiст!$K$5>Змiст!$X$38,J17*(1-Змiст!$K$5),J17*(1-Змiст!$X$38)) -> 0
F18: 922.12.69X | G18: Петля штирева BAKA 2D 20 ZK до 100 кг сталь колір: золото (5 120517 0 03203) | H18: =I18*Змiст!$K$4 -> 2425.4139 | I18: =IF(Змiст!$K$5>Змiст!$X$38,J18*(1-Змiст!$K$5),J18*(1-Змiст!$X$38)) -> 76.997268 | J18: =VLOOKUP(F18,Price,2,FALSE)*1.2 -> 76.997268 | K18: шт
H19: =I19*Змiст!$K$4 -> 0 | I19: =IF(Змiст!$K$5>Змiст!$X$38,J19*(1-Змiст!$K$5),J19*(1-Змiст!$X$38)) -> 0
H20: =I20*Змiст!$K$4 -> 0 | I20: =IF(Змiст!$K$5>Змiст!$X$38,J20*(1-Змiст!$K$5),J20*(1-Змiст!$X$38)) -> 0
F21: 922.12.103 | G21: Петля штирева BAKA 2D 20 MSTS до 100 кг нержавіюча сталь матова 40мм | H21: =I21*Змiст!$K$4 -> 1585.6238 | I21: =IF(Змiст!$K$5>Змiст!$X$38,J21*(1-Змiст!$K$5),J21*(1-Змiст!$X$38)) -> 50.337264 | J21: =VLOOKUP(F21,Price,2,FALSE)*1.2 -> 50.337264 | K21: шт
F22: 922.12.190 | G22: Петля штирева BAKA 2D 20 MSTS до 100 кг сталь оцинкована 40мм (5 080697 0 11006) | H22: =I22*Змiст!$K$4 -> 739.56645 | I22: =IF(Змiст!$K$5>Змiст!$X$38,J22*(1-Змiст!$K$5),J22*(1-Змiст!$X$38)) -> 23.4783 | J22: =VLOOKUP(F22,Price,2,FALSE)*1.2 -> 23.4783 | K22: шт
F23: 922.12.003 | G23: Петля штирева BAKA 2D 20 до 100 кг нержавіюча сталь матова 40мм | H23: =I23*Змiст!$K$4 -> 1489.3434 | I23: =IF(Змiст!$K$5>Змiст!$X$38,J23*(1-Змiст!$K$5),J23*(1-Змiст!$X$38)) -> 47.280744 | J23: =VLOOKUP(F23,Price,2,FALSE)*1.2 -> 47.280744 | K23: шт
F24: 922.12.090 | G24: Петля штирева BAKA 2D 20 до 100 кг сталь оцинкована 40мм | H24: =I24*Змiст!$K$4 -> 600.00167 | I24: =IF(Змiст!$K$5>Змiст!$X$38,J24*(1-Змiст!$K$5),J24*(1-Змiст!$X$38)) -> 19.047672 | J24: =VLOOKUP(F24,Price,2,FALSE)*1.2 -> 19.047672 | K24: шт
F25: 922.12.X01 | G25: Петля штирева BAKA Protect 2010 2D до 120 кг цинк (5 080812 0 11006) | H25: =I25*Змiст!$K$4 -> 880.38052 | I25: =IF(Змiст!$K$5>Змiст!$X$38,J25*(1-Змiст!$K$5),J25*(1-Змiст!$X$38)) -> 27.948588 | J25: =VLOOKUP(F25,Price,2,FALSE)*1.2 -> 27.948588 | K25: шт
F26: 922.12.X02 | G26: Петля штирева BAKA Protect 2010 2D FD до 120 кг цинк (5 080814 0 11006) | H26: =I26*Змiст!$K$4 -> 880.38052 | I26: =IF(Змiст!$K$5>Змiст!$X$38,J26*(1-Змiст!$K$5),J26*(1-Змiст!$X$38)) -> 27.948588 | J26: =VLOOKUP(F26,Price,2,FALSE)*1.2 -> 27.948588 | K26: шт
F27: 922.12.X03 | G27: Петля штирева BAKA Protect 2020 2D до 120 кг цинк (5 080816 0 11006) | H27: =I27*Змiст!$K$4 -> 880.38052 | I27: =IF(Змiст!$K$5>Змiст!$X$38,J27*(1-Змiст!$K$5),J27*(1-Змiст!$X$38)) -> 27.948588 | J27: =VLOOKUP(F27,Price,2,FALSE)*1.2 -> 27.948588 | K27: шт
F28: 922.12.X04 | G28: Петля штирева BAKA Protect 2030 2D FD до 120 кг цинк (5 080818 0 11006) | H28: =I28*Змiст!$K$4 -> 880.38052 | I28: =IF(Змiст!$K$5>Змiст!$X$38,J28*(1-Змiст!$K$5),J28*(1-Змiст!$X$38)) -> 27.948588 | J28: =VLOOKUP(F28,Price,2,FALSE)*1.2 -> 27.948588 | K28: шт
F29: 922.12.X05 | G29: Петля штирева BAKA Protect 2040 2D FD до 120 кг цинк (5 080830 0 11006) | H29: =I29*Змiст!$K$4 -> 573.65167 | I29: =IF(Змiст!$K$5>Змiст!$X$38,J29*(1-Змiст!$K$5),J29*(1-Змiст!$X$38)) -> 18.211164 | J29: =VLOOKUP(F29,Price,2,FALSE)*1.2 -> 18.211164 | K29: шт
F30: 922.13.839 | G30: Петля BAKA PROTECT 4010 3D FD під ущільнювач, без запобіжника сталь оцинкована, в комплекті три шуки | H30: =I30*Змiст!$K$4 -> 4124.8105 | I30: =IF(Змiст!$K$5>Змiст!$X$38,J30*(1-Змiст!$K$5),J30*(1-Змiст!$X$38)) -> 130.94636 | J30: =VLOOKUP(F30,Price,2,FALSE)*1.2 -> 130.94636 | K30: компл
F31: 922.13.830 | G31: Петля BAKA PROTECT 4010 3D FD під ущільнювач, без запобіжника сталь нержавіюча, в комплекті три шуки | H31: =I31*Змiст!$K$4 -> 7663.4745 | I31: =IF(Змiст!$K$5>Змiст!$X$38,J31*(1-Змiст!$K$5),J31*(1-Змiст!$X$38)) -> 243.2849 | J31: =VLOOKUP(F31,Price,2,FALSE)*1.2 -> 243.2849 | K31: компл
F32: 922.13.837 | G32: Петля BAKA PROTECT 4010 3D FD під ущільнювач, без запобіжника сталь колір білий, в комплекті три шуки | H32: =I32*Змiст!$K$4 -> 4673.9133 | I32: =IF(Змiст!$K$5>Змiст!$X$38,J32*(1-Змiст!$K$5),J32*(1-Змiст!$X$38)) -> 148.3782 | J32: =VLOOKUP(F32,Price,2,FALSE)*1.2 -> 148.3782 | K32: компл
... F39: 922.12.X06 | G39: Петля штирева BAKA Protect 4060 3D FD до 160 кг цинк, в комплекті три шуки (5 080856 0 07 185) | H39: =I39*Змiст!$K$4 -> 4801.1655 | I39: =IF(Змiст!$K$5>Змiст!$X$38,J39*(1-Змiст!$K$5),J39*(1-Змiст!$X$38)) -> 152.41795 | J39: =VLOOKUP(F39,Price,2,FALSE)*1.2 -> 152.41795 | K39: компл
H40: =I40*Змiст!$K$4 -> #N/A | I40: =IF(Змiст!$K$5>Змiст!$X$38,J40*(1-Змiст!$K$5),J40*(1-Змiст!$X$38)) -> #N/A | J40: =VLOOKUP(F40,Price,2,FALSE)*1.2 -> #N/A
F41: 922.12.X07 | G41: Петля штирева BAKA Protect 4060 3D FD до 160 кг коричневий, в комплекті три шуки (5 080856 0 11085) | H41: =I41*Змiст!$K$4 -> 5618.9012 | I41: =IF(Змiст!$K$5>Змiст!$X$38,J41*(1-Змiст!$K$5),J41*(1-Змiст!$X$38)) -> 178.37782 | J41: =VLOOKUP(F41,Price,2,FALSE)*1.2 -> 178.37782 | K41: компл
H42: =I42*Змiст!$K$4 -> #N/A | I42: =IF(Змiст!$K$5>Змiст!$X$38,J42*(1-Змiст!$K$5),J42*(1-Змiст!$X$38)) -> #N/A | J42: =VLOOKUP(F42,Price,2,FALSE)*1.2 -> #N/A
F43: 922.15.754 | G43: Ковпачок декоративний №12 до ВАКА 4000 3D пластик нікельований матовий F2 D20мм (5 100680 0 01885) | H43: =IFERROR(I43*Змiст!$K$4,"") -> 384.17992 | I43: =IFERROR(IF(Змiст!$K$5>Змiст!$X$38,J43*(1-Змiст!$K$5),J43*(1-Змiст!$X$38)),"") -> 12.196188 | J43: =VLOOKUP(F43,Price,2,FALSE)*1.2 -> 12.196188 | K43: шт
F44: ххх.хх.ххх | G44: Ковпачок декоративний №12 до ВАКА 4000 3D хромований матовий F1 D20мм (5 100680 0 03785) | H44: =IFERROR(I44*Змiст!$K$4,"") | I44: =IFERROR(IF(Змiст!$K$5>Змiст!$X$38,J44*(1-Змiст!$K$5),J44*(1-Змiст!$X$38)),"") | J44: =VLOOKUP(F44,Price,2,FALSE)*1.2 -> #N/A | K44: шт
F45: 922.15.757 | G45: Ковпачок декоративний №12 до ВАКА 4000 3D пластик колір: білий D20мм (5 100680 0 07085) | H45: =IFERROR(I45*Змiст!$K$4,"") | I45: =IFERROR(IF(Змiст!$K$5>Змiст!$X$38,J45*(1-Змiст!$K$5),J45*(1-Змiст!$X$38)),"") | J45: =VLOOKUP(F45,Price,2,FALSE)*1.2 -> #N/A | K45: шт
F46: 922.15.751 | G46: Ковпачок декоративний №12 до ВАКА 4000 3D пластик колір: коричневий D20мм (5 100680 0 07185) | H46: =IFERROR(I46*Змiст!$K$4,"") -> 304.32742 | I46: =IFERROR(IF(Змiст!$K$5>Змiст!$X$38,J46*(1-Змiст!$K$5),J46*(1-Змiст!$X$38)),"") -> 9.661188 | J46: =VLOOKUP(F46,Price,2,FALSE)*1.2 -> 9.661188 | K46: шт
...

Sheet Приховані петлі
G1: Ваша знижка на дану групу товарів: | I1: =IF(Змiст!$K$5>Змiст!$AP$38,Змiст!$K$5,Змiст!$AP$38) -> 0
D2: Зображення | E2: Колір | F2: Артикул | G2: Назва | H2: Ціна грн. з ПДВ | I2: Ціна євро з ПДВ | K2: Од. | L2: Примітка
F3: 927.91.664 | G3: Петля прихована "Ä" K1000 3D колір: F1 хромована матова 180° вага дверей: 40/52кг (на дві/три завіси) | H3: =I3*Змiст!$K$4 -> 445.65898 | I3: =IF(Змiст!$K$5>Змiст!$AP$38,J3*(1-Змiст!$K$5),J3*(1-Змiст!$AP$38)) -> 14.147904 | J3: =VLOOKUP(F3,Price,2,FALSE)*1.2 -> 14.147904 | K3: шт | L3: Верхний 40 мм Нижний 24 мм
I4: =IF(Змiст!$K$5>Змiст!$X$38,J4*(1-Змiст!$K$5),J4*(1-Змiст!$X$38)) -> 0
F5: 927.91.666 | G5: Петля прихована "Ä" K1000 3D колір: F2 нікельована матова 180° вага дверей: 40/52кг (на дві/три завіси) | H5: =I5*Змiст!$K$4 -> 445.662 | I5: =IF(Змiст!$K$5>Змiст!$AP$38,J5*(1-Змiст!$K$5),J5*(1-Змiст!$AP$38)) -> 14.148 | J5: =VLOOKUP(F5,Price,2,FALSE)*1.2 -> 14.148 | K5: шт
I6: =IF(Змiст!$K$5>Змiст!$X$38,J6*(1-Змiст!$K$5),J6*(1-Змiст!$X$38)) -> 0
F7: 927.91.667 | G7: Петля прихована "Ä" K1000 3D колір: біла матова 180° вага дверей: 40/52кг (на дві/три завіси) | H7: =I7*Змiст!$K$4 -> 456.624 | I7: =IF(Змiст!$K$5>Змiст!$AP$38,J7*(1-Змiст!$K$5),J7*(1-Змiст!$AP$38)) -> 14.496 | J7: =VLOOKUP(F7,Price,2,FALSE)*1.2 -> 14.496 | K7: шт
F9: 927.91.663 | G9: Петля прихована "Ä" K1000 3D колір: чорний 180° вага дверей: 40/52кг (на дві/три завіси) | H9: =I9*Змiст!$K$4 -> 456.624 | I9: =IF(Змiст!$K$5>Змiст!$AP$38,J9*(1-Змiст!$K$5),J9*(1-Змiст!$AP$38)) -> 14.496 | J9: =VLOOKUP(F9,Price,2,FALSE)*1.2 -> 14.496 | K9: шт
F11: 927.91.074 | G11: Петля прихована K8060 колір: F1 хром матовий180° вага дверей: 60кг (на дві петлі) | H11: =I11*Змiст!$K$4 -> 619.41424 | I11: =IF(Змiст!$K$5>Змiст!$AP$38,J11*(1-Змiст!$K$5),J11*(1-Змiст!$AP$38)) -> 19.663944 | J11: =VLOOKUP(F11,Price,2,FALSE)*1.2 -> 19.663944 | K11: шт
F12: 927.91.073 | G12: Петля прихована K8060 колір: чорний 180° вага дверей: 60кг (на дві петлі) | H12: =I12*Змiст!$K$4 -> 704.26541 | I12: =IF(Змiст!$K$5>Змiст!$AP$38,J12*(1-Змiст!$K$5),J12*(1-Змiст!$AP$38)) -> 22.357632 | J12: =VLOOKUP(F12,Price,2,FALSE)*1.2 -> 22.357632 | K12: шт
F13: 927.91.076 | G13: Петля прихована K8060 колір: F2 нікельована матова 180° вага дверей: 60кг (на дві петлі) | H13: =I13*Змiст!$K$4 -> 619.41424 | I13: =IF(Змiст!$K$5>Змiст!$AP$38,J13*(1-Змiст!$K$5),J13*(1-Змiст!$AP$38)) -> 19.663944 | J13: =VLOOKUP(F13,Price,2,FALSE)*1.2 -> 19.663944 | K13: шт
F14: 927.91.321 | G14: Петля прихована К8000 3D колір: F1 хромована матова 180° вага дверей: 60кг (на дві завіси) | H14: =I14*Змiст!$K$4 -> 536.44513 | I14: =IF(Змiст!$K$5>Змiст!$AP$38,J14*(1-Змiст!$K$5),J14*(1-Змiст!$AP$38)) -> 17.030004 | J14: =VLOOKUP(F14,Price,2,FALSE)*1.2 -> 17.030004 | K14: шт | L14: Верхний 39 мм (А=4) Нижний 26 мм (А=4)
I15: =IF(Змiст!$K$5>Змiст!$X$38,J15*(1-Змiст!$K$5),J15*(1-Змiст!$X$38)) -> #N/A | J15: =VLOOKUP(F15,Price,2,FALSE)*1.2 -> #N/A
F16: 927.91.326 | G16: Петля прихована К8000 3D колір: F2 нікельована матова 180° вага дверей: 60кг (на дві завіси) | H16: =I16*Змiст!$K$4 -> 536.44513 | I16: =IF(Змiст!$K$5>Змiст!$AP$38,J16*(1-Змiст!$K$5),J16*(1-Змiст!$AP$38)) -> 17.030004 | J16: =VLOOKUP(F14,Price,2,FALSE)*1.2 -> 17.030004 | K16: шт
I17: =IF(Змiст!$K$5>Змiст!$X$38,J17*(1-Змiст!$K$5),J17*(1-Змiст!$X$38)) -> #N/A | J17: =VLOOKUP(F17,Price,2,FALSE)*1.2 -> #N/A
F18: 927.91.328 | G18: Петля прихована К8000 3D колір: золото поліроване 180° вага дверей: 60кг (на дві завіси) | H18: =I18*Змiст!$K$4 -> 668.115 | I18: =IF(Змiст!$K$5>Змiст!$AP$38,J18*(1-Змiст!$K$5),J18*(1-Змiст!$AP$38)) -> 21.21 | J18: =VLOOKUP(F18,Price,2,FALSE)*1.2 -> 21.21 | K18: шт
I19: =IF(Змiст!$K$5>Змiст!$X$38,J19*(1-Змiст!$K$5),J19*(1-Змiст!$X$38)) -> #N/A | J19: =VLOOKUP(F19,Price,2,FALSE)*1.2 -> #N/A
F20: 927.91.614 | G20: Петля прихована K2000 колір: F1 хромована матова 180° вага дверей: 60кг | H20: =I20*Змiст!$K$4 -> 3298.9058 | I20: =IF(Змiст!$K$5>Змiст!$AP$38,J20*(1-Змiст!$K$5),J20*(1-Змiст!$AP$38)) -> 104.72717 | J20: =VLOOKUP(F20,Price,2,FALSE)*1.2 -> 104.72717 | K20: шт
I21: =IF(Змiст!$K$5>Змiст!$X$38,J21*(1-Змiст!$K$5),J21*(1-Змiст!$X$38)) -> #N/A | J21: =VLOOKUP(F21,Price,2,FALSE)*1.2 -> #N/A
F22: 927.91.616 | G22: Петля прихована K2000 колір:F2 нікельована матова 180° вага дверей: 60кг | H22: =I22*Змiст!$K$4 -> 3298.9058 | I22: =IF(Змiст!$K$5>Змiст!$AP$38,J22*(1-Змiст!$K$5),J22*(1-Змiст!$AP$38)) -> 104.72717 | J22: =VLOOKUP(F22,Price,2,FALSE)*1.2 -> 104.72717 | K22: шт
I23: =IF(Змiст!$K$5>Змiст!$X$38,J23*(1-Змiст!$K$5),J23*(1-Змiст!$X$38)) -> #N/A | J23: =VLOOKUP(F23,Price,2,FALSE)*1.2 -> #N/A
F24: 927.91.024 | G24: Петля прихована K2400 колір: F1 хромована матова 180° вага дверей: 52кг | H24: =I24*Змiст!$K$4 -> 1512.0495 | I24: =IF(Змiст!$K$5>Змiст!$AP$38,J24*(1-Змiст!$K$5),J24*(1-Змiст!$AP$38)) -> 48.001572 | J24: =VLOOKUP(F24,Price,2,FALSE)*1.2 -> 48.001572 | K24: шт
I25: =IF(Змiст!$K$5>Змiст!$X$38,J25*(1-Змiст!$K$5),J25*(1-Змiст!$X$38)) -> #N/A | J25: =VLOOKUP(F25,Price,2,FALSE)*1.2 -> #N/A
F26: 927.91.026 | G26: Петля прихована K2400 колір:F2 нікельована матова 180° вага дверей: 52кг | H26: =I26*Змiст!$K$4 -> 1624.0532 | I26: =IF(Змiст!$K$5>Змiст!$AP$38,J26*(1-Змiст!$K$5),J26*(1-Змiст!$AP$38)) -> 51.557244 | J26: =VLOOKUP(F26,Price,2,FALSE)*1.2 -> 51.557244 | K26: шт
I27: =IF(Змiст!$K$5>Змiст!$X$38,J27*(1-Змiст!$K$5),J27*(1-Змiст!$X$38)) -> #N/A | J27: =VLOOKUP(F27,Price,2,FALSE)*1.2 -> #N/A
F28: 927.91.654 | G28: Петля прихована К2700 3D колір: F1 хромована матова 180° вага дверей: 60кг | H28: =I28*Змiст!$K$4 -> 1100.3429 | I28: =IF(Змiст!$K$5>Змiст!$AP$38,J28*(1-Змiст!$K$5),J28*(1-Змiст!$AP$38)) -> 34.93152 | J28: =VLOOKUP(F28,Price,2,FALSE)*1.2 -> 34.93152 | K28: шт
I29: =IF(Змiст!$K$5>Змiст!$X$38,J29*(1-Змiст!$K$5),J29*(1-Змiст!$X$38)) -> 0
F30: 927.91.5XX | G30: Петля прихована К2700 3D колір: золото поліроване 180° вага дверей: 60кг | H30: =I30*Змiст!$K$4 -> 1287.4483 | I30: =IF(Змiст!$K$5>Змiст!$AP$38,J30*(1-Змiст!$K$5),J30*(1-Змiст!$AP$38)) -> 40.871376 | J30: =VLOOKUP(F30,Price,2,FALSE)*1.2 -> 40.871376 | K30: шт
I31: =IF(Змiст!$K$5>Змiст!$X$38,J31*(1-Змiст!$K$5),J31*(1-Змiст!$X$38)) -> 0
F32: 927.91.036 | G32: Петля приховна K3000 3D колір: F2 нікельована матова 180° вага дверей: 45/60 кг | H32: =I32*Змiст!$K$4 -> 1767.9196 | I32: =IF(Змiст!$K$5>Змiст!$AP$38,J32*(1-Змiст!$K$5),J32*(1-Змiст!$AP$38)) -> 56.124432 | J32: =VLOOKUP(F32,Price,2,FALSE)*1.2 -> 56.124432 | K32: шт
I33: =IF(Змiст!$K$5>Змiст!$X$38,J33*(1-Змiст!$K$5),J33*(1-Змiст!$X$38)) -> 0
H34: =I34*Змiст!$K$4 -> #N/A | I34: =IF(Змiст!$K$5>Змiст!$AP$38,J34*(1-Змiст!$K$5),J34*(1-Змiст!$AP$38)) -> #N/A | J34: =VLOOKUP(F34,Price,2,FALSE)*1.2 -> #N/A
I35: =IF(Змiст!$K$5>Змiст!$X$38,J35*(1-Змiст!$K$5),J35*(1-Змiст!$X$38)) -> 0
F36: 927.91.044 | G36: Петля прихована К5080 колір: F1 хромована матова 180° вага дверей: 80кг (на дві завіси) | H36: =I36*Змiст!$K$4 -> 1264.667 | I36: =IF(Змiст!$K$5>Змiст!$AP$38,J36*(1-Змiст!$K$5),J36*(1-Змiст!$AP$38)) -> 40.14816 | J36: =VLOOKUP(F36,Price,2,FALSE)*1.2 -> 40.14816 | K36: шт
I37: =IF(Змiст!$K$5>Змiст!$X$38,J37*(1-Змiст!$K$5),J37*(1-Змiст!$X$38)) -> #N/A | J37: =VLOOKUP(F37,Price,2,FALSE)*1.2 -> #N/A
F38: 927.91.046 | G38: Петля прихована К5080 колір:F2 нікельована матова 180° вага дверей: 80кг (на дві завіси) | H38: =I38*Змiст!$K$4 -> 1274.6523 | I38: =IF(Змiст!$K$5>Змiст!$AP$38,J38*(1-Змiст!$K$5),J38*(1-Змiст!$AP$38)) -> 40.465152 | J38: =VLOOKUP(F38,Price,2,FALSE)*1.2 -> 40.465152 | K38: шт
I39: =IF(Змiст!$K$5>Змiст!$X$38,J39*(1-Змiст!$K$5),J39*(1-Змiст!$X$38)) -> #N/A | J39: =VLOOKUP(F39,Price,2,FALSE)*1.2 -> #N/A
F40: 927.91.544 | G40: Петля прихована К6200 3D колір: F1 хромована матова 180° вага дверей: 60кг (на три завіси) | H40: =I40*Змiст!$K$4 -> 815.724 | I40: =IF(Змiст!$K$5>Змiст!$AP$38,J40*(1-Змiст!$K$5),J40*(1-Змiст!$AP$38)) -> 25.896 | J40: =VLOOKUP(F40,Price,2,FALSE)*1.2 -> 25.896 | K40: шт
F41: 927.91.546 | G41: Петля прихована К6200 3D колір: F2 нікельована матова 180° вага дверей: 60кг (на три завіси) | H41: =I41*Змiст!$K$4 -> 855.036 | I41: =IF(Змiст!$K$5>Змiст!$AP$38,J41*(1-Змiст!$K$5),J41*(1-Змiст!$AP$38)) -> 27.144 | J41: =VLOOKUP(F41,Price,2,FALSE)*1.2 -> 27.144 | K41: шт
F42: 927.91.548 | G42: Петля прихована К6200 3D цамак колір: золото поліроване 180° вага дверей: 60кг (на три завіси) | H42: =I42*Змiст!$K$4 -> 995.274 | I42: =IF(Змiст!$K$5>Змiст!$AP$38,J42*(1-Змiст!$K$5),J42*(1-Змiст!$AP$38)) -> 31.596 | J42: =VLOOKUP(F42,Price,2,FALSE)*1.2 -> 31.596 | K42: шт
...

Sheet Дверні доводчики
F1: Ваша знижка на дану групу товарів: | H1: =IF(Змiст!$K$5>Змiст!$BH$38,Змiст!$K$5,Змiст!$BH$38) -> 0
D2: Зображення | E2: Артикул | F2: Назва | G2: Ціна грн. з ПДВ | H2: Ціна євро з ПДВ | J2: Од. | K2: Примітка
E3: 931.84.649 | F3: Доводчик DCL 11 EN (3) без фіксації колір: срібний, ширина дверного полотна <950мм, вага: <60кг | G3: =H3*Змiст!$K$4 -> 1165.1665 | H3: =IF(Змiст!$K$5>Змiст!$BH$38,I3*(1-Змiст!$K$5),I3*(1-Змiст!$BH$38)) -> 36.989412 | I3: =VLOOKUP(E3,Price,2,FALSE)*1.2 -> 36.989412 | J3: комплект
E4: 931.84.659 | F4: Доводчик DCL 12 з фіксацією колір: срібний. Ширина дверного полотна <950 мм, вага двері <60 кг | G4: =H4*Змiст!$K$4 -> 1647.5965 | H4: =IF(Змiст!$K$5>Змiст!$BH$38,I4*(1-Змiст!$K$5),I4*(1-Змiст!$BH$38)) -> 52.304652 | I4: =VLOOKUP(E4,Price,2,FALSE)*1.2 -> 52.304652 | J4: комплект
E5: 931.84.229 | F5: Доводчик DCL 110 ,без фіксації колір: срібний. Ширина дверного полотна <950 мм, вага двері <60 кг | G5: =H5*Змiст!$K$4 -> 1238.4149 | H5: =IF(Змiст!$K$5>Змiст!$BH$38,I5*(1-Змiст!$K$5),I5*(1-Змiст!$BH$38)) -> 39.31476 | I5: =VLOOKUP(E5,Price,2,FALSE)*1.2 -> 39.31476 | J5: комплект
E6: 931.84.239 | F6: Доводчик DCL 110 з фіксацією колір: срібний. Ширина дверного полотна <950 мм, вага двері <60 кг | G6: =H6*Змiст!$K$4 -> 1698.2931 | H6: =IF(Змiст!$K$5>Змiст!$BH$38,I6*(1-Змiст!$K$5),I6*(1-Змiст!$BH$38)) -> 53.914068 | I6: =VLOOKUP(E6,Price,2,FALSE)*1.2 -> 53.914068 | J6: комплект
E7: 931.84.629 | F7: Доводчик DCL 16 без фіксації колір: срібний. Ширина дверного полотна <1100 мм, вага двері <60 кг | G7: =H7*Змiст!$K$4 -> 1915.5596 | H7: =IF(Змiст!$K$5>Змiст!$BH$38,I7*(1-Змiст!$K$5),I7*(1-Змiст!$BH$38)) -> 60.811416 | I7: =VLOOKUP(E7,Price,2,FALSE)*1.2 -> 60.811416 | J7: комплект
E8: 931.84.639 | F8: Доводчик DCL 16 з фіксацією колір: срібний. Ширина дверного полотна <1100 мм, вага двері <60 кг | G8: =H8*Змiст!$K$4 -> 2371.8241 | H8: =IF(Змiст!$K$5>Змiст!$BH$38,I8*(1-Змiст!$K$5),I8*(1-Змiст!$BH$38)) -> 75.296004 | I8: =VLOOKUP(E8,Price,2,FALSE)*1.2 -> 75.296004 | J8: комплект
E9: 931.84.829 | F9: Доводчик DCL 51 EN (2-5) без фіксації колір: срібний. Ширина дверного полотна <1250 мм, вага двері <100 кг | G9: =H9*Змiст!$K$4 -> 3224.3181 | H9: =IF(Змiст!$K$5>Змiст!$BH$38,I9*(1-Змiст!$K$5),I9*(1-Змiст!$BH$38)) -> 102.3593 | I9: =VLOOKUP(E9,Price,2,FALSE)*1.2 -> 102.3593 | J9: комплект
E10: 931.84.669 | F10: Доводчик DCL 51 EN (2-5) з фіксацією колір: срібний. Ширина дверного полотна <1250 мм, вага двері <100 кг | G10: =H10*Змiст!$K$4 -> 3298.4223 | H10: =IF(Змiст!$K$5>Змiст!$BH$38,I10*(1-Змiст!$K$5),I10*(1-Змiст!$BH$38)) -> 104.71182 | I10: =VLOOKUP(E10,Price,2,FALSE)*1.2 -> 104.71182 | J10: комплект
E11: 931.84.769 | F11: Доводчик дверний DCL 55 EN (2-6) без фіксації колір: сріблястий. Ширина дверного полотна <1400 мм, вага двері <150 кг | G11: =H11*Змiст!$K$4 -> 5331.45 | H11: =IF(Змiст!$K$5>Змiст!$BH$38,I11*(1-Змiст!$K$5),I11*(1-Змiст!$BH$38)) -> 169.25238 | I11: =VLOOKUP(E11,Price,2,FALSE)*1.2 -> 169.25238 | J11: комплект
E12: 931.84.819 | F12: Доводчик дверний DCL 55 EN (2-6) з фіксації колір: сріблястий. Ширина дверного полотна <1400 мм, вага двері <150 кг | G12: =H12*Змiст!$K$4 -> 5881.5783 | H12: =IF(Змiст!$K$5>Змiст!$BH$38,I12*(1-Змiст!$K$5),I12*(1-Змiст!$BH$38)) -> 186.71677 | I12: =VLOOKUP(E12,Price,2,FALSE)*1.2 -> 186.71677 | J12: комплект
E13: 931.84.139 | F13: Доводчик DCL 61 EN (2-4) без фіксації колір: срібний. Ширина дверного полотна <1100 мм, вага двері <80 кг | G13: =H13*Змiст!$K$4 -> 3447.2908 | H13: =IF(Змiст!$K$5>Змiст!$BH$38,I13*(1-Змiст!$K$5),I13*(1-Змiст!$BH$38)) -> 109.4378 | I13: =VLOOKUP(E13,Price,2,FALSE)*1.2 -> 109.4378 | J13: комплект
E14: 931.84.119 | F14: Доводчик DCL 61 EN (2-4) з фіксації колір: срібний. Ширина дверного полотна <1100 мм, вага двері <80 кг | G14: =H14*Змiст!$K$4 -> 3555.9205 | H14: =IF(Змiст!$K$5>Змiст!$BH$38,I14*(1-Змiст!$K$5),I14*(1-Змiст!$BH$38)) -> 112.88636 | I14: =VLOOKUP(E14,Price,2,FALSE)*1.2 -> 112.88636 | J14: комплект
... E28: 931.90.428 | F28: Доводчик для фальцованих дверей колір: латунь 2 ланцюги | G28: =H28*Змiст!$K$4 -> 12221.998 | H28: =IF(Змiст!$K$5>Змiст!$BH$38,I28*(1-Змiст!$K$5),I28*(1-Змiст!$BH$38)) -> 387.99992 | I28: =VLOOKUP(E28,Price,2,FALSE)*1.2 -> 387.99992 | J28: комплект

Sheet Ущільнювачі і пороги
F1: Ваша знижка на дану групу товарів: | H1: =IF(Змiст!$K$5>Змiст!$F$55,Змiст!$K$5,Змiст!$F$55) -> 0
D2: Зображення | E2: Артикул | F2: Назва | G2: Ціна грн. з ПДВ | H2: Ціна євро з ПДВ | J2: Од. | K2: Примітка
E3: 950.09.552 | F3: Ущільнювач для міжкімнатних дверей TPE (S 6577a) темно-коричневий (25 м) | G3: =IFERROR((H3)*Змiст!$K$4/25,"") -> 31.884905 | H3: =IFERROR(IF(Змiст!$K$5>Змiст!$F$55,I3*(1-Змiст!$K$5),I3*(1-Змiст!$F$55)),"") -> 25.30548 | I3: =VLOOKUP(E3,Price,2,FALSE)*1.2 -> 25.30548 | J3: 25 м | K3: Мінімальне замовлення 25 м
E4: 950.09.X01 | F4: Ущільнювач Deventer M 3967 для міжкімнатних дверей PVC прозорий (50м) | G4: =IFERROR((H4)*Змiст!$K$4/25,"") -> 0.65077992 | H4: =IFERROR(IF(Змiст!$K$5>Змiст!$F$55,I4*(1-Змiст!$K$5),I4*(1-Змiст!$F$55)),"") -> 0.516492 | I4: =VLOOKUP(E4,Price,2,FALSE)*1.2 -> 0.516492 | J4: м | K4: Мінімальне замовлення 50 м
E5: 950.09.X02 | F5: Ущільнювач Deventer M 3967 для міжкімнатних дверей PVC бежевий (50м) | G5: =IFERROR((H5)*Змiст!$K$4/25,"") -> 0.65077992 | H5: =IFERROR(IF(Змiст!$K$5>Змiст!$F$55,I5*(1-Змiст!$K$5),I5*(1-Змiст!$F$55)),"") -> 0.516492 | I5: =VLOOKUP(E5,Price,2,FALSE)*1.2 -> 0.516492 | J5: м | K5: Мінімальне замовлення 50 м
E6: 950.09.X03 | F6: Ущільнювач Deventer M 3967 для міжкімнатних дверей PVC, колір: білий (50м) | G6: =IFERROR((H6)*Змiст!$K$4/25,"") -> 0.65077992 | H6: =IFERROR(IF(Змiст!$K$5>Змiст!$F$55,I6*(1-Змiст!$K$5),I6*(1-Змiст!$F$55)),"") -> 0.516492 | I6: =VLOOKUP(E6,Price,2,FALSE)*1.2 -> 0.516492 | J6: м | K6: Мінімальне замовлення 50 м
E7: 950.09.X04 | F7: Ущільнювач Deventer M 3967 для міжкімнатних дверей PVC, колір: коричневий (50м) | G7: =IFERROR((H7)*Змiст!$K$4/25,"") -> 0.65077992 | H7: =IFERROR(IF(Змiст!$K$5>Змiст!$F$55,I7*(1-Змiст!$K$5),I7*(1-Змiст!$F$55)),"") -> 0.516492 | I7: =VLOOKUP(E7,Price,2,FALSE)*1.2 -> 0.516492 | J7: м | K7: Мінімальне замовлення 50 м
F8: Ущільнювач Deventer M 3967 для міжкімнатних дверей PVC, колір: темно-коричн.(50м) | G8: =IFERROR((H8)*Змiст!$K$4/25,"") | H8: =IFERROR(IF(Змiст!$K$5>Змiст!$F$55,I8*(1-Змiст!$K$5),I8*(1-Змiст!$F$55)),"") | I8: =VLOOKUP(E8,Price,2,FALSE)*1.2 -> #N/A | J8: м | K8: Мінімальне замовлення 50 м
F9: Ущільнювач Deventer M 3967 для міжкімнатних дверей PVC, колір: чорний (50м) | G9: =IFERROR((H9)*Змiст!$K$4/25,"") | H9: =IFERROR(IF(Змiст!$K$5>Змiст!$F$55,I9*(1-Змiст!$K$5),I9*(1-Змiст!$F$55)),"") | I9: =VLOOKUP(E9,Price,2,FALSE)*1.2 -> #N/A | J9: м | K9: Мінімальне замовлення 50 м
E10: 950.10.X05 | F10: Ущільнювач Deventer M 7292 для міжкімнатних дверей PVC, колір: бежевий (50м) | G10: =IFERROR((H10)*Змiст!$K$4/25,"") -> 0.62754048 | H10: =IFERROR(IF(Змiст!$K$5>Змiст!$F$55,I10*(1-Змiст!$K$5),I10*(1-Змiст!$F$55)),"") -> 0.498048 | I10: =VLOOKUP(E10,Price,2,FALSE)*1.2 -> 0.498048 | J10: м | K10: Мінімальне замовлення 50 м
E11: 950.10.1XX | F11: Ущільнювач Deventer M 7292 для міжкімн.дверей PVC, колір: прозор.(50м) | G11: =IFERROR((H11)*Змiст!$K$4/25,"") -> 0.62754048 | H11: =IFERROR(IF(Змiст!$K$5>Змiст!$F$55,I11*(1-Змiст!$K$5),I11*(1-Змiст!$F$55)),"") -> 0.498048 | I11: =VLOOKUP(E11,Price,2,FALSE)*1.2 -> 0.498048 | J11: м | K11: Мінімальне замовлення 50 м
E12: 950.10.2XX | F12: Ущільнювач Deventer M 7292 для міжкімнатних дверей PVC, колір: білий (50м) | G12: =IFERROR((H12)*Змiст!$K$4/25,"") -> 0.62754048 | H12: =IFERROR(IF(Змiст!$K$5>Змiст!$F$55,I12*(1-Змiст!$K$5),I12*(1-Змiст!$F$55)),"") -> 0.498048 | I12: =VLOOKUP(E12,Price,2,FALSE)*1.2 -> 0.498048 | J12: м | K12: Мінімальне замовлення 50 м
E13: 950.10.3XX | F13: Ущільнювач Deventer M 7292 для міжкімн.дверей PVC, колір: темно-коричн.(50м) | G13: =IFERROR((H13)*Змiст!$K$4/25,"") -> 0.62754048 | H13: =IFERROR(IF(Змiст!$K$5>Змiст!$F$55,I13*(1-Змiст!$K$5),I13*(1-Змiст!$F$55)),"") -> 0.498048 | I13: =VLOOKUP(E13,Price,2,FALSE)*1.2 -> 0.498048 | J13: м | K13: Мінімальне замовлення 50 м
F14: Ущільнювач Deventer M 7292 для міжкімнатних дверей PVC, колір: коричневий (50м) | G14: =IFERROR((H14)*Змiст!$K$4/25,"") | H14: =IFERROR(IF(Змiст!$K$5>Змiст!$F$55,I14*(1-Змiст!$K$5),I14*(1-Змiст!$F$55)),"") | I14: =VLOOKUP(E14,Price,2,FALSE)*1.2 -> #N/A | J14: м | K14: Мінімальне замовлення 50 м
F15: Ущільнювач Deventer M 7292 для міжкімн.дверей PVC, колір: чорний (50м) | G15: =IFERROR((H15)*Змiст!$K$4/25,"") | H15: =IFERROR(IF(Змiст!$K$5>Змiст!$F$55,I15*(1-Змiст!$K$5),I15*(1-Змiст!$F$55)),"") | I15: =VLOOKUP(E15,Price,2,FALSE)*1.2 -> #N/A | J15: м | K15: Мінімальне замовлення 50 м
E16: 950.07.X36 | F16: Ущільнювач Deventer S 6577 для міжкімн.дверей ТПЕ, колір: темно-коричн.(200м) | G16: =IFERROR((H16)*Змiст!$K$4/25,"") -> 0.80154144 | H16: =IFERROR(IF(Змiст!$K$5>Змiст!$F$55,I16*(1-Змiст!$K$5),I16*(1-Змiст!$F$55)),"") -> 0.636144 | I16: =VLOOKUP(E16,Price,2,FALSE)*1.2 -> 0.636144 | J16: м | K16: Мінімальне замовлення 200 м
E17: 950.07.X37 | F17: Ущільнювач Deventer S 6577 для міжкімнатних дверей ТПЕ, колір: білий (200м) | G17: =IFERROR((H17)*Змiст!$K$4/25,"") -> 0.80154144 | H17: =IFERROR(IF(Змiст!$K$5>Змiст!$F$55,I17*(1-Змiст!$K$5),I17*(1-Змiст!$F$55)),"") -> 0.636144 | I17: =VLOOKUP(E17,Price,2,FALSE)*1.2 -> 0.636144 | J17: м | K17: Мінімальне замовлення 200 м
E18: 950.09.X05 | F18: Ущільнювач Deventer S 6577 для міжкімнатних дверей ТПЕ, колір: бежевий (200м) | G18: =IFERROR((H18)*Змiст!$K$4/25,"") -> 0.86566536 | H18: =IFERROR(IF(Змiст!$K$5>Змiст!$F$55,I18*(1-Змiст!$K$5),I18*(1-Змiст!$F$55)),"") -> 0.687036 | I18: =VLOOKUP(E18,Price,2,FALSE)*1.2 -> 0.687036 | J18: м | K18: Мінімальне замовлення 200 м
