Workbook
Name Price: прайс!$A:$C
Name курс: Змiст!$K$4

Sheet прайс
A1: Артикул | B1: Ціна без ПДВ, EUR | C1: Номенклатура
A3: 015.39.654 | B3: 0.03584 | C3: Шуруп 3.5х20мм сталь колір: бронза
A4: 015.35.648 | B4: 0.03584 | C4: Шуруп 3.5х20мм сталь покриття: латунь
A5: 015.35.656 | B5: 0.03584 | C5: Шуруп 3.5х20мм сталь нікельована
A6: 015.31.657 | B6: 0.00677 | C6: Шуруп 3,5х20 (потай,цинк) "Hospa"
A7: 900.00.01X | B7: 192.75796 | C7: Комплект ручки GIOVE цамак колір: стара бронза
A8: 900.00.02X | B8: 101.95675 | C8: Комплект ручки LUXOR PC на планці цамак колір: стара бронза 72мм
A9: 900.00.03X | B9: 88.65476 | C9: Комплект ручки LUXOR PC на розетці цамак колір: стара бронза
A10: 900.00.04X | B10: 105.2369 | C10: Комплект ручки LUXOR WC на розетці цамак колір: стара бронза
A11: 900.00.05X | B11: 44.33494 | C11: Ручка LUXOR PC на розетці цамак колір: стара бронза
A12: 900.00.06X | B12: 106.14813 | C12: Комплект ручки SABIK WC на розетці цамак колір: бронза
A13: 900.00.07X | B13: 90.3734 | C13: Комплект ручки SABIK PC на розетці цамак колір: бронза
A14: 900.00.08X | B14: 70.85093 | C14: Комплект ручки SABIK на розетці цамак колір: бронза
... A604: 900.99.XX3 | B604: 0 | C604: Набір для аварійних дверей
A605: 900 | B605: 0 | C605: Набір ручок дверних ALASEPT демонстраційний
A606: 900 | B606: 0 | C606: Набір ручок дверних ALASEPT демонстраційний
A607: 900 | B607: 0 | C607: Набір ручок дверних ALASEPT демонстраційний
A608: 900 | B608: 0 | C608: Набір ручок дверних ALASEPT демонстраційний
A609: 900 | B609: 0 | C609: Набір ручок дверних ALASEPT демонстраційний
A610: 900 | B610: 0 | C610: Набір ручок дверних ALASEPT демонстраційний
A611: 900 | B611: 0 | C611: Набір ручок дверних ALASEPT демонстраційний
A612: 900 | B612: 0 | C612: Набір ручок дверних ALASEPT демонстраційний
A613: 901.00.181 | B613: 96.35182 | C613: Ручка NIKLAS для вхідних дверей латунь хромована полірована / шкіра колір коричневий
A614: 901.00.183 | B614: 96.35182 | C614: Ручка NIKLAS для вхідних дверей латунь хромована полірована / шкіра колір чорний
A615: 901.00.301 | B615: 25.2603 | C615: Ручка для плоских дверей, латунь,полір.
A616: 901.00.311 | B616: 25.2603 | C616: Врізна ручка для розсувних дверей CB латунь поліров.
A617: 901.00.346 | B617: 31.80307 | C617: Врізна ручка для розсувних дверей CB подовгаста латунь нікельована матова
A618: 901.00.34X | B618: 31.05996 | C618: Врізна ручка хром матовий
A619: 901.00.356 | B619: 7.61919 | C619: Врізна ручка для розсувних дверей WC латунь нікельована матова
A620: 901.00.35X | B620: 31.06262 | C620: Врізна ручка хром полірований
A621: 901.00.366 | B621: 28.62103 | C621: Врізна ручка для розсувних дверей CB кругла латунь нікельована матова
A622: 901.00.36X | B622: 30.34151 | C622: Врізна ручка для розсувних дверей CB кругла латунь полірована
A623: 901.00.376 | B623: 43.18568 | C623: Врізна ручка для розсувних дверей WC кругла латунь нікельована матова
A624: 901.00.37X | B624: 27.75579 | C624: Врізна ручка для розсувних дверей WC кругла латунь полірована
... A2432: 905.XX. 1 | B2432: 90.99997 | C2432: Набір демонстраційний ручок JADO
A2433: 905 | B2433: 0 | C2433: Ручка-замок
A2434: 906 | B2434: 0 | C2434: Ручка-кнопка
A2435: 907.00.450 | B2435: 4.84049 | C2435: Ручка врізна 93х37 мм, пластик, темно-синій
A2436: 907.35.300 | B2436: 6.74135 | C2436: Ручка PZ-комплект, 135х70 мм, нейлон, білий
A2437: 907.35.303 | B2437: 6.74135 | C2437: Ручка 135х70 мм (сірий)
A2438: 907.35.307 | B2438: 6.74135 | C2438: Ручка 135х70 мм (чорний)
A2439: 907.35.507 | B2439: 9.01037 | C2439: Ручка столярна 135 мм, сталь, нейлон, чорний
A2440: 907.36.300 | B2440: 6.74135 | C2440: Комплект ручок Modell K94.20 TW-R поліамід колір: білий
A2441: 907.36.303 | B2441: 6.74135 | C2441: Комплект ручок Modell K94.20 TW-R поліамід колір: сірий
A2442: 907.36.307 | B2442: 6.74135 | C2442: Комплект ручок РС Modell K94.20 TW-R поліамід колір: чорний
A2443: 907.36.400 | B2443: 14.23901 | C2443: Комплект ручок PC 8 20 STK, поліамід, колір: білий
A2444: 907.36.403 | B2444: 14.23901 | C2444: Комплект ручок PC 8 20 STС, поліамід, колір: сірий
A2445: 907.36.407 | B2445: 14.23901 | C2445: Комплект ручок PC 8 20 STС, поліамід, колір: чорний
A2446: 907.36.500 | B2446: 9.01037 | C2446: Комплект ручок PC 820 PA колір білий модель K94.20TW-KS
... A4125: 911.82.263 | B4125: 54.36465 | C4125: Комплект натискної ручки з замком покриття 605 VT
A4126: 911 | B4126: 344.9864 | C4126: Замок врізний К4 PC лівий нержавіюча сталь D 20/60/72 (2)
A4127: 911 | B4127: 344.9864 | C4127: Замок врізний К4 PC лівий нержавіюча сталь D 20/60/72 (2)
A4128: 911 | B4128: 344.9864 | C4128: Замок врізний К4 PC лівий нержавіюча сталь D 20/60/72 (2)
A4129: 911 | B4129: 344.9864 | C4129: Замок врізний К4 PC лівий нержавіюча сталь D 20/60/72 (2)
A4130: 911 | B4130: 344.9864 | C4130: Замок врізний К4 PC лівий нержавіюча сталь D 20/60/72 (2)
A4131: 911 | B4131: 344.9864 | C4131: Замок врізний К4 PC лівий нержавіюча сталь D 20/60/72 (2)
A4132: 911 | B4132: 344.9864 | C4132: Замок врізний К4 PC лівий нержавіюча сталь D 20/60/72 (2)
A4133: 912.01.000 | B4133: 1619.8327 | C4133: Моторизований замок Dorma нержавіюча сталь 35x9x24 мм SVP2719
A4134: 912.01.001 | B4134: 1619.8327 | C4134: Моторизований замок Dorma нержавіюча сталь 65x9x24 мм SVP2277/2278
A4135: 912.01.005 | B4135: 1149.0324 | C4135: Замок врізний SVP 6275 А/6278 А правий/лівий нержавіюча сталь матовий 24х65х72мм 9мм
A4136: 912.01.006 | B4136: 1149.0324 | C4136: Замок врізний SVP 6275 А/6278 А лівий/правий нержавіюча сталь матовий 24х65х72мм 9мм
A4137: 912.01.00X | B4137: 0 | C4137: Моторизований замок DORMA нержавіюча сталь 65x9x24мм SVP 2277/2278 в комплекті з блоком керування і кабелем
A4138: 912.01.021 | B4138: 552.60189 | C4138: Замок врізний електромеханічний YD25 з пластиною 210 мм (відкритий без струму)
A4139: 912.01.022 | B4139: 552.60189 | C4139: Замок врізний електромеханічний YD25 з пластиною 210 мм (закритий без струму)
A4140: 912.01.023 | B4140: 668.50311 | C4140: Замок врізний електромеханічний YD25K з пластиною 280 мм (відкритий без струму)
A4141: 912.01.024 | B4141: 675.12197 | C4141: Замок врізний електромеханічний YD25K з пластиною 280 мм (закритий без струму)
A4142: 912.01.027 | B4142: 122.65302 | C4142: Замок врізний електромеханічний з пластиною 210 мм, нержав. сталь
A4143: 912.02.001 | B4143: 67.79281 | C4143: Контакт розмикання дверей пластиковий білий
A4144: 912.02.003 | B4144: 176.04513 | C4144: З'єднувальний кабель SVP-A-1000 сірий 10м
... A5304: 917.93.611 | B5304: 535.21357 | C5304: Циліндр-адаптер DT501 антипанік латунь нікельована/колір: нержавіюча сталь полірована 35/35мм
A5305: 917 | B5305: 0 | C5305: Модель демонстраційна DIALOCK
A5306: 920.31.000 | B5306: 0 | C5306: Петля для прикручування 13 мм 2-х штирева жовтий хром
A5307: 920.31.100 | B5307: 0 | C5307: Петля для прикручування 16 мм 2-х штирева жовтий хром
A5308: 921.01.103 | B5308: 49.16394 | C5308: Петля нержавіюча сталь матова 96 мм
A5309: 921.01.170 | B5309: 22.77007 | C5309: Петля нержавіюча сталь нікельована 96 мм
A5310: 921.02.513 | B5310: 0 | C5310: Петля ліва нержавіюча сталь 100мм
A5311: 921.07.116 | B5311: 317.28121 | C5311: Петля для ніш прихована сталь хромована матова
A5312: 921.07.278 | B5312: 0 | C5312: Springhingebra.pol.4,5x4,5"
A5313: 921.07.400 | B5313: 8.15598 | C5313: Петля прихована нержавіюча сталь матова, для дверей товщиною від 35мм
A5314: 921.08.140 | B5314: 24.18209 | C5314: Петля карточна нержавіюча стальматова 102x76мм
A5315: 921.08.590 | B5315: 70.91588 | C5315: Петля карточна латунь полірована 127x102мм
A5316: 921.09.111 | B5316: 348.87456 | C5316: Петля карточна ліва нержавіюча сталь матова 102x76мм
A5317: 921.16.615 | B5317: 0 | C5317: Петля ліва латунь полірована 160мм
... A5319: 921.21.XX | B5319: 0 | C5319: Набір петель для душової кабіни
A5320: 921 | B5320: 0 | C5320: Набір дверних петель
A5321: 922.00.270 | B5321: 3.77663 | C5321: Петля штирева 15 мм, 40 кг, сталь, оцинкована, модель V3200WF
A5322: 922.00.290 | B5322: 3.33629 | C5322: Петля штирева 15 мм, 40 кг, сталь, хром. матовий
A5323: 922.00.390 | B5323: 2.72664 | C5323: Рамкова частина оцинк.MF15мм V8100WF
A5324: 922.00.890 | B5324: 3.91871 | C5324: Рамкова частина оцинк.MF15мм V8000WF
A5325: 922.00.990 | B5325: 5.67088 | C5325: Рамкова частина оцинк.MF15мм V8000 S-GL
A5326: 922.01.303 | B5326: 17.15571 | C5326: Петля для коробки нержавіюча сталь матова D15мм 40мм вага дверей: 40кг
A5327: 922.01.340 | B5327: 0 | C5327: Рамна частина петлі сталь хромов. поліровю D15мм 40мм
A5328: 922.01.341 | B5328: 5.96855 | C5328: Рамна частина петлі сталь хромована матова D15мм 40мм вага дверей: 40кг
A5329: 922.01.390 | B5329: 1.94835 | C5329: Рамна частина петлі сталь оцинкована D15мм 40мм вага дверей: 40кг
A5330: 922.01.490 | B5330: 3.42098 | C5330: Рамна частина петлі сталь оцинкована WF 15 мм
A5331: 922.01.682 | B5331: 46.57919 | C5331: Петля штирева з болтом колір золотий F ZK WF 15мм
A5332: 922.01.990 | B5332: 5.67104 | C5332: Кріплення для петлі штиревої, 40 кг, сталь оцинк.
... A6502: 931.99.900 | B6502: 14.03309 | C6502: Координатор послідовності закривання дверей з доводчиком нержавіюча сталь
A6503: 931 | B6503: 0 | C6503: Дверний замок хромований
A6504: 931 | B6504: 0 | C6504: Дверний замок хромований
...

Sheet Змiст
S1: Дата оновлення: | AC1: 43381
D4: курс: | K4: 31.5
D5: знижка: | K5: 0
D6: Ви можете змінити знижку на групу індивідуально, якщо вона більша за загальну знижку, то враховується вона.
F21: 0 | X21: 0 | AO21: 0.24 | AP21: 0 | BH21: 0
F38: 0 | X38: 0 | AO38: 0.24 | AP38: 0 | BG38: 0.24 | BH38: 0
F55: 0 | X55: 0 | AP55: 0 | BH55: 0
AO56: 0.24 | BF56: 0.24 | BG56: 0.24
F73: 0

Sheet Дверні ручки
G1: Ваша знижка на дану групу товарів: | I1: =IF(Змiст!$K$5>Змiст!$F$21,Змiст!$K$5,Змiст!$F$21) -> 0
D2: Зображення | F2: Артикул | G2: Назва | H2: Ціна грн. з ПДВ | I2: Ціна євро з ПДВ | K2: Од. | L2: Примітка
F3: 903.92.870 | G3: =VLOOKUP(F3,Price,3,FALSE) -> Комплект ручок LDH 2166 РС нержавіюча сталь матова 8мм | H3: =I3*Змiст!$K$4 -> 814.82323 | I3: =IF(Змiст!$K$5>Змiст!$F$21,J3*(1-Змiст!$K$5),'Дверні ручки'!J3*(1-Змiст!$F$21)) -> 25.867404 | J3: =VLOOKUP(F3,Price,2,FALSE)*1.2 -> 25.867404 | K3: комплект
F4: 903.93.870 | G4: =VLOOKUP(F4,Price,3,FALSE) -> Комплект ручок LDH 2166 WС нержавіюча сталь матова 8мм | H4: =I4*Змiст!$K$4 -> 1064.1441 | I4: =IF(Змiст!$K$5>Змiст!$F$21,J4*(1-Змiст!$K$5),'Дверні ручки'!J4*(1-Змiст!$F$21)) -> 33.782352 | J4: =VLOOKUP(F4,Price,2,FALSE)*1.2 -> 33.782352 | K4: комплект
F5: 903.82.200 | G5: =VLOOKUP(F5,Price,3,FALSE) -> Комплект ручок PС нержавіюча сталь матова 8мм | H5: =I5*Змiст!$K$4 -> 1036.9455 | I5: =IF(Змiст!$K$5>Змiст!$F$21,J5*(1-Змiст!$K$5),'Дверні ручки'!J5*(1-Змiст!$F$21)) -> 32.918904 | J5: =VLOOKUP(F5,Price,2,FALSE)*1.2 -> 32.918904 | K5: комплект
F6: 903.83.200 | G6: =VLOOKUP(F6,Price,3,FALSE) -> Комплект ручокWС нержавіюча сталь матова 8мм | H6: =I6*Змiст!$K$4 -> 1354.2621 | I6: =IF(Змiст!$K$5>Змiст!$F$21,J6*(1-Змiст!$K$5),'Дверні ручки'!J6*(1-Змiст!$F$21)) -> 42.992448 | J6: =VLOOKUP(F6,Price,2,FALSE)*1.2 -> 42.992448 | K6: комплект
F7: 903.82.150 | G7: =VLOOKUP(F7,Price,3,FALSE) -> Комплект дверних ручок PC 8 нержавіюча сталь матова | H7: =I7*Змiст!$K$4 -> 1207.242 | I7: =IF(Змiст!$K$5>Змiст!$F$21,J7*(1-Змiст!$K$5),'Дверні ручки'!J7*(1-Змiст!$F$21)) -> 38.325144 | J7: =VLOOKUP(F7,Price,2,FALSE)*1.2 -> 38.325144 | K7: комплект
F8: 903.83.150 | G8: =VLOOKUP(F8,Price,3,FALSE) -> Комплект дверних ручок WC 8 нержавіюча сталь матова | H8: =I8*Змiст!$K$4 -> 1485.8035 | I8: =IF(Змiст!$K$5>Змiст!$F$21,J8*(1-Змiст!$K$5),'Дверні ручки'!J8*(1-Змiст!$F$21)) -> 47.168364 | J8: =VLOOKUP(F8,Price,2,FALSE)*1.2 -> 47.168364 | K8: комплект
F9: 902.92.112 | G9: =VLOOKUP(F9,Price,3,FALSE) -> Комплект ручок PC 8 нержавіюча сталь матова | H9: =I9*Змiст!$K$4 -> 1846.6865 | I9: =IF(Змiст!$K$5>Змiст!$F$21,J9*(1-Змiст!$K$5),'Дверні ручки'!J9*(1-Змiст!$F$21)) -> 58.624968 | J9: =VLOOKUP(F9,Price,2,FALSE)*1.2 -> 58.624968 | K9: комплект
F10: 902.93.112 | G10: =VLOOKUP(F10,Price,3,FALSE) -> Комплект ручок WC 8 нержавіюча сталь матова | H10: =I10*Змiст!$K$4 -> 2397.9689 | I10: =IF(Змiст!$K$5>Змiст!$F$21,J10*(1-Змiст!$K$5),'Дверні ручки'!J10*(1-Змiст!$F$21)) -> 76.125996 | J10: =VLOOKUP(F10,Price,2,FALSE)*1.2 -> 76.125996 | K10: комплект
F11: 903.82.070 | G11: =VLOOKUP(F11,Price,3,FALSE) -> Комплект ручок LDH 2187 РС нержавіюча сталь матова 8мм | H11: =I11*Змiст!$K$4 -> 815.64689 | I11: =IF(Змiст!$K$5>Змiст!$F$21,J11*(1-Змiст!$K$5),'Дверні ручки'!J11*(1-Змiст!$F$21)) -> 25.893552 | J11: =VLOOKUP(F11,Price,2,FALSE)*1.2 -> 25.893552 | K11: комплект
F12: 903.83.070 | G12: =VLOOKUP(F12,Price,3,FALSE) -> Комплект дверних ручок WC 8 нержавіюча сталь матова | H12: =I12*Змiст!$K$4 -> 1148.1051 | I12: =IF(Змiст!$K$5>Змiст!$F$21,J12*(1-Змiст!$K$5),'Дверні ручки'!J12*(1-Змiст!$F$21)) -> 36.44778 | J12: =VLOOKUP(F12,Price,2,FALSE)*1.2 -> 36.44778 | K12: комплект
F13: 903.82.220 | G13: =VLOOKUP(F13,Price,3,FALSE) -> Комплект ручок PС нержавіюча сталь матова 8мм | H13: =I13*Змiст!$K$4 -> 759.37554 | I13: =IF(Змiст!$K$5>Змiст!$F$21,J13*(1-Змiст!$K$5),'Дверні ручки'!J13*(1-Змiст!$F$21)) -> 24.10716 | J13: =VLOOKUP(F13,Price,2,FALSE)*1.2 -> 24.10716 | K13: комплект
F14: 903.83.220 | G14: =VLOOKUP(F14,Price,3,FALSE) -> Комплект ручокWС нержавіюча сталь матова 8мм | H14: =I14*Змiст!$K$4 -> 1052.4473 | I14: =IF(Змiст!$K$5>Змiст!$F$21,J14*(1-Змiст!$K$5),'Дверні ручки'!J14*(1-Змiст!$F$21)) -> 33.411024 | J14: =VLOOKUP(F14,Price,2,FALSE)*1.2 -> 33.411024 | K14: комплект
... F54: 902.93.896 | G54: =VLOOKUP(F54,Price,3,FALSE) -> Комплект ручок PDH3104 WC нержавіюча сталь матова 8мм | H54: =I54*Змiст!$K$4 -> 1509.3256 | I54: =IF(Змiст!$K$5>Змiст!$F$21,J54*(1-Змiст!$K$5),'Дверні ручки'!J54*(1-Змiст!$F$21)) -> 47.9151 | J54: =VLOOKUP(F54,Price,2,FALSE)*1.2 -> 47.9151 | K54: комплект

Sheet Замки
H1: Ваша знижка на дану групу товарів: | J1: =IF(Змiст!$K$5>Змiст!$X$21,Змiст!$K$5,Змiст!$X$21) -> 0
D2: Зображення | E2: Колір | F2: Артикул | H2: Назва | I2: Ціна грн. з ПДВ | J2: Ціна євро з ПДВ | L2: Од. | M2: Примітка
F3: 911.23.623 | H3: =VLOOKUP(F3,Price,3,FALSE) -> Замок врізний WC 18х196мм сталь колір: стара бронза 8/6мм | I3: =J3*Змiст!$K$4 -> 290.76592 | J3: =IF(Змiст!$K$5>Змiст!$X$21,K3*(1-Змiст!$K$5),K3*(1-Змiст!$X$21)) -> 9.230664 | K3: =VLOOKUP(F3,Price,2,0)*1.2 -> 9.230664 | L3: шт | M3: Правий чи лівий замок?
F4: 911.23.628 | H4: =VLOOKUP(F4,Price,3,FALSE) -> Замок врізний WC 18х196мм сталь колір: бронза 8/6мм | I4: =J4*Змiст!$K$4 -> 182.96712 | J4: =IF(Змiст!$K$5>Змiст!$X$21,K4*(1-Змiст!$K$5),K4*(1-Змiст!$X$21)) -> 5.80848 | K4: =VLOOKUP(F4,Price,2,0)*1.2 -> 5.80848 | L4: шт
F5: 911.23.622 | H5: =VLOOKUP(F5,Price,3,FALSE) -> Замок врізний WC 18х196мм сталь хромована матова 8/6мм | I5: =J5*Змiст!$K$4 -> 248.69527 | J5: =IF(Змiст!$K$5>Змiст!$X$21,K5*(1-Змiст!$K$5),K5*(1-Змiст!$X$21)) -> 7.895088 | K5: =VLOOKUP(F5,Price,2,0)*1.2 -> 7.895088 | L5: шт
F6: 911.23.620 | H6: =VLOOKUP(F6,Price,3,FALSE) -> Замок врізний WC 18х196мм сталь покриття: латунь полірована 8/6мм | I6: =J6*Змiст!$K$4 -> 191.8849 | J6: =IF(Змiст!$K$5>Змiст!$X$21,K6*(1-Змiст!$K$5),K6*(1-Змiст!$X$21)) -> 6.091584 | K6: =VLOOKUP(F6,Price,2,0)*1.2 -> 6.091584 | L6: шт
F7: 911.23.626 | H7: =VLOOKUP(F7,Price,3,FALSE) -> Замок врізний WC 18х196мм сталь нікельована полірована 8/6мм | I7: =J7*Змiст!$K$4 -> 219.429 | J7: =IF(Змiст!$K$5>Змiст!$X$21,K7*(1-Змiст!$K$5),K7*(1-Змiст!$X$21)) -> 6.966 | K7: =VLOOKUP(F7,Price,2,0)*1.2 -> 6.966 | L7: шт
F8: 911.23.621 | H8: =VLOOKUP(F8,Price,3,FALSE) -> Замок врізний WC 18х196мм сталь хромована полірована 8/6мм | I8: =J8*Змiст!$K$4 -> 219.429 | J8: =IF(Змiст!$K$5>Змiст!$X$21,K8*(1-Змiст!$K$5),K8*(1-Змiст!$X$21)) -> 6.966 | K8: =VLOOKUP(F8,Price,2,0)*1.2 -> 6.966 | L8: шт
F9: 911.23.624 | H9: =VLOOKUP(F9,Price,3,FALSE) -> Замок врізний механічний WC чорний матовий 18x196 мм | I9: =J9*Змiст!$K$4 -> 191.9794 | J9: =IF(Змiст!$K$5>Змiст!$X$21,K9*(1-Змiст!$K$5),K9*(1-Змiст!$X$21)) -> 6.094584 | K9: =VLOOKUP(F9,Price,2,0)*1.2 -> 6.094584 | L9: шт
F10: 911.23.643 | H10: =VLOOKUP(F10,Price,3,FALSE) -> Замок врізний PC 18х196мм сталь колір: стара бронза 8мм | I10: =J10*Змiст!$K$4 -> 313.37788 | J10: =IF(Змiст!$K$5>Змiст!$X$21,K10*(1-Змiст!$K$5),K10*(1-Змiст!$X$21)) -> 9.948504 | K10: =VLOOKUP(F10,Price,2,0)*1.2 -> 9.948504 | L10: шт | M10: Правий чи лівий замок?
F11: 911.23.648 | H11: =VLOOKUP(F11,Price,3,FALSE) -> Замок врізний PC 18х196мм сталь колір: бронза 8мм | I11: =J11*Змiст!$K$4 -> 202.57927 | J11: =IF(Змiст!$K$5>Змiст!$X$21,K11*(1-Змiст!$K$5),K11*(1-Змiст!$X$21)) -> 6.431088 | K11: =VLOOKUP(F11,Price,2,0)*1.2 -> 6.431088 | L11: шт
F12: 911.23.642 | H12: =VLOOKUP(F12,Price,3,FALSE) -> Замок врізний PC 18х196мм сталь хромована матова 8мм | I12: =J12*Змiст!$K$4 -> 267.2993 | J12: =IF(Змiст!$K$5>Змiст!$X$21,K12*(1-Змiст!$K$5),K12*(1-Змiст!$X$21)) -> 8.485692 | K12: =VLOOKUP(F12,Price,2,0)*1.2 -> 8.485692 | L12: шт
F13: 911.23.640 | H13: =VLOOKUP(F13,Price,3,FALSE) -> Замок врізний PC 18х196мм сталь покриття: латунь полірована 8мм | I13: =J13*Змiст!$K$4 -> 203.29672 | J13: =IF(Змiст!$K$5>Змiст!$X$21,K13*(1-Змiст!$K$5),K13*(1-Змiст!$X$21)) -> 6.453864 | K13: =VLOOKUP(F13,Price,2,0)*1.2 -> 6.453864 | L13: шт
F14: 911.23.646 | H14: =VLOOKUP(F14,Price,3,FALSE) -> Замок врізний PC 18х196мм сталь нікельована полірована 8мм | I14: =J14*Змiст!$K$4 -> 230.202 | J14: =IF(Змiст!$K$5>Змiст!$X$21,K14*(1-Змiст!$K$5),K14*(1-Змiст!$X$21)) -> 7.308 | K14: =VLOOKUP(F14,Price,2,0)*1.2 -> 7.308 | L14: шт
F15: 911.23.641 | H15: =VLOOKUP(F15,Price,3,FALSE) -> Замок врізний PC 18х196мм сталь хромована полірована 8мм | I15: =J15*Змiст!$K$4 -> 238.50326 | J15: =IF(Змiст!$K$5>Змiст!$X$21,K15*(1-Змiст!$K$5),K15*(1-Змiст!$X$21)) -> 7.571532 | K15: =VLOOKUP(F15,Price,2,0)*1.2 -> 7.571532 | L15: шт
F16: 911.23.573 | H16: =VLOOKUP(F16,Price,3,FALSE) -> Замок врізний механічний PC чорний матовий 18x196 мм | I16: =J16*Змiст!$K$4 -> 200.01794 | J16: =IF(Змiст!$K$5>Змiст!$X$21,K16*(1-Змiст!$K$5),K16*(1-Змiст!$X$21)) -> 6.349776 | K16: =VLOOKUP(F16,Price,2,0)*1.2 -> 6.349776 | L16: шт
F17: 911.23.632 | H17: =VLOOKUP(F17,Price,3,FALSE) -> Замок врізний WC 18х196мм сталь хромована матова 8/8мм | I17: =J17*Змiст!$K$4 -> 248.69527 | J17: =IF(Змiст!$K$5>Змiст!$X$21,K17*(1-Змiст!$K$5),K17*(1-Змiст!$X$21)) -> 7.895088 | K17: =VLOOKUP(F17,Price,2,0)*1.2 -> 7.895088 | L17: шт
F18: 911.23.631 | H18: =VLOOKUP(F18,Price,3,FALSE) -> Замок врізний WC 18х196мм сталь хромована полірована 8/8мм | I18: =J18*Змiст!$K$4 -> 219.429 | J18: =IF(Змiст!$K$5>Змiст!$X$21,K18*(1-Змiст!$K$5),K18*(1-Змiст!$X$21)) -> 6.966 | K18: =VLOOKUP(F18,Price,2,0)*1.2 -> 6.966 | L18: шт
F19: 911.38.123 | H19: =VLOOKUP(F19,Price,3,FALSE) -> Відповідна планка сталь колір: стара бронза 82x22/12мм | I19: =J19*Змiст!$K$4 -> 74.621736 | J19: =IF(Змiст!$K$5>Змiст!$X$21,K19*(1-Змiст!$K$5),K19*(1-Змiст!$X$21)) -> 2.368944 | K19: =VLOOKUP(F19,Price,2,0)*1.2 -> 2.368944 | L19: шт
F20: 911.38.128 | H20: =VLOOKUP(F20,Price,3,FALSE) -> Відповідна планка сталь колір: бронза 82x22/12мм | I20: =J20*Змiст!$K$4 -> 16.147404 | J20: =IF(Змiст!$K$5>Змiст!$X$21,K20*(1-Змiст!$K$5),K20*(1-Змiст!$X$21)) -> 0.512616 | K20: =VLOOKUP(F20,Price,2,0)*1.2 -> 0.512616 | L20: шт
F21: 911.38.122 | H21: =VLOOKUP(F21,Price,3,FALSE) -> Відповідна планка сталь хромована матова 82x22/12мм | I21: =J21*Змiст!$K$4 -> 36.73026 | J21: =IF(Змiст!$K$5>Змiст!$X$21,K21*(1-Змiст!$K$5),K21*(1-Змiст!$X$21)) -> 1.16604 | K21: =VLOOKUP(F21,Price,2,0)*1.2 -> 1.16604 | L21: шт
F22: 911.38.120 | H22: =VLOOKUP(F22,Price,3,FALSE) -> Відповідна планка сталь покриття: латунь полірована 82x22/12мм | I22: =J22*Змiст!$K$4 -> 24.600618 | J22: =IF(Змiст!$K$5>Змiст!$X$21,K22*(1-Змiст!$K$5),K22*(1-Змiст!$X$21)) -> 0.780972 | K22: =VLOOKUP(F22,Price,2,0)*1.2 -> 0.780972 | L22: шт
... F56: 911.22.761 | H56: =VLOOKUP(F56,Price,3,FALSE) -> Замок магнітний PC 18х196мм сталь хромована полірована 8мм | I56: =J56*Змiст!$K$4 -> 325.458 | J56: =IF(Змiст!$K$5>Змiст!$X$21,K56*(1-Змiст!$K$5),K56*(1-Змiст!$X$21)) -> 10.332 | K56: =VLOOKUP(F56,Price,2,0)*1.2 -> 10.332 | L56: шт
F57: 911.23.593 | H57: =VLOOKUP(F57,Price,3,FALSE) -> Замок врізний магнітний PC чорний матовий 18x196 мм | I57: =J57*Змiст!$K$4 -> 254.87406 | J57: =IF(Змiст!$K$5>Змiст!$X$21,K57*(1-Змiст!$K$5),K57*(1-Змiст!$X$21)) -> 8.09124 | K57: =VLOOKUP(F57,Price,2,0)*1.2 -> 8.09124
F58: 911.22.752 | H58: =VLOOKUP(F58,Price,3,FALSE) -> Замок магнітний WC 18х196мм сталь хромована матова 8/8мм | I58: =J58*Змiст!$K$4 -> 325.1745 | J58: =IF(Змiст!$K$5>Змiст!$X$21,K58*(1-Змiст!$K$5),K58*(1-Змiст!$X$21)) -> 10.323 | K58: =VLOOKUP(F58,Price,2,0)*1.2 -> 10.323 | L58: шт
F59: 911.22.751 | H59: =VLOOKUP(F59,Price,3,FALSE) -> Замок магнітний WC 18х196мм сталь хромована полірована 8/8мм | I59: =J59*Змiст!$K$4 -> 318.9375 | J59: =IF(Змiст!$K$5>Змiст!$X$21,K59*(1-Змiст!$K$5),K59*(1-Змiст!$X$21)) -> 10.125 | K59: =VLOOKUP(F59,Price,2,0)*1.2 -> 10.125 | L59: шт
F60: 911.38.161 | H60: =VLOOKUP(F60,Price,3,FALSE) -> Відповідна планка до магнітного замка 55.2x15.7мм пластик колір: коричневий | I60: =J60*Змiст!$K$4 -> 86.101974 | J60: =IF(Змiст!$K$5>Змiст!$X$21,K60*(1-Змiст!$K$5),K60*(1-Змiст!$X$21)) -> 2.733396 | K60: =VLOOKUP(F60,Price,2,0)*1.2 -> 2.733396 | L60: шт
F61: 911.38.162 | H61: =VLOOKUP(F61,Price,3,FALSE) -> Відповідна планка до магнітного замка 55.2x15.7мм пластик хромований матовий | I61: =J61*Змiст!$K$4 -> 86.101974 | J61: =IF(Змiст!$K$5>Змiст!$X$21,K61*(1-Змiст!$K$5),K61*(1-Змiст!$X$21)) -> 2.733396 | K61: =VLOOKUP(F61,Price,2,0)*1.2 -> 2.733396 | L61: шт
F62: 911.38.160 | H62: =VLOOKUP(F62,Price,3,FALSE) -> Відповідна планка до магнітного замка 55.2x15.7мм пластик покриття латунь металізована | I62: =J62*Змiст!$K$4 -> 86.101974 | J62: =IF(Змiст!$K$5>Змiст!$X$21,K62*(1-Змiст!$K$5),K62*(1-Змiст!$X$21)) -> 2.733396 | K62: =VLOOKUP(F62,Price,2,0)*1.2 -> 2.733396 | L62: шт
F63: 911.38.165 | H63: =VLOOKUP(F63,Price,3,FALSE) -> Відповідна планка до магнітного замка 55.2x15.7мм пластик колір: сірий | I63: =J63*Змiст!$K$4 -> 86.101974 | J63: =IF(Змiст!$K$5>Змiст!$X$21,K63*(1-Змiст!$K$5),K63*(1-Змiст!$X$21)) -> 2.733396 | K63: =VLOOKUP(F63,Price,2,0)*1.2 -> 2.733396 | L63: шт
F64: 911.38.164 | H64: =VLOOKUP(F64,Price,3,FALSE) -> Відповідна планка до магнітного замка 55.2x15.7мм пластик хромований | I64: =J64*Змiст!$K$4 -> 86.101974 | J64: =IF(Змiст!$K$5>Змiст!$X$21,K64*(1-Змiст!$K$5),K64*(1-Змiст!$X$21)) -> 2.733396 | K64: =VLOOKUP(F64,Price,2,0)*1.2 -> 2.733396 | L64: шт
F65: 911.39.999 | H65: =VLOOKUP(F65,Price,3,FALSE) -> Відповідна планка до магнітного замка 55.2x15.7мм пластик чорний матовий | I65: =J65*Змiст!$K$4 -> 90.689382 | J65: =IF(Змiст!$K$5>Змiст!$X$21,K65*(1-Змiст!$K$5),K65*(1-Змiст!$X$21)) -> 2.879028 | K65: =VLOOKUP(F65,Price,2,0)*1.2 -> 2.879028 | L65: шт
F66: 911.3X.143 | G66: 911.38.143 | H66: =VLOOKUP(F66,Price,3,FALSE) -> Відповідна планка в комплекті колір: антична бронза | I66: =(J66+J67)*Змiст!$K$4 -> 233.22789 | J66: =IF(Змiст!$K$5>Змiст!$X$21,K66*(1-Змiст!$K$5),K66*(1-Змiст!$X$21)) -> 4.609908 | K66: =VLOOKUP(G66,Price,2,0)*1.2 -> 4.609908 | L66: компл
G67: 911.38.153 | H67: =VLOOKUP(F67,Price,3,FALSE) -> #N/A | J67: =IF(Змiст!$K$5>Змiст!$X$21,K67*(1-Змiст!$K$5),K67*(1-Змiст!$X$21)) -> 2.794152 | K67: =VLOOKUP(G67,Price,2,0)*1.2 -> 2.794152
F68: 911.3X.148 | G68: 911.38.148 | H68: =VLOOKUP(F68,Price,3,FALSE) -> Відповідна планка в комплекті колір: бронза | I68: =(J68+J69)*Змiст!$K$4 -> 103.32479 | J68: =IF(Змiст!$K$5>Змiст!$X$21,K68*(1-Змiст!$K$5),K68*(1-Змiст!$X$21)) -> 0.486 | K68: =VLOOKUP(G68,Price,2,0)*1.2 -> 0.486 | L68: компл
G69: 911.38.153 | H69: =VLOOKUP(F69,Price,3,FALSE) -> #N/A | J69: =IF(Змiст!$K$5>Змiст!$X$21,K69*(1-Змiст!$K$5),K69*(1-Змiст!$X$21)) -> 2.794152 | K69: =VLOOKUP(G69,Price,2,0)*1.2 -> 2.794152
F70: 911.3X.142 | G70: 911.38.142 | H70: =VLOOKUP(F70,Price,3,FALSE) -> Відповідна планка в комплекті колір: хром матовий | I70: =(J70+J71)*Змiст!$K$4 -> 199.06009 | J70: =IF(Змiст!$K$5>Змiст!$X$21,K70*(1-Змiст!$K$5),K70*(1-Змiст!$X$21)) -> 3.525216 | K70: =VLOOKUP(G70,Price,2,0)*1.2 -> 3.525216 | L70: компл
G71: 911.38.155 | H71: =VLOOKUP(F71,Price,3,FALSE) -> #N/A | J71: =IF(Змiст!$K$5>Змiст!$X$21,K71*(1-Змiст!$K$5),K71*(1-Змiст!$X$21)) -> 2.794152 | K71: =VLOOKUP(G71,Price,2,0)*1.2 -> 2.794152
F72: 911.3X.140 | G72: 911.38.140 | H72: =VLOOKUP(F72,Price,3,FALSE) -> Відповідна планка в комплекті колір: латунь полірована | I72: =(J72+J73)*Змiст!$K$4 -> 199.06009 | J72: =IF(Змiст!$K$5>Змiст!$X$21,K72*(1-Змiст!$K$5),K72*(1-Змiст!$X$21)) -> 3.525216 | K72: =VLOOKUP(G72,Price,2,0)*1.2 -> 3.525216 | L72: компл
G73: 911.38.151 | H73: =VLOOKUP(F73,Price,3,FALSE) -> #N/A | J73: =IF(Змiст!$K$5>Змiст!$X$21,K73*(1-Змiст!$K$5),K73*(1-Змiст!$X$21)) -> 2.794152 | K73: =VLOOKUP(G73,Price,2,0)*1.2 -> 2.794152
F74: 911.3X.146 | G74: 911.38.146 | H74: =VLOOKUP(F74,Price,3,FALSE) -> Відповідна планка в комплекті колір: нікель полірований | I74: =(J74+J75)*Змiст!$K$4 -> 199.06009 | J74: =IF(Змiст!$K$5>Змiст!$X$21,K74*(1-Змiст!$K$5),K74*(1-Змiст!$X$21)) -> 3.525216 | K74: =VLOOKUP(G74,Price,2,0)*1.2 -> 3.525216 | L74: компл
G75: 911.38.151 | H75: =VLOOKUP(F75,Price,3,FALSE) -> #N/A | J75: =IF(Змiст!$K$5>Змiст!$X$21,K75*(1-Змiст!$K$5),K75*(1-Змiст!$X$21)) -> 2.794152 | K75: =VLOOKUP(G75,Price,2,0)*1.2 -> 2.794152
F76: 911.3X.141 | G76: 911.38.141 | H76: =VLOOKUP(F76,Price,3,FALSE) -> Відповідна планка в комплекті колір: хром полірований | I76: =(J76+J77)*Змiст!$K$4 -> 112.78726 | J76: =IF(Змiст!$K$5>Змiст!$X$21,K76*(1-Змiст!$K$5),K76*(1-Змiст!$X$21)) -> 0.786396 | K76: =VLOOKUP(G76,Price,2,0)*1.2 -> 0.786396 | L76: компл
G77: 911.38.155 | H77: =VLOOKUP(F77,Price,3,FALSE) -> #N/A | J77: =IF(Змiст!$K$5>Змiст!$X$21,K77*(1-Змiст!$K$5),K77*(1-Змiст!$X$21)) -> 2.794152 | K77: =VLOOKUP(G77,Price,2,0)*1.2 -> 2.794152
F78: 911.3X.149 | G78: 911.38.144 | H78: =VLOOKUP(F78,Price,3,FALSE) -> Відповідна планка в комплекті колір: чорний матовий | I78: =(J78-J78/100*Змiст!$K$5)*Змiст!$K$4 -> 108.32686 | J78: =IF(Змiст!$K$5>Змiст!$X$21,K78*(1-Змiст!$K$5),K78*(1-Змiст!$X$21)) -> 3.438948 | K78: =VLOOKUP(G78,Price,2,0)*1.2 -> 3.438948 | L78: компл
G79: 911.38.153 | H79: =VLOOKUP(F79,Price,3,FALSE) -> #N/A | J79: =IF(Змiст!$K$5>Змiст!$X$21,K79*(1-Змiст!$K$5),K79*(1-Змiст!$X$21)) -> 2.794152 | K79: =VLOOKUP(G79,Price,2,0)*1.2 -> 2.794152
F80: 911.38.173 | H80: =VLOOKUP(F80,Price,3,FALSE) -> Відповідна планка до магнітного замка 122xR24мм сталь колір: стара бронза | I80: =J80*Змiст!$K$4 -> 197.21507 | J80: =IF(Змiст!$K$5>Змiст!$X$21,K80*(1-Змiст!$K$5),K80*(1-Змiст!$X$21)) -> 6.260796 | K80: =VLOOKUP(F80,Price,2,0)*1.2 -> 6.260796 | L80: шт
F81: 911.38.218 | H81: =VLOOKUP(F81,Price,3,FALSE) -> Відповідна планка до магнітного замка 122xR24мм сталь колір: бронза | I81: =J81*Змiст!$K$4 -> 127.03522 | J81: =IF(Змiст!$K$5>Змiст!$X$21,K81*(1-Змiст!$K$5),K81*(1-Змiст!$X$21)) -> 4.032864 | K81: =VLOOKUP(F81,Price,2,0)*1.2 -> 4.032864 | L81: шт
F82: 911.38.172 | H82: =VLOOKUP(F82,Price,3,FALSE) -> Відповідна планка до магнітного замка 122xR24мм сталь хромована матова | I82: =J82*Змiст!$K$4 -> 150.13253 | J82: =IF(Змiст!$K$5>Змiст!$X$21,K82*(1-Змiст!$K$5),K82*(1-Змiст!$X$21)) -> 4.766112 | K82: =VLOOKUP(F82,Price,2,0)*1.2 -> 4.766112 | L82: шт
F83: 911.38.170 | H83: =VLOOKUP(F83,Price,3,FALSE) -> Відповідна планка до магнітного замка 122xR24мм сталь покриття: латунь полірована | I83: =J83*Змiст!$K$4 -> 138.58349 | J83: =IF(Змiст!$K$5>Змiст!$X$21,K83*(1-Змiст!$K$5),K83*(1-Змiст!$X$21)) -> 4.399476 | K83: =VLOOKUP(F83,Price,2,0)*1.2 -> 4.399476 | L83: шт
F84: 911.38.176 | H84: =VLOOKUP(F84,Price,3,FALSE) -> Відповідна планка до магнітного замка 122xR24мм сталь нікельована полірована | I84: =J84*Змiст!$K$4 -> 136.80652 | J84: =IF(Змiст!$K$5>Змiст!$X$21,K84*(1-Змiст!$K$5),K84*(1-Змiст!$X$21)) -> 4.343064 | K84: =VLOOKUP(F84,Price,2,0)*1.2 -> 4.343064 | L84: шт
F85: 911.38.171 | H85: =VLOOKUP(F85,Price,3,FALSE) -> Відповідна планка до магнітного замка 122xR24мм сталь хромована полірована | I85: =J85*Змiст!$K$4 -> 135.91859 | J85: =IF(Змiст!$K$5>Змiст!$X$21,K85*(1-Змiст!$K$5),K85*(1-Змiст!$X$21)) -> 4.314876 | K85: =VLOOKUP(F85,Price,2,0)*1.2 -> 4.314876 | L85: шт
F86: 911.22.090 | H86: Замок магнітний S351 WC 18х196мм хром матовий 8/6мм | I86: =J86*Змiст!$K$4 -> 160.33513 | J86: =K86 -> 5.090004 | K86: =VLOOKUP(F86,Price,2,0)*1.2 -> 5.090004 | L86: шт
F87: 911.22.092 | H87: Замок магнітний S351 WC 18х196мм хром полірований 8/6мм | I87: =J87*Змiст!$K$4 -> 160.33513 | J87: =K87 -> 5.090004 | K87: =VLOOKUP(F87,Price,2,0)*1.2 -> 5.090004 | L87: шт
F88: 911.22.094 | H88: Замок магнітний S351 WC 18х196мм нікель полірований 8/6мм | I88: =J88*Змiст!$K$4 -> 160.33513 | J88: =K88 -> 5.090004 | K88: =VLOOKUP(F88,Price,2,0)*1.2 -> 5.090004 | L88: шт
F89: 911.22.091 | H89: Замок магнітний S351 WC 18х196мм хром сатин 8/6мм | I89: =J89*Змiст!$K$4 -> 305.62888 | J89: =IF(Змiст!$K$5>Змiст!$X$21,K89*(1-Змiст!$K$5),K89*(1-Змiст!$X$21)) -> 9.702504 | K89: =VLOOKUP(F89,Price,2,0)*1.2 -> 9.702504 | L89: шт
F90: 911.22.093 | H90: Замок магнітний S351 WC 18х196мм чорний матовий 8/6мм | I90: =J90*Змiст!$K$4 -> 160.33513 | J90: =K90 -> 5.090004 | K90: =VLOOKUP(F90,Price,2,0)*1.2 -> 5.090004 | L90: шт
K91: =VLOOKUP(F91,Price,2,0)*1.2 -> #N/A | L91: шт
F92: 911.22.080 | H92: Замок магнітний S359 PC 18х196мм хром матовий 8мм | I92: =J92*Змiст!$K$4 -> 160.33513 | J92: =K92 -> 5.090004 | K92: =VLOOKUP(F92,Price,2,0)*1.2 -> 5.090004 | L92: шт
F93: 911.22.082 | H93: Замок магнітний S359 PC 18х196мм хром полірований 8мм | I93: =J93*Змiст!$K$4 -> 160.33513 | J93: =K93 -> 5.090004 | K93: =VLOOKUP(F93,Price,2,0)*1.2 -> 5.090004 | L93: шт
F94: 911.22.084 | H94: Замок магнітний S359 PC 18х196мм нікель полірований 8мм | I94: =J94*Змiст!$K$4 -> 160.33513 | J94: =K94 -> 5.090004 | K94: =VLOOKUP(F94,Price,2,0)*1.2 -> 5.090004 | L94: шт
F95: 911.22.081 | H95: Замок магнітний S359 PC 18х196мм хром сатин 8мм | I95: =J95*Змiст!$K$4 -> 329.8874 | J95: =IF(Змiст!$K$5>Змiст!$X$21,K95*(1-Змiст!$K$5),K95*(1-Змiст!$X$21)) -> 10.472616 | K95: =VLOOKUP(F95,Price,2,0)*1.2 -> 10.472616 | L95: шт
F96: 911.22.083 | H96: Замок магнітний S359 PC 18х196мм чорний матовий 8мм | I96: =J96*Змiст!$K$4 -> 160.33513 | J96: =K96 -> 5.090004 | K96: =VLOOKUP(F96,Price,2,0)*1.2 -> 5.090004 | L96: шт
K97: =VLOOKUP(F97,Price,2,0)*1.2 -> #N/A
F98: 911.38.410 | H98: Відповідна планка S91 до магнітного замка S351 і S359 82х22мм сталь покриття: хром матовий | I98: =J98*Змiст!$K$4 -> 50.596812 | J98: =K98 -> 1.606248 | K98: =VLOOKUP(F98,Price,2,0)*1.2 -> 1.606248 | L98: шт
F99: 911.38.412 | H99: Відповідна планка S91 до магнітного замка S351 і S359 82х22мм сталь покриття: хром полірований | I99: =J99*Змiст!$K$4 -> 50.596812 | J99: =K99 -> 1.606248 | K99: =VLOOKUP(F99,Price,2,0)*1.2 -> 1.606248 | L99: шт
F100: 911.38.411 | H100: Відповідна планка S91 до магнітного замка S351 і S359 82х22мм сталь покриття: хром сатин | I100: =J100*Змiст!$K$4 -> 102.70978 | J100: =IF(Змiст!$K$5>Змiст!$X$21,K100*(1-Змiст!$K$5),K100*(1-Змiст!$X$21)) -> 3.260628 | K100: =VLOOKUP(F100,Price,2,0)*1.2 -> 3.260628 | L100: шт
F101: 911.38.413 | H101: Відповідна планка S91 до магнітного замка S351 і S359 82х22мм сталь покриття: чорний матовий | I101: =J101*Змiст!$K$4 -> 50.5575 | J101: =K101 -> 1.605 | K101: =VLOOKUP(F101,Price,2,0)*1.2 -> 1.605 | L101: шт
F102: 911.38.183 | H102: Відповідна планка GR97 до магнітного замка S351 і S359 122х24мм сталь покриття: хром матовий | I102: =J102*Змiст!$K$4 -> 146.29394 | J102: =IF(Змiст!$K$5>Змiст!$X$21,K102*(1-Змiст!$K$5),K102*(1-Змiст!$X$21)) -> 4.644252 | K102: =VLOOKUP(F102,Price,2,0)*1.2 -> 4.644252 | L102: шт
F103: 911.38.182 | H103: Відповідна планка GR97 до магнітного замка S351 і S359 122х24мм сталь покриття: хром полірований | I103: =J103*Змiст!$K$4 -> 132.44137 | J103: =IF(Змiст!$K$5>Змiст!$X$21,K103*(1-Змiст!$K$5),K103*(1-Змiст!$X$21)) -> 4.204488 | K103: =VLOOKUP(F103,Price,2,0)*1.2 -> 4.204488 | L103: шт
F104: 911.38.180 | H104: Відповідна планка GR97 до магнітного замка S351 і S359 122х24мм сталь покриття: нікель полірований | I104: =J104*Змiст!$K$4 -> 133.3705 | J104: =IF(Змiст!$K$5>Змiст!$X$21,K104*(1-Змiст!$K$5),K104*(1-Змiст!$X$21)) -> 4.233984 | K104: =VLOOKUP(F104,Price,2,0)*1.2 -> 4.233984 | L104: шт
F105: 911.38.184 | H105: Відповідна планка GR97 до магнітного замка S351 і S359 122х24мм сталь покриття: хром сатин | I105: =J105*Змiст!$K$4 -> 158.11891 | J105: =IF(Змiст!$K$5>Змiст!$X$21,K105*(1-Змiст!$K$5),K105*(1-Змiст!$X$21)) -> 5.019648 | K105: =VLOOKUP(F105,Price,2,0)*1.2 -> 5.019648 | L105: шт
F106: 911.38.188 | H106: Відповідна планка GR97 до магнітного замка S351 і S359 122х24мм сталь покриття: чорний матовий | I106: =J106*Змiст!$K$4 -> 135.05978 | J106: =IF(Змiст!$K$5>Змiст!$X$21,K106*(1-Змiст!$K$5),K106*(1-Змiст!$X$21)) -> 4.287612 | K106: =VLOOKUP(F106,Price,2,0)*1.2 -> 4.287612 | L106: шт
F107: 015.39.654 | H107: =VLOOKUP(F107,Price,3,FALSE) -> Шуруп 3.5х20мм сталь колір: бронза | I107: =J107*Змiст!$K$4 -> 1.354752 | J107: =IF(Змiст!$K$5>Змiст!$X$21,K107*(1-Змiст!$K$5),K107*(1-Змiст!$X$21)) -> 0.043008 | K107: =VLOOKUP(F107,Price,2,0)*1.2 -> 0.043008 | L107: шт
F108: 015.35.648 | H108: =VLOOKUP(F108,Price,3,FALSE) -> Шуруп 3.5х20мм сталь покриття: латунь | I108: =J108*Змiст!$K$4 -> 1.354752 | J108: =IF(Змiст!$K$5>Змiст!$X$21,K108*(1-Змiст!$K$5),K108*(1-Змiст!$X$21)) -> 0.043008 | K108: =VLOOKUP(F108,Price,2,0)*1.2 -> 0.043008 | L108: шт
F109: 015.35.656 | H109: =VLOOKUP(F109,Price,3,FALSE) -> Шуруп 3.5х20мм сталь нікельована | I109: =J109*Змiст!$K$4 -> 1.354752 | J109: =IF(Змiст!$K$5>Змiст!$X$21,K109*(1-Змiст!$K$5),K109*(1-Змiст!$X$21)) -> 0.043008 | K109: =VLOOKUP(F109,Price,2,0)*1.2 -> 0.043008 | L109: шт
F110: 015.31.657 | H110: =VLOOKUP(F110,Price,3,FALSE) -> Шуруп 3,5х20 (потай,цинк) "Hospa" | I110: =J110*Змiст!$K$4 -> 0.255906 | J110: =IF(Змiст!$K$5>Змiст!$X$21,K110*(1-Змiст!$K$5),K110*(1-Змiст!$X$21)) -> 0.008124 | K110: =VLOOKUP(F110,Price,2,0)*1.2 -> 0.008124 | L110: шт
F111: 911.26.691 | H111: =VLOOKUP(F111,Price,3,FALSE) -> Замок B No-Ha Mini сталь хромована матова 6мм | I111: =J111*Змiст!$K$4 -> 3587.5912 | J111: =IF(Змiст!$K$5>Змiст!$X$21,K111*(1-Змiст!$K$5),K111*(1-Змiст!$X$21)) -> 113.89178 | K111: =VLOOKUP(F111,Price,2,0)*1.2 -> 113.89178 | L111: шт
F112: 911.26.681 | H112: =VLOOKUP(F112,Price,3,FALSE) -> Замок B No-Ha Mini WC сталь хромована матова 6мм | I112: =J112*Змiст!$K$4 -> 4036.0398 | J112: =IF(Змiст!$K$5>Змiст!$X$21,K112*(1-Змiст!$K$5),K112*(1-Змiст!$X$21)) -> 128.12825 | K112: =VLOOKUP(F112,Price,2,0)*1.2 -> 128.12825 | L112: шт
F113: 911.26.466 | H113: =VLOOKUP(F113,Price,3,FALSE) -> Комплект замка для розсувних дверей латунь хромована полірована | I113: =J113*Змiст!$K$4 -> 1489.7471 | J113: =IF(Змiст!$K$5>Змiст!$X$21,K113*(1-Змiст!$K$5),K113*(1-Змiст!$X$21)) -> 47.29356 | K113: =VLOOKUP(F113,Price,2,0)*1.2 -> 47.29356 | L113: шт
F114: 911.26.458 | H114: =VLOOKUP(F114,Price,3,FALSE) -> Комплект замка для розсувних дверей латунь колір: бронза | I114: =J114*Змiст!$K$4 -> 1144.2623 | J114: =IF(Змiст!$K$5>Змiст!$X$21,K114*(1-Змiст!$K$5),K114*(1-Змiст!$X$21)) -> 36.325788 | K114: =VLOOKUP(F114,Price,2,0)*1.2 -> 36.325788 | L114: шт
F115: 911.26.467 | H115: =VLOOKUP(F115,Price,3,FALSE) -> Комплект замка для розсувних дверей латунь полірована | I115: =J115*Змiст!$K$4 -> 1333.956 | J115: =IF(Змiст!$K$5>Змiст!$X$21,K115*(1-Змiст!$K$5),K115*(1-Змiст!$X$21)) -> 42.347808 | K115: =VLOOKUP(F115,Price,2,0)*1.2 -> 42.347808 | L115: шт
F116: 911.2X.623 | G116: 911.23.623 | H116: =VLOOKUP(F116,Price,3,FALSE) -> Замок врізний механічний WC антична бронза 18x196мм з відповідною планкою та чотирма шурупами 3.5х20мм | I116: =J116*Змiст!$K$4 -> 370.80666 | J116: =IF(Змiст!$K$5>Змiст!$X$21,(K116+K117+K118)*(1-Змiст!$K$5),(K116+K117+K118)*(1-Змiст!$X$21)) -> 11.77164 | K116: =VLOOKUP(G116,Price,2,0)*1.2 -> 9.230664 | L116: компл
G117: 911.38.123 | H117: =VLOOKUP(F117,Price,3,FALSE) -> #N/A | I117: =J117*Змiст!$K$4 -> 74.621736 | J117: =IF(Змiст!$K$5>Змiст!$X$21,K117*(1-Змiст!$K$5),K117*(1-Змiст!$X$21)) -> 2.368944 | K117: =VLOOKUP(G117,Price,2,0)*1.2 -> 2.368944
G118: 015.39.654 | H118: =VLOOKUP(F118,Price,3,FALSE) -> #N/A | I118: =J118*Змiст!$K$4 -> 5.419008 | J118: =IF(Змiст!$K$5>Змiст!$X$21,K118*(1-Змiст!$K$5),K118*(1-Змiст!$X$21)) -> 0.172032 | K118: =VLOOKUP(G118,Price,2,0)*1.2*4 -> 0.172032
F119: 911.2X.628 | G119: 911.23.628 | H119: =VLOOKUP(F119,Price,3,FALSE) -> Замок врізний механічний WC бронза 18x196мм з відповідною планкою та чотирма шурупами 3.5х20мм | I119: =J119*Змiст!$K$4 -> 204.53353 | J119: =IF(Змiст!$K$5>Змiст!$X$21,(K119+K120+K121)*(1-Змiст!$K$5),(K119+K120+K121)*(1-Змiст!$X$21)) -> 6.493128 | K119: =VLOOKUP(G119,Price,2,0)*1.2 -> 5.80848 | L119: компл
G120: 911.38.128 | H120: =VLOOKUP(F120,Price,3,FALSE) -> #N/A | I120: =J120*Змiст!$K$4 -> 16.147404 | J120: =IF(Змiст!$K$5>Змiст!$X$21,K120*(1-Змiст!$K$5),K120*(1-Змiст!$X$21)) -> 0.512616 | K120: =VLOOKUP(G120,Price,2,0)*1.2 -> 0.512616
G121: 015.39.654 | H121: =VLOOKUP(F121,Price,3,FALSE) -> #N/A | I121: =J121*Змiст!$K$4 -> 5.419008 | J121: =IF(Змiст!$K$5>Змiст!$X$21,K121*(1-Змiст!$K$5),K121*(1-Змiст!$X$21)) -> 0.172032 | K121: =VLOOKUP(G121,Price,2,0)*1.2*4 -> 0.172032
F122: 911.2X.622 | G122: 911.23.622 | H122: =VLOOKUP(F122,Price,3,FALSE) -> Замок врізний механічний WC хром матовий 18x196мм з відповідною планкою та чотирма шурупами 3.5х20мм | I122: =J122*Змiст!$K$4 -> 286.44916 | J122: =IF(Змiст!$K$5>Змiст!$X$21,(K122+K123+K124)*(1-Змiст!$K$5),(K122+K123+K124)*(1-Змiст!$X$21)) -> 9.093624 | K122: =VLOOKUP(G122,Price,2,0)*1.2 -> 7.895088 | L122: компл
G123: 911.38.122 | H123: =VLOOKUP(F123,Price,3,FALSE) -> #N/A | I123: =J123*Змiст!$K$4 -> 36.73026 | J123: =IF(Змiст!$K$5>Змiст!$X$21,K123*(1-Змiст!$K$5),K123*(1-Змiст!$X$21)) -> 1.16604 | K123: =VLOOKUP(G123,Price,2,0)*1.2 -> 1.16604
G124: 015.31.657 | H124: =VLOOKUP(F124,Price,3,FALSE) -> #N/A | I124: =J124*Змiст!$K$4 -> 1.023624 | J124: =IF(Змiст!$K$5>Змiст!$X$21,K124*(1-Змiст!$K$5),K124*(1-Змiст!$X$21)) -> 0.032496 | K124: =VLOOKUP(G124,Price,2,0)*1.2*4 -> 0.032496
F125: 911.2X.620 | G125: 911.23.620 | H125: =VLOOKUP(F125,Price,3,FALSE) -> Замок врізний механічний WC латунь полірована 18x196мм з відповідною планкою та чотирма шурупами 3.5х20мм | I125: =J125*Змiст!$K$4 -> 221.90452 | J125: =IF(Змiст!$K$5>Змiст!$X$21,(K125+K126+K127)*(1-Змiст!$K$5),(K125+K126+K127)*(1-Змiст!$X$21)) -> 7.044588 | K125: =VLOOKUP(G125,Price,2,0)*1.2 -> 6.091584 | L125: компл
G126: 911.38.120 | H126: =VLOOKUP(F126,Price,3,FALSE) -> #N/A | I126: =J126*Змiст!$K$4 -> 24.600618 | J126: =IF(Змiст!$K$5>Змiст!$X$21,K126*(1-Змiст!$K$5),K126*(1-Змiст!$X$21)) -> 0.780972 | K126: =VLOOKUP(G126,Price,2,0)*1.2 -> 0.780972
G127: 015.35.648 | H127: =VLOOKUP(F127,Price,3,FALSE) -> #N/A | I127: =J127*Змiст!$K$4 -> 5.419008 | J127: =IF(Змiст!$K$5>Змiст!$X$21,K127*(1-Змiст!$K$5),K127*(1-Змiст!$X$21)) -> 0.172032 | K127: =VLOOKUP(G127,Price,2,0)*1.2*4 -> 0.172032
F128: 911.2X.626 | G128: 911.23.626 | H128: =VLOOKUP(F128,Price,3,FALSE) -> Замок врізний механічний WC нікель полірований 18x196мм з відповідною планкою та чотирма шурупами 3.5х20мм | I128: =J128*Змiст!$K$4 -> 254.74441 | J128: =IF(Змiст!$K$5>Змiст!$X$21,(K128+K129+K130)*(1-Змiст!$K$5),(K128+K129+K130)*(1-Змiст!$X$21)) -> 8.087124 | K128: =VLOOKUP(G128,Price,2,0)*1.2 -> 6.966 | L128: компл
G129: 911.38.126 | H129: =VLOOKUP(F129,Price,3,FALSE) -> #N/A | I129: =J129*Змiст!$K$4 -> 29.896398 | J129: =IF(Змiст!$K$5>Змiст!$X$21,K129*(1-Змiст!$K$5),K129*(1-Змiст!$X$21)) -> 0.949092 | K129: =VLOOKUP(G129,Price,2,0)*1.2 -> 0.949092
G130: 015.35.656 | H130: =VLOOKUP(F130,Price,3,FALSE) -> #N/A | I130: =J130*Змiст!$K$4 -> 5.419008 | J130: =IF(Змiст!$K$5>Змiст!$X$21,K130*(1-Змiст!$K$5),K130*(1-Змiст!$X$21)) -> 0.172032 | K130: =VLOOKUP(G130,Price,2,0)*1.2*4 -> 0.172032
F131: 911.2X.621 | G131: 911.23.621 | H131: =VLOOKUP(F131,Price,3,FALSE) -> Замок врізний механічний WC хром полірований 18x196мм з відповідною планкою та чотирма шурупами 3.5х20мм | I131: =J131*Змiст!$K$4 -> 254.74441 | J131: =IF(Змiст!$K$5>Змiст!$X$21,(K131+K132+K133)*(1-Змiст!$K$5),(K131+K132+K133)*(1-Змiст!$X$21)) -> 8.087124 | K131: =VLOOKUP(G131,Price,2,0)*1.2 -> 6.966 | L131: компл
G132: 911.38.121 | H132: =VLOOKUP(F132,Price,3,FALSE) -> #N/A | I132: =J132*Змiст!$K$4 -> 29.896398 | J132: =IF(Змiст!$K$5>Змiст!$X$21,K132*(1-Змiст!$K$5),K132*(1-Змiст!$X$21)) -> 0.949092 | K132: =VLOOKUP(G132,Price,2,0)*1.2 -> 0.949092
G133: 015.35.656 | H133: =VLOOKUP(F133,Price,3,FALSE) -> #N/A | I133: =J133*Змiст!$K$4 -> 5.419008 | J133: =IF(Змiст!$K$5>Змiст!$X$21,K133*(1-Змiст!$K$5),K133*(1-Змiст!$X$21)) -> 0.172032 | K133: =VLOOKUP(G133,Price,2,0)*1.2*4 -> 0.172032
...

Sheet Циліндри
A1: 0 | G1: Ваша знижка на дану групу товарів: | I1: =IF(Змiст!$K$5>Змiст!$AP$21,Змiст!$K$5,Змiст!$AP$21) -> 0
D2: Зображення | E2: Колір | F2: Артикул | G2: Назва | H2: Ціна грн. з ПДВ | I2: Ціна євро з ПДВ | K2: Од. | L2: Примітка
F3: 916.59.007 | G3: Циліндр подвійний латунь нікельована матова 31.5/31.5мм | H3: =I3*Змiст!$K$4 -> 430.63348 | I3: =IF(Змiст!$K$5>Змiст!$AP$21,J3*(1-Змiст!$K$5),J3*(1-Змiст!$AP$21)) -> 13.670904 | J3: =VLOOKUP(F3,Price,2,FALSE)*1.2 -> 13.670904 | K3: комплект
F4: 916.59.008 | G4: Подвійний циліндр латунь нікельована матова 35.5/35.5мм | H4: =I4*Змiст!$K$4 -> 443.19895 | I4: =IF(Змiст!$K$5>Змiст!$AP$21,J4*(1-Змiст!$K$5),J4*(1-Змiст!$AP$21)) -> 14.069808 | J4: =VLOOKUP(F4,Price,2,FALSE)*1.2 -> 14.069808 | K4: комплект
F5: 916.91.000 | G5: Циліндр двосторонній латунь нікельований матовий 30.5/30.5мм різне закриття | H5: =I5*Змiст!$K$4 -> 455.61474 | I5: =IF(Змiст!$K$5>Змiст!$AP$21,J5*(1-Змiст!$K$5),J5*(1-Змiст!$AP$21)) -> 14.46396 | J5: =VLOOKUP(F5,Price,2,FALSE)*1.2 -> 14.46396 | K5: комплект
F6: 916.91.040 | G6: Циліндр двосторонній латунь нікельований матовий 33/33мм різне закриття | H6: =I6*Змiст!$K$4 -> 413.03947 | I6: =IF(Змiст!$K$5>Змiст!$AP$21,J6*(1-Змiст!$K$5),J6*(1-Змiст!$AP$21)) -> 13.112364 | J6: =VLOOKUP(F6,Price,2,FALSE)*1.2 -> 13.112364 | K6: комплект
F7: 916.91.800 | G7: Подвійний циліндр латунь нікельована матова 35,5/35,5 мм | H7: =I7*Змiст!$K$4 -> 424.51706 | I7: =IF(Змiст!$K$5>Змiст!$AP$21,J7*(1-Змiст!$K$5),J7*(1-Змiст!$AP$21)) -> 13.476732 | J7: =VLOOKUP(F7,Price,2,FALSE)*1.2 -> 13.476732 | K7: комплект
F8: 916.91.850 | G8: Подвійний циліндр латунь нікельований матовий 43/43 мм | H8: =I8*Змiст!$K$4 -> 445.8253 | I8: =IF(Змiст!$K$5>Змiст!$AP$21,J8*(1-Змiст!$K$5),J8*(1-Змiст!$AP$21)) -> 14.153184 | J8: =VLOOKUP(F8,Price,2,FALSE)*1.2 -> 14.153184 | K8: комплект
F9: 916.91.020 | G9: Циліндр двосторонній латунь полірована 30.5/30.5мм | H9: =I9*Змiст!$K$4 -> 228.29688 | I9: =IF(Змiст!$K$5>Змiст!$AP$21,J9*(1-Змiст!$K$5),J9*(1-Змiст!$AP$21)) -> 7.24752 | J9: =VLOOKUP(F9,Price,2,FALSE)*1.2 -> 7.24752 | K9: комплект
F10: 916.91.070 | G10: Циліндр двосторонній латунь полірована 33/33мм різне закриття | H10: =I10*Змiст!$K$4 -> 399.54298 | I10: =IF(Змiст!$K$5>Змiст!$AP$21,J10*(1-Змiст!$K$5),J10*(1-Змiст!$AP$21)) -> 12.683904 | J10: =VLOOKUP(F10,Price,2,FALSE)*1.2 -> 12.683904 | K10: комплект
F11: 916.91.830 | G11: Циліндр латунь полірована 35.5/35.5мм | H11: =I11*Змiст!$K$4 -> 410.80171 | I11: =IF(Змiст!$K$5>Змiст!$AP$21,J11*(1-Змiст!$K$5),J11*(1-Змiст!$AP$21)) -> 13.041324 | J11: =VLOOKUP(F11,Price,2,FALSE)*1.2 -> 13.041324 | K11: комплект
F12: 916.91.870 | G12: Подвійний циліндр латунь нікельований полірований 43/43 мм | H12: =I12*Змiст!$K$4 -> 448.88332 | I12: =IF(Змiст!$K$5>Змiст!$AP$21,J12*(1-Змiст!$K$5),J12*(1-Змiст!$AP$21)) -> 14.250264 | J12: =VLOOKUP(F12,Price,2,FALSE)*1.2 -> 14.250264 | K12: комплект
F13: 916.91.100 | G13: Циліндр 30,5/30,5 мм, латунь, нікельов. матов. | H13: =I13*Змiст!$K$4 -> 528.97433 | I13: =IF(Змiст!$K$5>Змiст!$AP$21,J13*(1-Змiст!$K$5),J13*(1-Змiст!$AP$21)) -> 16.792836 | J13: =VLOOKUP(F13,Price,2,FALSE)*1.2 -> 16.792836 | K13: комплект
F14: 916.91.180 | G14: Вставка-циліндр з закруткою 35.5/35.5мм, латунь, нік.мат | H14: =I14*Змiст!$K$4 -> 551.49179 | I14: =IF(Змiст!$K$5>Змiст!$AP$21,J14*(1-Змiст!$K$5),J14*(1-Змiст!$AP$21)) -> 17.507676 | J14: =VLOOKUP(F14,Price,2,FALSE)*1.2 -> 17.507676 | K14: комплект
... F74: 916.22.424 | G74: Циліндр з закруткою латунний нікельований 50/50 мм | H74: =I74*Змiст!$K$4 -> 1660.5404 | I74: =IF(Змiст!$K$5>Змiст!$AP$21,J74*(1-Змiст!$K$5),J74*(1-Змiст!$AP$21)) -> 52.715568 | J74: =VLOOKUP(F74,Price,2,FALSE)*1.2 -> 52.715568 | K74: комплект

Sheet Карточні петлі
F1: Ваша знижка на дану групу товарів: | H1: =IF(Змiст!$K$5>Змiст!$BH$21,Змiст!$K$5,Змiст!$BH$21) -> 0
D2: Зображення | E2: Артикул | F2: Назва | G2: Ціна грн. з ПДВ | H2: Ціна євро з ПДВ | J2: Од. | K2: Примітка
E3: 926.90.213 | F3: =VLOOKUP(E3,Price,3,FALSE) -> Петля карточна нержавіюча сталь матова D14мм 102мм вага дверей: 120кг | G3: =H3*Змiст!$K$4 -> 204.33433 | H3: =IF(Змiст!$K$5>Змiст!$BH$21,I3*(1-Змiст!$K$5),I3*(1-Змiст!$BH$21)) -> 6.486804 | I3: =VLOOKUP(E3,Price,2,FALSE)*1.2 -> 6.486804 | J3: шт
E4: 926.90.290 | F4: =VLOOKUP(E4,Price,3,FALSE) -> Петля карточна нержавіюча сталь, латунь полірована D14 мм 102 мм вага дверей: 120 кг | G4: =H4*Змiст!$K$4 -> 312.94091 | H4: =IF(Змiст!$K$5>Змiст!$BH$21,I4*(1-Змiст!$K$5),I4*(1-Змiст!$BH$21)) -> 9.934632 | I4: =VLOOKUP(E4,Price,2,FALSE)*1.2 -> 9.934632 | J4: шт
E5: 926.98.053 | F5: =VLOOKUP(E5,Price,3,FALSE) -> Петля карточна DHB 3221 нержавіюча сталь колір чорний 102х76х3мм | G5: =H5*Змiст!$K$4 -> 273.19421 | H5: =IF(Змiст!$K$5>Змiст!$BH$21,I5*(1-Змiст!$K$5),I5*(1-Змiст!$BH$21)) -> 8.672832 | I5: =VLOOKUP(E5,Price,2,FALSE)*1.2 -> 8.672832 | J5: шт
E6: 926.33.202 | F6: =VLOOKUP(E6,Price,3,FALSE) -> Петля карточна нержавіюча сталь полірована 102x89мм навантаження: 120кг | G6: =H6*Змiст!$K$4 -> 294.29303 | H6: =IF(Змiст!$K$5>Змiст!$BH$21,I6*(1-Змiст!$K$5),I6*(1-Змiст!$BH$21)) -> 9.342636 | I6: =VLOOKUP(E6,Price,2,FALSE)*1.2 -> 9.342636 | J6: шт
E7: 926.98.040 | F7: =VLOOKUP(E7,Price,3,FALSE) -> Петля карточна DHB 3222 нержавіюча сталь колір сатин 102х76х3мм | G7: =H7*Змiст!$K$4 -> 185.04158 | H7: =IF(Змiст!$K$5>Змiст!$BH$21,I7*(1-Змiст!$K$5),I7*(1-Змiст!$BH$21)) -> 5.874336 | I7: =VLOOKUP(E7,Price,2,FALSE)*1.2 -> 5.874336 | J7: шт
E8: 926.90.280 | F8: =VLOOKUP(E8,Price,3,FALSE) -> Петля карточна нержавіюча сталь покриття: латунь полірована 102x76 мм вага дверей: 120кг | G8: =H8*Змiст!$K$4 -> 337.44514 | H8: =IF(Змiст!$K$5>Змiст!$BH$21,I8*(1-Змiст!$K$5),I8*(1-Змiст!$BH$21)) -> 10.712544 | I8: =VLOOKUP(E8,Price,2,FALSE)*1.2 -> 10.712544 | J8: шт
E9: 926.98.043 | F9: =VLOOKUP(E9,Price,3,FALSE) -> Петля карточна DHB 3222 нержавіюча сталь колір чорний 102х76х3мм | G9: =H9*Змiст!$K$4 -> 271.0895 | H9: =IF(Змiст!$K$5>Змiст!$BH$21,I9*(1-Змiст!$K$5),I9*(1-Змiст!$BH$21)) -> 8.606016 | I9: =VLOOKUP(E9,Price,2,FALSE)*1.2 -> 8.606016 | J9: шт
E10: 926.20.503 | F10: =VLOOKUP(E10,Price,3,FALSE) -> Петля карточна ліва нержавіюча сталь матова D12мм 80мм вага дверей: 40кг | G10: =H10*Змiст!$K$4 -> 132.86549 | H10: =IF(Змiст!$K$5>Змiст!$BH$21,I10*(1-Змiст!$K$5),I10*(1-Змiст!$BH$21)) -> 4.217952 | I10: =VLOOKUP(E10,Price,2,FALSE)*1.2 -> 4.217952 | J10: шт
E11: 926.20.403 | F11: =VLOOKUP(E11,Price,3,FALSE) -> Петля карточна права нержавіюча сталь матова D12мм 80мм вага дверей: 40кг | G11: =H11*Змiст!$K$4 -> 132.86549 | H11: =IF(Змiст!$K$5>Змiст!$BH$21,I11*(1-Змiст!$K$5),I11*(1-Змiст!$BH$21)) -> 4.217952 | I11: =VLOOKUP(E11,Price,2,FALSE)*1.2 -> 4.217952 | J11: шт
E12: 926.20.580 | F12: =VLOOKUP(E12,Price,3,FALSE) -> Петля карточна ліва латунь полірована 80х62мм D циліндр/штир 12/7мм товщина: 2.5мм | G12: =H12*Змiст!$K$4 -> 26.908686 | H12: =IF(Змiст!$K$5>Змiст!$BH$21,I12*(1-Змiст!$K$5),I12*(1-Змiст!$BH$21)) -> 0.854244 | I12: =VLOOKUP(E12,Price,2,FALSE)*1.2 -> 0.854244 | J12: шт
E13: 926.20.480 | F13: =VLOOKUP(E13,Price,3,FALSE) -> Петля карточна права латунь полірована 80х62мм D циліндр/штир 12/7мм товщина: 2.5мм | G13: =H13*Змiст!$K$4 -> 131.96207 | H13: =IF(Змiст!$K$5>Змiст!$BH$21,I13*(1-Змiст!$K$5),I13*(1-Змiст!$BH$21)) -> 4.189272 | I13: =VLOOKUP(E13,Price,2,FALSE)*1.2 -> 4.189272 | J13: шт
E14: 926.20.103 | F14: =VLOOKUP(E14,Price,3,FALSE) -> Петля карточна ліва нержавіюча сталь матова D16мм 100мм вага дверей: 68кг | G14: =H14*Змiст!$K$4 -> 192.89378 | H14: =IF(Змiст!$K$5>Змiст!$BH$21,I14*(1-Змiст!$K$5),I14*(1-Змiст!$BH$21)) -> 6.123612 | I14: =VLOOKUP(E14,Price,2,FALSE)*1.2 -> 6.123612 | J14: шт
... E24: 926.25.880 | F24: =VLOOKUP(E24,Price,3,FALSE) -> Петля карточна латунна полірована D14мм 102мм вага дверей: 58кг | G24: =H24*Змiст!$K$4 -> 413.07197 | H24: =IF(Змiст!$K$5>Змiст!$BH$21,I24*(1-Змiст!$K$5),I24*(1-Змiст!$BH$21)) -> 13.113396 | I24: =VLOOKUP(E24,Price,2,FALSE)*1.2 -> 13.113396 | J24: шт

Sheet Петлі для маятникових дверей
F1: Ваша знижка на дану групу товарів: | H1: =IF(Змiст!$K$5>Змiст!$F$38,Змiст!$K$5,Змiст!$F$38) -> 0
D2: Зображення | E2: Артикул | F2: Назва | G2: Ціна грн. з ПДВ | H2: Ціна євро з ПДВ | J2: Од. | K2: Примітка
E3: 927.01.003 | F3: =VLOOKUP(E3,Price,3,FALSE) -> Петля для двостороннього відкривання нержавіюча сталь матова 75 мм | G3: =H3*Змiст!$K$4 -> 2285.4077 | H3: =IF(Змiст!$K$5>Змiст!$F$38,I3*(1-Змiст!$K$5),I3*(1-Змiст!$F$38)) -> 72.552624 | I3: =VLOOKUP(E3,Price,2,FALSE)*1.2 -> 72.552624 | J3: пар
E4: 927.01.070 | F4: =VLOOKUP(E4,Price,3,FALSE) -> Петля для двостороннього відкривання сталева нікельована 75мм D22мм 180 градусів вага дверей: 15кг | G4: =H4*Змiст!$K$4 -> 810.57073 | H4: =IF(Змiст!$K$5>Змiст!$F$38,I4*(1-Змiст!$K$5),I4*(1-Змiст!$F$38)) -> 25.732404 | I4: =VLOOKUP(E4,Price,2,FALSE)*1.2 -> 25.732404 | J4: пар
E5: 927.01.081 | F5: =VLOOKUP(E5,Price,3,FALSE) -> Петля для двостороннього відкривання сталева колір: полірована латунь 75мм D22мм 180 градусів вага дверей: 15кг | G5: =H5*Змiст!$K$4 -> 864.83754 | H5: =IF(Змiст!$K$5>Змiст!$F$38,I5*(1-Змiст!$K$5),I5*(1-Змiст!$F$38)) -> 27.45516 | I5: =VLOOKUP(E5,Price,2,FALSE)*1.2 -> 27.45516 | J5: пар
E6: 927.01.103 | F6: =VLOOKUP(E6,Price,3,FALSE) -> Петля для двостороннього відкривання нержавіюча сталь матова 100 мм | G6: =H6*Змiст!$K$4 -> 3013.2905 | H6: =IF(Змiст!$K$5>Змiст!$F$38,I6*(1-Змiст!$K$5),I6*(1-Змiст!$F$38)) -> 95.660016 | I6: =VLOOKUP(E6,Price,2,FALSE)*1.2 -> 95.660016 | J6: пар
E7: 927.01.170 | F7: =VLOOKUP(E7,Price,3,FALSE) -> Петля для двостороннього відкривання сталева нікельована 100мм D22мм 180 градусів вага дверей: 22кг | G7: =H7*Змiст!$K$4 -> 956.18162 | H7: =IF(Змiст!$K$5>Змiст!$F$38,I7*(1-Змiст!$K$5),I7*(1-Змiст!$F$38)) -> 30.354972 | I7: =VLOOKUP(E7,Price,2,FALSE)*1.2 -> 30.354972 | J7: пар
E8: 927.01.181 | F8: =VLOOKUP(E8,Price,3,FALSE) -> Петля для двостороннього відкривання сталева колір: полірована латунь 100мм D22мм 180 градусів вага дверей: 22кг | G8: =H8*Змiст!$K$4 -> 1050.6604 | H8: =IF(Змiст!$K$5>Змiст!$F$38,I8*(1-Змiст!$K$5),I8*(1-Змiст!$F$38)) -> 33.3543 | I8: =VLOOKUP(E8,Price,2,FALSE)*1.2 -> 33.3543 | J8: пар
E9: 927.01.203 | F9: =VLOOKUP(E9,Price,3,FALSE) -> Петля для двосторон. дверей нержавіюч сталь колір | G9: =H9*Змiст!$K$4 -> 4123.6462 | H9: =IF(Змiст!$K$5>Змiст!$F$38,I9*(1-Змiст!$K$5),I9*(1-Змiст!$F$38)) -> 130.9094 | I9: =VLOOKUP(E9,Price,2,FALSE)*1.2 -> 130.9094 | J9: пар
E10: 927.01.270 | F10: =VLOOKUP(E10,Price,3,FALSE) -> Петля для двостороннього відкривання сталева нікельована 125мм D22мм 180 градусів вага дверей: 27кг | G10: =H10*Змiст!$K$4 -> 1360.3853 | H10: =IF(Змiст!$K$5>Змiст!$F$38,I10*(1-Змiст!$K$5),I10*(1-Змiст!$F$38)) -> 43.186836 | I10: =VLOOKUP(E10,Price,2,FALSE)*1.2 -> 43.186836 | J10: пар
E11: 927.01.281 | F11: =VLOOKUP(E11,Price,3,FALSE) -> Петля для двостороннього відкривання сталева колір: полірована латунь 125мм D22мм 180 градусів вага дверей: 27кг | G11: =H11*Змiст!$K$4 -> 1481.9154 | H11: =IF(Змiст!$K$5>Змiст!$F$38,I11*(1-Змiст!$K$5),I11*(1-Змiст!$F$38)) -> 47.044932 | I11: =VLOOKUP(E11,Price,2,FALSE)*1.2 -> 47.044932 | J11: пар
E12: 927.01.303 | F12: =VLOOKUP(E12,Price,3,FALSE) -> Петля для двостороннього відкривання дверей нержавіюча сталь матова 150мм | G12: =H12*Змiст!$K$4 -> 6990.732 | H12: =IF(Змiст!$K$5>Змiст!$F$38,I12*(1-Змiст!$K$5),I12*(1-Змiст!$F$38)) -> 221.928 | I12: =VLOOKUP(E12,Price,2,FALSE)*1.2 -> 221.928 | J12: пар
E13: 927.01.370 | F13: =VLOOKUP(E13,Price,3,FALSE) -> Петля для двостороннього відкривання сталева нікельована 150мм D26мм 180 градусів вага дверей: 40кг | G13: =H13*Змiст!$K$4 -> 1801.6674 | H13: =IF(Змiст!$K$5>Змiст!$F$38,I13*(1-Змiст!$K$5),I13*(1-Змiст!$F$38)) -> 57.195792 | I13: =VLOOKUP(E13,Price,2,FALSE)*1.2 -> 57.195792 | J13: пар
E14: 927.01.381 | F14: =VLOOKUP(E14,Price,3,FALSE) -> Петля для двостороннього відкривання сталева колір: полірована латунь 150мм D26мм 180 градусів вага дверей: 40кг | G14: =H14*Змiст!$K$4 -> 1965.6669 | H14: =IF(Змiст!$K$5>Змiст!$F$38,I14*(1-Змiст!$K$5),I14*(1-Змiст!$F$38)) -> 62.402124 | I14: =VLOOKUP(E14,Price,2,FALSE)*1.2 -> 62.402124 | J14: пар
... E34: 926.30.019 | F34: =VLOOKUP(E34,Price,3,FALSE) -> Петля для двостороннього відкривання алюм. колір: срібний 180мм D16мм 180 град. вага дверей: 29кг (2 петлі) - 58кг (3 петлі) | G34: =H34*Змiст!$K$4 -> 4051.291 | H34: =IF(Змiст!$K$5>Змiст!$F$38,I34*(1-Змiст!$K$5),I34*(1-Змiст!$F$38)) -> 128.61241 | I34: =VLOOKUP(E34,Price,2,FALSE)*1.2 -> 128.61241 | J34: пар

Sheet Врізні петлі
G1: Ваша знижка на дану групу товарів: | I1: =IF(Змiст!$K$5>Змiст!$X$38,Змiст!$K$5,Змiст!$X$38) -> 0
D2: Зображення | E2: Колір | F2: Артикул | G2: Назва | H2: Ціна грн. з ПДВ | I2: Ціна євро з ПДВ | K2: Од. | L2: Примітка
F3: 922.24.3X2 | G3: Петля 4-х штирева сталева біла оцинкована D14мм 83мм | H3: =IFERROR(I3*Змiст!$K$4,"") -> 64.490202 | I3: =IFERROR(IF(Змiст!$K$5>Змiст!$X$38,J3*(1-Змiст!$K$5),J3*(1-Змiст!$X$38)),"") -> 2.047308 | J3: =VLOOKUP(F3,Price,2,FALSE)*1.2 -> 2.047308 | K3: шт
F4: 922.24.839 | G4: Петля 4-х штирева сталева жовта оцинкована D14мм 83мм | H4: =IFERROR(I4*Змiст!$K$4,"") -> 64.490202 | I4: =IFERROR(IF(Змiст!$K$5>Змiст!$X$38,J4*(1-Змiст!$K$5),J4*(1-Змiст!$X$38)),"") -> 2.047308 | J4: =VLOOKUP(F4,Price,2,FALSE)*1.2 -> 2.047308 | K4: шт
F5: 922.24.390 | G5: Петля 4-х штирева сталева біла оцинкована D16мм 83мм | H5: =IFERROR(I5*Змiст!$K$4,"") -> 107.69598 | I5: =IFERROR(IF(Змiст!$K$5>Змiст!$X$38,J5*(1-Змiст!$K$5),J5*(1-Змiст!$X$38)),"") -> 3.41892 | J5: =VLOOKUP(F5,Price,2,FALSE)*1.2 -> 3.41892 | K5: шт
F6: 922.24.391 | G6: Петля 4-х штирева сталева жовта оцинкована D16мм 83мм | H6: =IFERROR(I6*Змiст!$K$4,"") -> 107.69598 | I6: =IFERROR(IF(Змiст!$K$5>Змiст!$X$38,J6*(1-Змiст!$K$5),J6*(1-Змiст!$X$38)),"") -> 3.41892 | J6: =VLOOKUP(F6,Price,2,FALSE)*1.2 -> 3.41892 | K6: шт
F7: 922.24.490 | G7: Петля 4-х штирева сталева біла оцинкована D20мм 109,5мм | H7: =IFERROR(I7*Змiст!$K$4,"") -> 166.92858 | I7: =IFERROR(IF(Змiст!$K$5>Змiст!$X$38,J7*(1-Змiст!$K$5),J7*(1-Змiст!$X$38)),"") -> 5.29932 | J7: =VLOOKUP(F7,Price,2,FALSE)*1.2 -> 5.29932 | K7: шт
F8: 922.24.491 | G8: Петля 4-х штирева сталева жовта оцинкована D20мм 109,5мм | H8: =IFERROR(I8*Змiст!$K$4,"") -> 166.92858 | I8: =IFERROR(IF(Змiст!$K$5>Змiст!$X$38,J8*(1-Змiст!$K$5),J8*(1-Змiст!$X$38)),"") -> 5.29932 | J8: =VLOOKUP(F8,Price,2,FALSE)*1.2 -> 5.29932 | K8: шт
F9: 922.24.090 | G9: Петля для прикручув. сталь оцинкована D циліндра 13мм вага дверей: 40кг | H9: =IFERROR(I9*Змiст!$K$4,"") -> 12.613104 | I9: =IFERROR(IF(Змiст!$K$5>Змiст!$X$38,J9*(1-Змiст!$K$5),J9*(1-Змiст!$X$38)),"") -> 0.400416 | J9: =VLOOKUP(F9,Price,2,FALSE)*1.2 -> 0.400416 | K9: шт
F10: 922.24.091 | G10: Петля для прикручув. сталь жовт. хром.D циліндра 13мм вага дверей: 40кг | H10: =IFERROR(I10*Змiст!$K$4,"") -> 12.735576 | I10: =IFERROR(IF(Змiст!$K$5>Змiст!$X$38,J10*(1-Змiст!$K$5),J10*(1-Змiст!$X$38)),"") -> 0.404304 | J10: =VLOOKUP(F10,Price,2,FALSE)*1.2 -> 0.404304 | K10: шт
F11: 922.24.190 | G11: Петля для прикручув 2-х штирева сталь біла оцинкована D16мм 54мм | H11: =IFERROR(I11*Змiст!$K$4,"") -> 3.261384 | I11: =IFERROR(IF(Змiст!$K$5>Змiст!$X$38,J11*(1-Змiст!$K$5),J11*(1-Змiст!$X$38)),"") -> 0.103536 | J11: =VLOOKUP(F11,Price,2,FALSE)*1.2 -> 0.103536 | K11: шт
F12: 922.24.191 | G12: Петля для прикручув 2-х штирева сталь жовта хром. D16мм 54мм | H12: =IFERROR(I12*Змiст!$K$4,"") -> 3.26214 | I12: =IFERROR(IF(Змiст!$K$5>Змiст!$X$38,J12*(1-Змiст!$K$5),J12*(1-Змiст!$X$38)),"") -> 0.10356 | J12: =VLOOKUP(F12,Price,2,FALSE)*1.2 -> 0.10356 | K12: шт
F13: 922.24.290 | G13: Петля для прикручув.3-х штирева сталь біла оцинкована D16мм 46.5мм | H13: =IFERROR(I13*Змiст!$K$4,"") -> 65.282112 | I13: =IFERROR(IF(Змiст!$K$5>Змiст!$X$38,J13*(1-Змiст!$K$5),J13*(1-Змiст!$X$38)),"") -> 2.072448 | J13: =VLOOKUP(F13,Price,2,FALSE)*1.2 -> 2.072448 | K13: шт
F14: 922.24.291 | G14: Петля для прикручув.3-х штирева сталь жовта оцинкована D16мм 46.5мм | H14: =IFERROR(I14*Змiст!$K$4,"") -> 6.219234 | I14: =IFERROR(IF(Змiст!$K$5>Змiст!$X$38,J14*(1-Змiст!$K$5),J14*(1-Змiст!$X$38)),"") -> 0.197436 | J14: =VLOOKUP(F14,Price,2,FALSE)*1.2 -> 0.197436 | K14: шт
F15: 922.11.582 | G15: Петля штирева BAKA 1-15 WF ZK до 60 кг сталь колір золотий | H15: =I15*Змiст!$K$4 -> 1594.0086 | I15: =IF(Змiст!$K$5>Змiст!$X$38,J15*(1-Змiст!$K$5),J15*(1-Змiст!$X$38)) -> 50.603448 | J15: =VLOOKUP(F15,Price,2,FALSE)*1.2 -> 50.603448 | K15: шт
H16: =I16*Змiст!$K$4 -> 0 | I16: =IF(Змiст!$K$5>Змiст!$X$38,J16*(1-Змiст!$K$5),J16*(1-Змiст!$X$38)) -> 0
H17: =I17*Змiст!$K$4 -> 0 | I17: =IF(Змiст!$K$5>Змiст!$X$38,J17*(1-Змiст!$K$5),J17*(1-Змiст!$X$38)) -> 0
F18: 922.12.69X | G18: Петля штирева BAKA 2D 20 ZK до 100 кг сталь колір: золото (5 120517 0 03203) | H18: =I18*Змiст!$K$4 -> 2425.4139 | I18: =IF(Змiст!$K$5>Змiст!$X$38,J18*(1-Змiст!$K$5),J18*(1-Змiст!$X$38)) -> 76.997268 | J18: =VLOOKUP(F18,Price,2,FALSE)*1.2 -> 76.997268 | K18: шт
H19: =I19*Змiст!$K$4 -> 0 | I19: =IF(Змiст!$K$5>Змiст!$X$38,J19*(1-Змiст!$K$5),J19*(1-Змiст!$X$38)) -> 0
H20: =I20*Змiст!$K$4 -> 0 | I20: =IF(Змiст!$K$5>Змiст!$X$38,J20*(1-Змiст!$K$5),J20*(1-Змiст!$X$38)) -> 0
F21: 922.12.103 | G21: Петля штирева BAKA 2D 20 MSTS до 100 кг нержавіюча сталь матова 40мм | H21: =I21*Змiст!$K$4 -> 1585.6238 | I21: =IF(Змiст!$K$5>Змiст!$X$38,J21*(1-Змiст!$K$5),J21*(1-Змiст!$X$38)) -> 50.337264 | J21: =VLOOKUP(F21,Price,2,FALSE)*1.2 -> 50.337264 | K21: шт
F22: 922.12.190 | G22: Петля штирева BAKA 2D 20 MSTS до 100 кг сталь оцинкована 40мм (5 080697 0 11006) | H22: =I22*Змiст!$K$4 -> 739.56645 | I22: =IF(Змiст!$K$5>Змiст!$X$38,J22*(1-Змiст!$K$5),J22*(1-Змiст!$X$38)) -> 23.4783 | J22: =VLOOKUP(F22,Price,2,FALSE)*1.2 -> 23.4783 | K22: шт
F23: 922.12.003 | G23: Петля штирева BAKA 2D 20 до 100 кг нержавіюча сталь матова 40мм | H23: =I23*Змiст!$K$4 -> 1489.3434 | I23: =IF(Змiст!$K$5>Змiст!$X$38,J23*(1-Змiст!$K$5),J23*(1-Змiст!$X$38)) -> 47.280744 | J23: =VLOOKUP(F23,Price,2,FALSE)*1.2 -> 47.280744 | K23: шт
F24: 922.12.090 | G24: Петля штирева BAKA 2D 20 до 100 кг сталь оцинкована 40мм | H24: =I24*Змiст!$K$4 -> 600.00167 | I24: =IF(Змiст!$K$5>Змiст!$X$38,J24*(1-Змiст!$K$5),J24*(1-Змiст!$X$38)) -> 19.047672 | J24: =VLOOKUP(F24,Price,2,FALSE)*1.2 -> 19.047672 | K24: шт
F25: 922.12.X01 | G25: Петля штирева BAKA Protect 2010 2D до 120 кг цинк (5 080812 0 11006) | H25: =I25*Змiст!$K$4 -> 880.38052 | I25: =IF(Змiст!$K$5>Змiст!$X$38,J25*(1-Змiст!$K$5),J25*(1-Змiст!$X$38)) -> 27.948588 | J25: =VLOOKUP(F25,Price,2,FALSE)*1.2 -> 27.948588 | K25: шт
F26: 922.12.X02 | G26: Петля штирева BAKA Protect 2010 2D FD до 120 кг цинк (5 080814 0 11006) | H26: =I26*Змiст!$K$4 -> 880.38052 | I26: =IF(Змiст!$K$5>Змiст!$X$38,J26*(1-Змiст!$K$5),J26*(1-Змiст!$X$38)) -> 27.948588 | J26: =VLOOKUP(F26,Price,2,FALSE)*1.2 -> 27.948588 | K26: шт
F27: 922.12.X03 | G27: Петля штирева BAKA Protect 2020 2D до 120 кг цинк (5 080816 0 11006) | H27: =I27*Змiст!$K$4 -> 880.38052 | I27: =IF(Змiст!$K$5>Змiст!$X$38,J27*(1-Змiст!$K$5),J27*(1-Змiст!$X$38)) -> 27.948588 | J27: =VLOOKUP(F27,Price,2,FALSE)*1.2 -> 27.948588 | K27: шт
F28: 922.12.X04 | G28: Петля штирева BAKA Protect 2030 2D FD до 120 кг цинк (5 080818 0 11006) | H28: =I28*Змiст!$K$4 -> 880.38052 | I28: =IF(Змiст!$K$5>Змiст!$X$38,J28*(1-Змiст!$K$5),J28*(1-Змiст!$X$38)) -> 27.948588 | J28: =VLOOKUP(F28,Price,2,FALSE)*1.2 -> 27.948588 | K28: шт
F29: 922.12.X05 | G29: Петля штирева BAKA Protect 2040 2D FD до 120 кг цинк (5 080830 0 11006) | H29: =I29*Змiст!$K$4 -> 573.65167 | I29: =IF(Змiст!$K$5>Змiст!$X$38,J29*(1-Змiст!$K$5),J29*(1-Змiст!$X$38)) -> 18.211164 | J29: =VLOOKUP(F29,Price,2,FALSE)*1.2 -> 18.211164 | K29: шт
F30: 922.13.839 | G30: Петля BAKA PROTECT 4010 3D FD під ущільнювач, без запобіжника сталь оцинкована, в комплекті три шуки | H30: =I30*Змiст!$K$4 -> 4124.8105 | I30: =IF(Змiст!$K$5>Змiст!$X$38,J30*(1-Змiст!$K$5),J30*(1-Змiст!$X$38)) -> 130.94636 | J30: =VLOOKUP(F30,Price,2,FALSE)*1.2 -> 130.94636 | K30: компл
F31: 922.13.830 | G31: Петля BAKA PROTECT 4010 3D FD під ущільнювач, без запобіжника сталь нержавіюча, в комплекті три шуки | H31: =I31*Змiст!$K$4 -> 7663.4745 | I31: =IF(Змiст!$K$5>Змiст!$X$38,J31*(1-Змiст!$K$5),J31*(1-Змiст!$X$38)) -> 243.2849 | J31: =VLOOKUP(F31,Price,2,FALSE)*1.2 -> 243.2849 | K31: компл
F32: 922.13.837 | G32: Петля BAKA PROTECT 4010 3D FD під ущільнювач, без запобіжника сталь колір білий, в комплекті три шуки | H32: =I32*Змiст!$K$4 -> 4673.9133 | I32: =IF(Змiст!$K$5>Змiст!$X$38,J32*(1-Змiст!$K$5),J32*(1-Змiст!$X$38)) -> 148.3782 | J32: =VLOOKUP(F32,Price,2,FALSE)*1.2 -> 148.3782 | K32: компл
... F39: 922.12.X06 | G39: Петля штирева BAKA Protect 4060 3D FD до 160 кг цинк, в комплекті три шуки (5 080856 0 07 185) | H39: =I39*Змiст!$K$4 -> 4801.1655 | I39: =IF(Змiст!$K$5>Змiст!$X$38,J39*(1-Змiст!$K$5),J39*(1-Змiст!$X$38)) -> 152.41795 | J39: =VLOOKUP(F39,Price,2,FALSE)*1.2 -> 152.41795 | K39: компл
H40: =I40*Змiст!$K$4 -> #N/A | I40: =IF(Змiст!$K$5>Змiст!$X$38,J40*(1-Змiст!$K$5),J40*(1-Змiст!$X$38)) -> #N/A | J40: =VLOOKUP(F40,Price,2,FALSE)*1.2 -> #N/A
F41: 922.12.X07 | G41: Петля штирева BAKA Protect 4060 3D FD до 160 кг коричневий, в комплекті три шуки (5 080856 0 11085) | H41: =I41*Змiст!$K$4 -> 5618.9012 | I41: =IF(Змiст!$K$5>Змiст!$X$38,J41*(1-Змiст!$K$5),J41*(1-Змiст!$X$38)) -> 178.37782 | J41: =VLOOKUP(F41,Price,2,FALSE)*1.2 -> 178.37782 | K41: компл
H42: =I42*Змiст!$K$4 -> #N/A | I42: =IF(Змiст!$K$5>Змiст!$X$38,J42*(1-Змiст!$K$5),J42*(1-Змiст!$X$38)) -> #N/A | J42: =VLOOKUP(F42,Price,2,FALSE)*1.2 -> #N/A
F43: 922.15.754 | G43: Ковпачок декоративний №12 до ВАКА 4000 3D пластик нікельований матовий F2 D20мм (5 100680 0 01885) | H43: =IFERROR(I43*Змiст!$K$4,"") -> 384.17992 | I43: =IFERROR(IF(Змiст!$K$5>Змiст!$X$38,J43*(1-Змiст!$K$5),J43*(1-Змiст!$X$38)),"") -> 12.196188 | J43: =VLOOKUP(F43,Price,2,FALSE)*1.2 -> 12.196188 | K43: шт
F44: ххх.хх.ххх | G44: Ковпачок декоративний №12 до ВАКА 4000 3D хромований матовий F1 D20мм (5 100680 0 03785) | H44: =IFERROR(I44*Змiст!$K$4,"") | I44: =IFERROR(IF(Змiст!$K$5>Змiст!$X$38,J44*(1-Змiст!$K$5),J44*(1-Змiст!$X$38)),"") | J44: =VLOOKUP(F44,Price,2,FALSE)*1.2 -> #N/A | K44: шт
F45: 922.15.757 | G45: Ковпачок декоративний №12 до ВАКА 4000 3D пластик колір: білий D20мм (5 100680 0 07085) | H45: =IFERROR(I45*Змiст!$K$4,"") | I45: =IFERROR(IF(Змiст!$K$5>Змiст!$X$38,J45*(1-Змiст!$K$5),J45*(1-Змiст!$X$38)),"") | J45: =VLOOKUP(F45,Price,2,FALSE)*1.2 -> #N/A | K45: шт
F46: 922.15.751 | G46: Ковпачок декоративний №12 до ВАКА 4000 3D пластик колір: коричневий D20мм (5 100680 0 07185) | H46: =IFERROR(I46*Змiст!$K$4,"") -> 304.32742 | I46: =IFERROR(IF(Змiст!$K$5>Змiст!$X$38,J46*(1-Змiст!$K$5),J46*(1-Змiст!$X$38)),"") -> 9.661188 | J46: =VLOOKUP(F46,Price,2,FALSE)*1.2 -> 9.661188 | K46: шт
F47: ххх.хх.ххх | G47: Ковпачок декоративний №12 до ВАКА 4000 3D пластик колір: бронза антік D20мм (5 100680 0 02185) | H47: =IFERROR(I47*Змiст!$K$4,"") | I47: =IFERROR(IF(Змiст!$K$5>Змiст!$X$38,J47*(1-Змiст!$K$5),J47*(1-Змiст!$X$38)),"") | J47: =VLOOKUP(F47,Price,2,FALSE)*1.2 -> #N/A | K47: шт
F48: 922.15.758 | G48: Ковпачок декоративний №12 до ВАКА 4000 3D пластик колір: золото D20мм (5 100680 0 02485) | H48: =IFERROR(I48*Змiст!$K$4,"") -> 346.78174 | I48: =IFERROR(IF(Змiст!$K$5>Змiст!$X$38,J48*(1-Змiст!$K$5),J48*(1-Змiст!$X$38)),"") -> 11.008944 | J48: =VLOOKUP(F48,Price,2,FALSE)*1.2 -> 11.008944 | K48: шт
F49: ххх.хх.ххх | G49: Ковпачок декоративний №11 до ВАКА 2000 2D хромований матовий F1 D20мм (5 100976 0 03703) | H49: =IFERROR(I49*Змiст!$K$4,"") | I49: =IFERROR(IF(Змiст!$K$5>Змiст!$X$38,J49*(1-Змiст!$K$5),J49*(1-Змiст!$X$38)),"") | J49: =VLOOKUP(F49,Price,2,FALSE)*1.2 -> #N/A | K49: шт
F50: ххх.хх.ххх | G50: Ковпачок декоративний №11 до ВАКА 2000 2D пластик колір: бронза антік D20мм (5 100976 0 02103) | H50: =IFERROR(I50*Змiст!$K$4,"") | I50: =IFERROR(IF(Змiст!$K$5>Змiст!$X$38,J50*(1-Змiст!$K$5),J50*(1-Змiст!$X$38)),"") | J50: =VLOOKUP(F50,Price,2,FALSE)*1.2 -> #N/A | K50: шт
F51: ххх.хх.ххх | G51: Ковпачок декоративний №11 до ВАКА 2000 2D пластик колір: коричневий D20мм (5 100976 0 07103) | H51: =IFERROR(I51*Змiст!$K$4,"") | I51: =IFERROR(IF(Змiст!$K$5>Змiст!$X$38,J51*(1-Змiст!$K$5),J51*(1-Змiст!$X$38)),"") | J51: =VLOOKUP(F51,Price,2,FALSE)*1.2 -> #N/A | K51: шт
F52: ххх.хх.ххх | G52: Ковпачок декоративний №11 до ВАКА 2000 2D пластик колір: золото D20мм (5 100976 0 02403) | H52: =IFERROR(I52*Змiст!$K$4,"") | I52: =IFERROR(IF(Змiст!$K$5>Змiст!$X$38,J52*(1-Змiст!$K$5),J52*(1-Змiст!$X$38)),"") | J52: =VLOOKUP(F52,Price,2,FALSE)*1.2 -> #N/A | K52: шт
F53: ххх.хх.ххх | G53: Ковпачок декоративний №11 до ВАКА 2000 2D пластик колір: білий D20мм (5 100976 0 07003) | H53: =IFERROR(I53*Змiст!$K$4,"") | I53: =IFERROR(IF(Змiст!$K$5>Змiст!$X$38,J53*(1-Змiст!$K$5),J53*(1-Змiст!$X$38)),"") | J53: =VLOOKUP(F53,Price,2,FALSE)*1.2 -> #N/A | K53: шт

Sheet Приховані петлі
G1: Ваша знижка на дану групу товарів: | I1: =IF(Змiст!$K$5>Змiст!$AP$38,Змiст!$K$5,Змiст!$AP$38) -> 0
D2: Зображення | E2: Колір | F2: Артикул | G2: Назва | H2: Ціна грн. з ПДВ | I2: Ціна євро з ПДВ | K2: Од. | L2: Примітка
F3: 927.91.664 | G3: Петля прихована "Ä" K1000 3D колір: F1 хромована матова 180° вага дверей: 40/52кг (на дві/три завіси) | H3: =I3*Змiст!$K$4 -> 445.65898 | I3: =IF(Змiст!$K$5>Змiст!$AP$38,J3*(1-Змiст!$K$5),J3*(1-Змiст!$AP$38)) -> 14.147904 | J3: =VLOOKUP(F3,Price,2,FALSE)*1.2 -> 14.147904 | K3: шт | L3: Верхний 40 мм Нижний 24 мм
I4: =IF(Змiст!$K$5>Змiст!$X$38,J4*(1-Змiст!$K$5),J4*(1-Змiст!$X$38)) -> 0
F5: 927.91.666 | G5: Петля прихована "Ä" K1000 3D колір: F2 нікельована матова 180° вага дверей: 40/52кг (на дві/три завіси) | H5: =I5*Змiст!$K$4 -> 445.662 | I5: =IF(Змiст!$K$5>Змiст!$AP$38,J5*(1-Змiст!$K$5),J5*(1-Змiст!$AP$38)) -> 14.148 | J5: =VLOOKUP(F5,Price,2,FALSE)*1.2 -> 14.148 | K5: шт
I6: =IF(Змiст!$K$5>Змiст!$X$38,J6*(1-Змiст!$K$5),J6*(1-Змiст!$X$38)) -> 0
F7: 927.91.667 | G7: Петля прихована "Ä" K1000 3D колір: біла матова 180° вага дверей: 40/52кг (на дві/три завіси) | H7: =I7*Змiст!$K$4 -> 456.624 | I7: =IF(Змiст!$K$5>Змiст!$AP$38,J7*(1-Змiст!$K$5),J7*(1-Змiст!$AP$38)) -> 14.496 | J7: =VLOOKUP(F7,Price,2,FALSE)*1.2 -> 14.496 | K7: шт
F9: 927.91.663 | G9: Петля прихована "Ä" K1000 3D колір: чорний 180° вага дверей: 40/52кг (на дві/три завіси) | H9: =I9*Змiст!$K$4 -> 456.624 | I9: =IF(Змiст!$K$5>Змiст!$AP$38,J9*(1-Змiст!$K$5),J9*(1-Змiст!$AP$38)) -> 14.496 | J9: =VLOOKUP(F9,Price,2,FALSE)*1.2 -> 14.496 | K9: шт
F11: 927.91.074 | G11: Петля прихована K8060 колір: F1 хром матовий180° вага дверей: 60кг (на дві петлі) | H11: =I11*Змiст!$K$4 -> 619.41424 | I11: =IF(Змiст!$K$5>Змiст!$AP$38,J11*(1-Змiст!$K$5),J11*(1-Змiст!$AP$38)) -> 19.663944 | J11: =VLOOKUP(F11,Price,2,FALSE)*1.2 -> 19.663944 | K11: шт
F12: 927.91.073 | G12: Петля прихована K8060 колір: чорний 180° вага дверей: 60кг (на дві петлі) | H12: =I12*Змiст!$K$4 -> 704.26541 | I12: =IF(Змiст!$K$5>Змiст!$AP$38,J12*(1-Змiст!$K$5),J12*(1-Змiст!$AP$38)) -> 22.357632 | J12: =VLOOKUP(F12,Price,2,FALSE)*1.2 -> 22.357632 | K12: шт
F13: 927.91.076 | G13: Петля прихована K8060 колір: F2 нікельована матова 180° вага дверей: 60кг (на дві петлі) | H13: =I13*Змiст!$K$4 -> 619.41424 | I13: =IF(Змiст!$K$5>Змiст!$AP$38,J13*(1-Змiст!$K$5),J13*(1-Змiст!$AP$38)) -> 19.663944 | J13: =VLOOKUP(F13,Price,2,FALSE)*1.2 -> 19.663944 | K13: шт
F14: 927.91.321 | G14: Петля прихована К8000 3D колір: F1 хромована матова 180° вага дверей: 60кг (на дві завіси) | H14: =I14*Змiст!$K$4 -> 536.44513 | I14: =IF(Змiст!$K$5>Змiст!$AP$38,J14*(1-Змiст!$K$5),J14*(1-Змiст!$AP$38)) -> 17.030004 | J14: =VLOOKUP(F14,Price,2,FALSE)*1.2 -> 17.030004 | K14: шт | L14: Верхний 39 мм (А=4) Нижний 26 мм (А=4)
I15: =IF(Змiст!$K$5>Змiст!$X$38,J15*(1-Змiст!$K$5),J15*(1-Змiст!$X$38)) -> #N/A | J15: =VLOOKUP(F15,Price,2,FALSE)*1.2 -> #N/A
F16: 927.91.326 | G16: Петля прихована К8000 3D колір: F2 нікельована матова 180° вага дверей: 60кг (на дві завіси) | H16: =I16*Змiст!$K$4 -> 536.44513 | I16: =IF(Змiст!$K$5>Змiст!$AP$38,J16*(1-Змiст!$K$5),J16*(1-Змiст!$AP$38)) -> 17.030004 | J16: =VLOOKUP(F14,Price,2,FALSE)*1.2 -> 17.030004 | K16: шт
I17: =IF(Змiст!$K$5>Змiст!$X$38,J17*(1-Змiст!$K$5),J17*(1-Змiст!$X$38)) -> #N/A | J17: =VLOOKUP(F17,Price,2,FALSE)*1.2 -> #N/A
F18: 927.91.328 | G18: Петля прихована К8000 3D колір: золото поліроване 180° вага дверей: 60кг (на дві завіси) | H18: =I18*Змiст!$K$4 -> 668.115 | I18: =IF(Змiст!$K$5>Змiст!$AP$38,J18*(1-Змiст!$K$5),J18*(1-Змiст!$AP$38)) -> 21.21 | J18: =VLOOKUP(F18,Price,2,FALSE)*1.2 -> 21.21 | K18: шт
I19: =IF(Змiст!$K$5>Змiст!$X$38,J19*(1-Змiст!$K$5),J19*(1-Змiст!$X$38)) -> #N/A | J19: =VLOOKUP(F19,Price,2,FALSE)*1.2 -> #N/A
F20: 927.91.614 | G20: Петля прихована K2000 колір: F1 хромована матова 180° вага дверей: 60кг | H20: =I20*Змiст!$K$4 -> 3298.9058 | I20: =IF(Змiст!$K$5>Змiст!$AP$38,J20*(1-Змiст!$K$5),J20*(1-Змiст!$AP$38)) -> 104.72717 | J20: =VLOOKUP(F20,Price,2,FALSE)*1.2 -> 104.72717 | K20: шт
I21: =IF(Змiст!$K$5>Змiст!$X$38,J21*(1-Змiст!$K$5),J21*(1-Змiст!$X$38)) -> #N/A | J21: =VLOOKUP(F21,Price,2,FALSE)*1.2 -> #N/A
F22: 927.91.616 | G22: Петля прихована K2000 колір:F2 нікельована матова 180° вага дверей: 60кг | H22: =I22*Змiст!$K$4 -> 3298.9058 | I22: =IF(Змiст!$K$5>Змiст!$AP$38,J22*(1-Змiст!$K$5),J22*(1-Змiст!$AP$38)) -> 104.72717 | J22: =VLOOKUP(F22,Price,2,FALSE)*1.2 -> 104.72717 | K22: шт
I23: =IF(Змiст!$K$5>Змiст!$X$38,J23*(1-Змiст!$K$5),J23*(1-Змiст!$X$38)) -> #N/A | J23: =VLOOKUP(F23,Price,2,FALSE)*1.2 -> #N/A
F24: 927.91.024 | G24: Петля прихована K2400 колір: F1 хромована матова 180° вага дверей: 52кг | H24: =I24*Змiст!$K$4 -> 1512.0495 | I24: =IF(Змiст!$K$5>Змiст!$AP$38,J24*(1-Змiст!$K$5),J24*(1-Змiст!$AP$38)) -> 48.001572 | J24: =VLOOKUP(F24,Price,2,FALSE)*1.2 -> 48.001572 | K24: шт
I25: =IF(Змiст!$K$5>Змiст!$X$38,J25*(1-Змiст!$K$5),J25*(1-Змiст!$X$38)) -> #N/A | J25: =VLOOKUP(F25,Price,2,FALSE)*1.2 -> #N/A
F26: 927.91.026 | G26: Петля прихована K2400 колір:F2 нікельована матова 180° вага дверей: 52кг | H26: =I26*Змiст!$K$4 -> 1624.0532 | I26: =IF(Змiст!$K$5>Змiст!$AP$38,J26*(1-Змiст!$K$5),J26*(1-Змiст!$AP$38)) -> 51.557244 | J26: =VLOOKUP(F26,Price,2,FALSE)*1.2 -> 51.557244 | K26: шт
I27: =IF(Змiст!$K$5>Змiст!$X$38,J27*(1-Змiст!$K$5),J27*(1-Змiст!$X$38)) -> #N/A | J27: =VLOOKUP(F27,Price,2,FALSE)*1.2 -> #N/A
F28: 927.91.654 | G28: Петля прихована К2700 3D колір: F1 хромована матова 180° вага дверей: 60кг | H28: =I28*Змiст!$K$4 -> 1100.3429 | I28: =IF(Змiст!$K$5>Змiст!$AP$38,J28*(1-Змiст!$K$5),J28*(1-Змiст!$AP$38)) -> 34.93152 | J28: =VLOOKUP(F28,Price,2,FALSE)*1.2 -> 34.93152 | K28: шт
I29: =IF(Змiст!$K$5>Змiст!$X$38,J29*(1-Змiст!$K$5),J29*(1-Змiст!$X$38)) -> 0
F30: 927.91.5XX | G30: Петля прихована К2700 3D колір: золото поліроване 180° вага дверей: 60кг | H30: =I30*Змiст!$K$4 -> 1287.4483 | I30: =IF(Змiст!$K$5>Змiст!$AP$38,J30*(1-Змiст!$K$5),J30*(1-Змiст!$AP$38)) -> 40.871376 | J30: =VLOOKUP(F30,Price,2,FALSE)*1.2 -> 40.871376 | K30: шт
I31: =IF(Змiст!$K$5>Змiст!$X$38,J31*(1-Змiст!$K$5),J31*(1-Змiст!$X$38)) -> 0
F32: 927.91.036 | G32: Петля приховна K3000 3D колір: F2 нікельована матова 180° вага дверей: 45/60 кг | H32: =I32*Змiст!$K$4 -> 1767.9196 | I32: =IF(Змiст!$K$5>Змiст!$AP$38,J32*(1-Змiст!$K$5),J32*(1-Змiст!$AP$38)) -> 56.124432 | J32: =VLOOKUP(F32,Price,2,FALSE)*1.2 -> 56.124432 | K32: шт
I33: =IF(Змiст!$K$5>Змiст!$X$38,J33*(1-Змiст!$K$5),J33*(1-Змiст!$X$38)) -> 0
H34: =I34*Змiст!$K$4 -> #N/A | I34: =IF(Змiст!$K$5>Змiст!$AP$38,J34*(1-Змiст!$K$5),J34*(1-Змiст!$AP$38)) -> #N/A | J34: =VLOOKUP(F34,Price,2,FALSE)*1.2 -> #N/A
I35: =IF(Змiст!$K$5>Змiст!$X$38,J35*(1-Змiст!$K$5),J35*(1-Змiст!$X$38)) -> 0
F36: 927.91.044 | G36: Петля прихована К5080 колір: F1 хромована матова 180° вага дверей: 80кг (на дві завіси) | H36: =I36*Змiст!$K$4 -> 1264.667 | I36: =IF(Змiст!$K$5>Змiст!$AP$38,J36*(1-Змiст!$K$5),J36*(1-Змiст!$AP$38)) -> 40.14816 | J36: =VLOOKUP(F36,Price,2,FALSE)*1.2 -> 40.14816 | K36: шт
I37: =IF(Змiст!$K$5>Змiст!$X$38,J37*(1-Змiст!$K$5),J37*(1-Змiст!$X$38)) -> #N/A | J37: =VLOOKUP(F37,Price,2,FALSE)*1.2 -> #N/A
F38: 927.91.046 | G38: Петля прихована К5080 колір:F2 нікельована матова 180° вага дверей: 80кг (на дві завіси) | H38: =I38*Змiст!$K$4 -> 1274.6523 | I38: =IF(Змiст!$K$5>Змiст!$AP$38,J38*(1-Змiст!$K$5),J38*(1-Змiст!$AP$38)) -> 40.465152 | J38: =VLOOKUP(F38,Price,2,FALSE)*1.2 -> 40.465152 | K38: шт
I39: =IF(Змiст!$K$5>Змiст!$X$38,J39*(1-Змiст!$K$5),J39*(1-Змiст!$X$38)) -> #N/A | J39: =VLOOKUP(F39,Price,2,FALSE)*1.2 -> #N/A
F40: 927.91.544 | G40: Петля прихована К6200 3D колір: F1 хромована матова 180° вага дверей: 60кг (на три завіси) | H40: =I40*Змiст!$K$4 -> 815.724 | I40: =IF(Змiст!$K$5>Змiст!$AP$38,J40*(1-Змiст!$K$5),J40*(1-Змiст!$AP$38)) -> 25.896 | J40: =VLOOKUP(F40,Price,2,FALSE)*1.2 -> 25.896 | K40: шт
F41: 927.91.546 | G41: Петля прихована К6200 3D колір: F2 нікельована матова 180° вага дверей: 60кг (на три завіси) | H41: =I41*Змiст!$K$4 -> 855.036 | I41: =IF(Змiст!$K$5>Змiст!$AP$38,J41*(1-Змiст!$K$5),J41*(1-Змiст!$AP$38)) -> 27.144 | J41: =VLOOKUP(F41,Price,2,FALSE)*1.2 -> 27.144 | K41: шт
F42: 927.91.548 | G42: Петля прихована К6200 3D цамак колір: золото поліроване 180° вага дверей: 60кг (на три завіси) | H42: =I42*Змiст!$K$4 -> 995.274 | I42: =IF(Змiст!$K$5>Змiст!$AP$38,J42*(1-Змiст!$K$5),J42*(1-Змiст!$AP$38)) -> 31.596 | J42: =VLOOKUP(F42,Price,2,FALSE)*1.2 -> 31.596 | K42: шт
F43: 927.91.224 | G43: Петля прихована К6300 F1 хромована матова 180° вага дверей: 60кг (на три завіси) | H43: =I43*Змiст!$K$4 -> 1151.388 | I43: =IF(Змiст!$K$5>Змiст!$AP$38,J43*(1-Змiст!$K$5),J43*(1-Змiст!$AP$38)) -> 36.552 | J43: =VLOOKUP(F43,Price,2,FALSE)*1.2 -> 36.552 | K43: шт
F44: 927.91.22X | G44: Петля прихована К6300 F2 нікельована матова 180° вага дверей: 60кг (на три завіси) | H44: =I44*Змiст!$K$4 -> 1736.0569 | I44: =IF(Змiст!$K$5>Змiст!$AP$38,J44*(1-Змiст!$K$5),J44*(1-Змiст!$AP$38)) -> 55.112916 | J44: =VLOOKUP(F44,Price,2,FALSE)*1.2 -> 55.112916 | K44: шт
F45: 927.91.554 | G45: Петля прихована К6700 3D колір: F1 хромована матова 180° вага дверей: 70кг (на три завіси) | H45: =I45*Змiст!$K$4 -> 970.326 | I45: =IF(Змiст!$K$5>Змiст!$AP$38,J45*(1-Змiст!$K$5),J45*(1-Змiст!$AP$38)) -> 30.804 | J45: =VLOOKUP(F45,Price,2,FALSE)*1.2 -> 30.804 | K45: шт
F46: 927.91.556 | G46: Петля прихована К6700 3D колір: F2 нікельована матова 180° вага дверей: 70кг (на три завіси) | H46: =I46*Змiст!$K$4 -> 970.326 | I46: =IF(Змiст!$K$5>Змiст!$AP$38,J46*(1-Змiст!$K$5),J46*(1-Змiст!$AP$38)) -> 30.804 | J46: =VLOOKUP(F46,Price,2,FALSE)*1.2 -> 30.804 | K46: шт
F47: 927.91.558 | G47: Петля прихована К6700 3D колір: золото поліроване 180° вага дверей: 70кг (на три завіси) | H47: =I47*Змiст!$K$4 -> 1143.45 | I47: =IF(Змiст!$K$5>Змiст!$AP$38,J47*(1-Змiст!$K$5),J47*(1-Змiст!$AP$38)) -> 36.3 | J47: =VLOOKUP(F47,Price,2,FALSE)*1.2 -> 36.3 | K47: шт
F48: 927.91.604 | G48: Петля прихована К7000 F1 хромована матова 180° вага дверей: 50кг | H48: =I48*Змiст!$K$4 -> 1195.8121 | I48: =IF(Змiст!$K$5>Змiст!$AP$38,J48*(1-Змiст!$K$5),J48*(1-Змiст!$AP$38)) -> 37.962288 | J48: =VLOOKUP(F48,Price,2,FALSE)*1.2 -> 37.962288 | K48: шт
F49: 927.91.606 | G49: Петля прихована К7000 F2 нікельована матова 180° вага дверей: 50кг | H49: =I49*Змiст!$K$4 -> 1745.2245 | I49: =IF(Змiст!$K$5>Змiст!$AP$38,J49*(1-Змiст!$K$5),J49*(1-Змiст!$AP$38)) -> 55.403952 | J49: =VLOOKUP(F49,Price,2,FALSE)*1.2 -> 55.403952 | K49: шт
F50: 927.91.634 | G50: Петля прихована К7080 3D колір: F1 хромована матова 180° вага дверей: 80кг | H50: =I50*Змiст!$K$4 -> 1919.4084 | I50: =IF(Змiст!$K$5>Змiст!$AP$38,J50*(1-Змiст!$K$5),J50*(1-Змiст!$AP$38)) -> 60.9336 | J50: =VLOOKUP(F50,Price,2,FALSE)*1.2 -> 60.9336 | K50: шт
F51: 927.91.636 | G51: Петля прихована К7080 3D колір: F2 нікельована матова 180° вага дверей: 80кг | H51: =I51*Змiст!$K$4 -> 2779.4306 | I51: =IF(Змiст!$K$5>Змiст!$AP$38,J51*(1-Змiст!$K$5),J51*(1-Змiст!$AP$38)) -> 88.235892 | J51: =VLOOKUP(F51,Price,2,FALSE)*1.2 -> 88.235892 | K51: шт
... F57: 927.91.90X | G57: Універсальний фрезерний шаблон "Krona Koblenz" | H57: =I57*Змiст!$K$4 -> 12417.798 | I57: =IF(Змiст!$K$5>Змiст!$AP$38,J57*(1-Змiст!$K$5),J57*(1-Змiст!$AP$38)) -> 394.21582 | J57: =VLOOKUP(F57,Price,2,FALSE)*1.2 -> 394.21582 | K57: шт
F58: 927.91.91X | G58: Фрезерний шаблон для дверної петлі К1000 (Фреза, Ø = 16 мм) | H58: =I58*Змiст!$K$4 -> 457.38983 | I58: =IF(Змiст!$K$5>Змiст!$AP$38,J58*(1-Змiст!$K$5),J58*(1-Змiст!$AP$38)) -> 14.520312 | J58: =VLOOKUP(F58,Price,2,FALSE)*1.2 -> 14.520312 | K58: шт | L58: https://www.youtube.com/watch?v=qDRpud0gCJM
F59: 927.91.96X | G59: Фрезерний шаблон для дверної петлі К2400 (Фреза, Ø = 16 мм) | H59: =I59*Змiст!$K$4 -> 242.47755 | I59: =IF(Змiст!$K$5>Змiст!$AP$38,J59*(1-Змiст!$K$5),J59*(1-Змiст!$AP$38)) -> 7.6977 | J59: =VLOOKUP(F59,Price,2,FALSE)*1.2 -> 7.6977 | K59: шт
F60: 927.91.92X | G60: Фрезерний шаблон для дверної петлі К2700 (Фреза, Ø = 16 мм) | H60: =I60*Змiст!$K$4 -> 242.47755 | I60: =IF(Змiст!$K$5>Змiст!$AP$38,J60*(1-Змiст!$K$5),J60*(1-Змiст!$AP$38)) -> 7.6977 | J60: =VLOOKUP(F60,Price,2,FALSE)*1.2 -> 7.6977 | K60: шт
F61: 927.91.97X | G61: Фрезерний шаблон для дверної петлі К3000 (Фреза, Ø = 16 мм) | H61: =I61*Змiст!$K$4 -> 242.47755 | I61: =IF(Змiст!$K$5>Змiст!$AP$38,J61*(1-Змiст!$K$5),J61*(1-Змiст!$AP$38)) -> 7.6977 | J61: =VLOOKUP(F61,Price,2,FALSE)*1.2 -> 7.6977 | K61: шт
F62: 927.91.98X | G62: Фрезерний шаблон для дверної петлі К5080 (Фреза, Ø = 16 мм) | H62: =I62*Змiст!$K$4 -> 242.47755 | I62: =IF(Змiст!$K$5>Змiст!$AP$38,J62*(1-Змiст!$K$5),J62*(1-Змiст!$AP$38)) -> 7.6977 | J62: =VLOOKUP(F62,Price,2,FALSE)*1.2 -> 7.6977 | K62: шт
F63: 927.91.93X | G63: Фрезерний шаблон для дверної петлі К6200 (Фреза, Ø = 16 мм) | H63: =I63*Змiст!$K$4 -> 242.47755 | I63: =IF(Змiст!$K$5>Змiст!$AP$38,J63*(1-Змiст!$K$5),J63*(1-Змiст!$AP$38)) -> 7.6977 | J63: =VLOOKUP(F63,Price,2,FALSE)*1.2 -> 7.6977 | K63: шт
F64: 927.91.94X | G64: Фрезерний шаблон для дверної петлі К6300 (Фреза, Ø = 12 мм) | H64: =I64*Змiст!$K$4 -> 932.60916 | I64: =IF(Змiст!$K$5>Змiст!$AP$38,J64*(1-Змiст!$K$5),J64*(1-Змiст!$AP$38)) -> 29.60664 | J64: =VLOOKUP(F64,Price,2,FALSE)*1.2*2 -> 29.60664 | K64: шт
F65: 927.91.99X | G65: Фрезерний шаблон для дверної петлі К6400 (Фреза, Ø = 16 мм) | H65: =I65*Змiст!$K$4 -> 242.47755 | I65: =IF(Змiст!$K$5>Змiст!$AP$38,J65*(1-Змiст!$K$5),J65*(1-Змiст!$AP$38)) -> 7.6977 | J65: =VLOOKUP(F65,Price,2,FALSE)*1.2 -> 7.6977 | K65: шт
F66: 927.91.95X | G66: Фрезерний шаблон для дверної петлі К6700 (Фреза, Ø = 16 мм) | H66: =I66*Змiст!$K$4 -> 457.33691 | I66: =IF(Змiст!$K$5>Змiст!$AP$38,J66*(1-Змiст!$K$5),J66*(1-Змiст!$AP$38)) -> 14.518632 | J66: =VLOOKUP(F66,Price,2,FALSE)*1.2 -> 14.518632 | K66: шт
F67: 927.91.9X1 | G67: Фрезерний шаблон для дверної петлі К7000 (Фреза, Ø = 16 мм) | H67: =I67*Змiст!$K$4 -> 242.47755 | I67: =IF(Змiст!$K$5>Змiст!$AP$38,J67*(1-Змiст!$K$5),J67*(1-Змiст!$AP$38)) -> 7.6977 | J67: =VLOOKUP(F67,Price,2,FALSE)*1.2 -> 7.6977 | K67: шт
F68: 927.91.9X2 | G68: Фрезерний шаблон для дверної петлі К7080 (Фреза, Ø = 16 мм) | H68: =I68*Змiст!$K$4 -> 242.47755 | I68: =IF(Змiст!$K$5>Змiст!$AP$38,J68*(1-Змiст!$K$5),J68*(1-Змiст!$AP$38)) -> 7.6977 | J68: =VLOOKUP(F68,Price,2,FALSE)*1.2 -> 7.6977 | K68: шт
F69: 927.91.9X3 | G69: Фрезерний шаблон для дверної петлі К8000 (Фреза, Ø = 16 мм) | H69: =I69*Змiст!$K$4 -> 408.40254 | I69: =IF(Змiст!$K$5>Змiст!$AP$38,J69*(1-Змiст!$K$5),J69*(1-Змiст!$AP$38)) -> 12.96516 | J69: =VLOOKUP(F69,Price,2,FALSE)*1.2 -> 12.96516 | K69: шт
F70: 924.17.161 | G70: Петля прихована TECTUS TE 205 3D алюміній колір: срібний F2, вага дверей: 40 кг | H70: =I70*Змiст!$K$4 -> 1590.1806 | I70: =IF(Змiст!$K$5>Змiст!$AP$38,J70*(1-Змiст!$K$5),J70*(1-Змiст!$AP$38)) -> 50.481924 | J70: =VLOOKUP(F70,Price,2,FALSE)*1.2 -> 50.481924 | K70: шт
F71: 924.17.160 | G71: Петля прихована TECTUS TE 205 3D алюміній колір: нержавіюча сталь, вага дверей: 40 кг | H71: =I71*Змiст!$K$4 -> 2094.8858 | I71: =IF(Змiст!$K$5>Змiст!$AP$38,J71*(1-Змiст!$K$5),J71*(1-Змiст!$AP$38)) -> 66.504312 | J71: =VLOOKUP(F71,Price,2,FALSE)*1.2 -> 66.504312 | K71: шт
F72: 924.18.921 | G72: Петля прихована TECTUS TE 240 3D N алюміній колір: срібний F1, вага дверей: 60 кг | H72: =I72*Змiст!$K$4 -> 1500.1444 | I72: =IF(Змiст!$K$5>Змiст!$AP$38,J72*(1-Змiст!$K$5),J72*(1-Змiст!$AP$38)) -> 47.623632 | J72: =VLOOKUP(F72,Price,2,FALSE)*1.2 -> 47.623632 | K72: шт
F73: 924.18.922 | G73: Петля прихована TECTUS TE 240 3D N алюміній колір: срібний F2, вага дверей: 60 кг | H73: =I73*Змiст!$K$4 -> 1500.1444 | I73: =IF(Змiст!$K$5>Змiст!$AP$38,J73*(1-Змiст!$K$5),J73*(1-Змiст!$AP$38)) -> 47.623632 | J73: =VLOOKUP(F73,Price,2,FALSE)*1.2 -> 47.623632 | K73: шт
F74: 924.18.904 | G74: Петля прихована TECTUS TE 240 3D N алюміній колір: нержавіюча сталь, вага дверей: 60 кг | H74: =I74*Змiст!$K$4 -> 2145.1269 | I74: =IF(Змiст!$K$5>Змiст!$AP$38,J74*(1-Змiст!$K$5),J74*(1-Змiст!$AP$38)) -> 68.099268 | J74: =VLOOKUP(F74,Price,2,FALSE)*1.2 -> 68.099268 | K74: шт
F75: 924.17.0X4 | G75: Петля прихована TECTUS TE 240 3D алюміній колір: стара бронза, вага дверей: 40 кг | H75: =I75*Змiст!$K$4 -> 2381.8959 | I75: =IF(Змiст!$K$5>Змiст!$AP$38,J75*(1-Змiст!$K$5),J75*(1-Змiст!$AP$38)) -> 75.615744 | J75: =VLOOKUP(F75,Price,2,FALSE)*1.2 -> 75.615744 | K75: шт
F76: 924.17.0X3 | G76: Петля прихована TECTUS TE 240 3D алюміній колір: латунь полірована, вага дверей: 40 кг | H76: =I76*Змiст!$K$4 -> 3553.4291 | I76: =IF(Змiст!$K$5>Змiст!$AP$38,J76*(1-Змiст!$K$5),J76*(1-Змiст!$AP$38)) -> 112.80727 | J76: =VLOOKUP(F76,Price,2,FALSE)*1.2 -> 112.80727 | K76: шт
F77: 924.17.141 | G77: Петля прихована TECTUS TE 305 3D алюміній колір: срібний F1, вага дверей: 80 кг | H77: =I77*Змiст!$K$4 -> 1922.1965 | I77: =IF(Змiст!$K$5>Змiст!$AP$38,J77*(1-Змiст!$K$5),J77*(1-Змiст!$AP$38)) -> 61.022112 | J77: =VLOOKUP(F77,Price,2,FALSE)*1.2 -> 61.022112 | K77: шт
H78: =I78*Змiст!$K$4 -> #N/A | I78: =IF(Змiст!$K$5>Змiст!$AP$38,J78*(1-Змiст!$K$5),J78*(1-Змiст!$AP$38)) -> #N/A | J78: =VLOOKUP(F78,Price,2,FALSE)*1.2 -> #N/A
F79: 924.17.140 | G79: Петля прихована TECTUS TE 305 3D алюміній колір:нержавіюча сталь, вага дверей: 80 кг | H79: =I79*Змiст!$K$4 -> 2406.3431 | I79: =IF(Змiст!$K$5>Змiст!$AP$38,J79*(1-Змiст!$K$5),J79*(1-Змiст!$AP$38)) -> 76.391844 | J79: =VLOOKUP(F79,Price,2,FALSE)*1.2 -> 76.391844 | K79: шт
H80: =I80*Змiст!$K$4 -> #N/A | I80: =IF(Змiст!$K$5>Змiст!$AP$38,J80*(1-Змiст!$K$5),J80*(1-Змiст!$AP$38)) -> #N/A | J80: =VLOOKUP(F80,Price,2,FALSE)*1.2 -> #N/A
F81: 924.19.0X2 | G81: Петля прихована TE 311 3D FVZ 40 алюміній колір: хром матовий F1, вага дверей: 60 кг | H81: =I81*Змiст!$K$4 -> 2085.5957 | I81: =IF(Змiст!$K$5>Змiст!$AP$38,J81*(1-Змiст!$K$5),J81*(1-Змiст!$AP$38)) -> 66.209388 | J81: =VLOOKUP(F81,Price,2,FALSE)*1.2 -> 66.209388 | K81: шт
H82: =I82*Змiст!$K$4 -> #N/A | I82: =IF(Змiст!$K$5>Змiст!$AP$38,J82*(1-Змiст!$K$5),J82*(1-Змiст!$AP$38)) -> #N/A | J82: =VLOOKUP(F82,Price,2,FALSE)*1.2 -> #N/A
F83: 924.19.0X3 | G83: Петля прихована TE 311 3D FVZ 44 алюміній колір: хром матовий F1, вага дверей: 60 кг | H83: =I83*Змiст!$K$4 -> 2085.5957 | I83: =IF(Змiст!$K$5>Змiст!$AP$38,J83*(1-Змiст!$K$5),J83*(1-Змiст!$AP$38)) -> 66.209388 | J83: =VLOOKUP(F83,Price,2,FALSE)*1.2 -> 66.209388 | K83: шт
H84: =I84*Змiст!$K$4 -> #N/A | I84: =IF(Змiст!$K$5>Змiст!$AP$38,J84*(1-Змiст!$K$5),J84*(1-Змiст!$AP$38)) -> #N/A | J84: =VLOOKUP(F84,Price,2,FALSE)*1.2 -> #N/A
F85: 924.17.121 | G85: Петля прихована TECTUS TE 340 3D алюміній колір: срібний F1, вага дверей: 80 кг | H85: =I85*Змiст!$K$4 -> 1680.6942 | I85: =IF(Змiст!$K$5>Змiст!$AP$38,J85*(1-Змiст!$K$5),J85*(1-Змiст!$AP$38)) -> 53.355372 | J85: =VLOOKUP(F85,Price,2,FALSE)*1.2 -> 53.355372 | K85: шт
F86: 924.17.122 | G86: Петля прихована TECTUS TE 340 3D алюміній колір: срібний F2, вага дверей: 80 кг | H86: =I86*Змiст!$K$4 -> 1718.0425 | I86: =IF(Змiст!$K$5>Змiст!$AP$38,J86*(1-Змiст!$K$5),J86*(1-Змiст!$AP$38)) -> 54.541032 | J86: =VLOOKUP(F86,Price,2,FALSE)*1.2 -> 54.541032 | K86: шт
F87: 924.17.104 | G87: Петля прихована TECTUS TE 340 3D алюміній колір: нержавіюча сталь, вага дверей: 80 кг | H87: =I87*Змiст!$K$4 -> 2372.4255 | I87: =IF(Змiст!$K$5>Змiст!$AP$38,J87*(1-Змiст!$K$5),J87*(1-Змiст!$AP$38)) -> 75.315096 | J87: =VLOOKUP(F87,Price,2,FALSE)*1.2 -> 75.315096 | K87: шт
F88: 924.17.10X | G88: Петля прихована TECTUS TE 340 3D бронза металік (16802), вага дверей: 80 кг | H88: =I88*Змiст!$K$4 -> 2555.28 | I88: =IF(Змiст!$K$5>Змiст!$AP$38,J88*(1-Змiст!$K$5),J88*(1-Змiст!$AP$38)) -> 81.12 | J88: =VLOOKUP(F88,Price,2,FALSE)*1.2 -> 81.12 | K88: шт
F89: 924.17.12X | G89: Петля прихована TECTUS TE 340 3D латунь полірована, вага дверей: 80 кг | H89: =I89*Змiст!$K$4 -> 3800.192 | I89: =IF(Змiст!$K$5>Змiст!$AP$38,J89*(1-Змiст!$K$5),J89*(1-Змiст!$AP$38)) -> 120.64102 | J89: =VLOOKUP(F89,Price,2,FALSE)*1.2 -> 120.64102 | K89: шт
F90: 924.17.221 | G90: Петля прихована TECTUS TE 540 3D алюміній колір: срібний F1, вага дверей: 120 кг | H90: =I90*Змiст!$K$4 -> 2918.4771 | I90: =IF(Змiст!$K$5>Змiст!$AP$38,J90*(1-Змiст!$K$5),J90*(1-Змiст!$AP$38)) -> 92.650068 | J90: =VLOOKUP(F90,Price,2,FALSE)*1.2 -> 92.650068 | K90: шт
F91: 924.17.222 | G91: Петля прихована TECTUS TE 540 3D алюміній колір: срібний F2, вага дверей: 120 кг | H91: =I91*Змiст!$K$4 -> 3376.3255 | I91: =IF(Змiст!$K$5>Змiст!$AP$38,J91*(1-Змiст!$K$5),J91*(1-Змiст!$AP$38)) -> 107.18494 | J91: =VLOOKUP(F91,Price,2,FALSE)*1.2 -> 107.18494 | K91: шт
F92: 924.17.204 | G92: Петля прихована TECTUS TE 540 3D алюміній колір: нержавіюча сталь, вага дверей: 120 кг | H92: =I92*Змiст!$K$4 -> 4238.1647 | I92: =IF(Змiст!$K$5>Змiст!$AP$38,J92*(1-Змiст!$K$5),J92*(1-Змiст!$AP$38)) -> 134.54491 | J92: =VLOOKUP(F92,Price,2,FALSE)*1.2 -> 134.54491 | K92: шт
F93: 924.17.421 | G93: Петля прихована TECTUS TE 640 3D алюміній колір: срібний F1, вага дверей: 200 кг | H93: =I93*Змiст!$K$4 -> 4469.4244 | I93: =IF(Змiст!$K$5>Змiст!$AP$38,J93*(1-Змiст!$K$5),J93*(1-Змiст!$AP$38)) -> 141.88649 | J93: =VLOOKUP(F93,Price,2,FALSE)*1.2 -> 141.88649 | K93: шт
F94: 924.17.422 | G94: Петля прихована TECTUS TE 640 3D алюміній колір: срібний (новий), вага дверей: 200 кг | H94: =I94*Змiст!$K$4 -> 4512.8169 | I94: =IF(Змiст!$K$5>Змiст!$AP$38,J94*(1-Змiст!$K$5),J94*(1-Змiст!$AP$38)) -> 143.26403 | J94: =VLOOKUP(F94,Price,2,FALSE)*1.2 -> 143.26403 | K94: шт
F95: 924.17.404 | G95: Петля прихована TECTUS TE 640 3D алюміній колір: нержавіюча сталь, вага дверей: 200 кг | H95: =I95*Змiст!$K$4 -> 5630.3659 | I95: =IF(Змiст!$K$5>Змiст!$AP$38,J95*(1-Змiст!$K$5),J95*(1-Змiст!$AP$38)) -> 178.74178 | J95: =VLOOKUP(F95,Price,2,FALSE)*1.2 -> 178.74178 | K95: шт
F96: 927.91.43X | G96: Петля прихована TECTUS TE 640 3D алюміній колір: стара бронза, вага дверей: 200 кг | H96: =I96*Змiст!$K$4 -> 4881.898 | I96: =IF(Змiст!$K$5>Змiст!$AP$38,J96*(1-Змiст!$K$5),J96*(1-Змiст!$AP$38)) -> 154.98089 | J96: =VLOOKUP(F96,Price,2,FALSE)*1.2 -> 154.98089 | K96: шт
... F103: 924.19.0X4 | G103: Петля прихована TECTUS TE 680 3D FD для фальцованих дверей алюміній колір: срібний F1, вага дверей: 160 кг | H103: =I103*Змiст!$K$4 -> 3760.7458 | I103: =IF(Змiст!$K$5>Змiст!$AP$38,J103*(1-Змiст!$K$5),J103*(1-Змiст!$AP$38)) -> 119.38876 | J103: =VLOOKUP(F103,Price,2,FALSE)*1.2 -> 119.38876 | K103: шт
H104: =I104*Змiст!$K$4 -> 0 | I104: =IF(Змiст!$K$5>Змiст!$AP$38,J104*(1-Змiст!$K$5),J104*(1-Змiст!$AP$38)) -> 0
F105: 924.17.60X | G105: Універсальний фрезерний шаблон "Simonswerk" | H105: =I105*Змiст!$K$4 -> 26650.716 | I105: =IF(Змiст!$K$5>Змiст!$AP$38,J105*(1-Змiст!$K$5),J105*(1-Змiст!$AP$38)) -> 846.05447 | J105: =VLOOKUP(F105,Price,2,FALSE)*1.2 -> 846.05447 | K105: шт
F106: 924.17.600 | G106: Фрезерний шаблон до петлі TECTUS TE 240 3D для дверного полотна | H106: =I106*Змiст!$K$4 -> 3641.2706 | I106: =IF(Змiст!$K$5>Змiст!$AP$38,J106*(1-Змiст!$K$5),J106*(1-Змiст!$AP$38)) -> 115.59589 | J106: =VLOOKUP(F106,Price,2,FALSE)*1.2 -> 115.59589 | K106: шт
F107: 924.17.601 | G107: Фрезерний шаблон до петлі TECTUS TE 240 3D для дверної коробки | H107: =I107*Змiст!$K$4 -> 3641.2706 | I107: =IF(Змiст!$K$5>Змiст!$AP$38,J107*(1-Змiст!$K$5),J107*(1-Змiст!$AP$38)) -> 115.59589 | J107: =VLOOKUP(F107,Price,2,FALSE)*1.2 -> 115.59589 | K107: шт
F108: 924.17.611 | G108: Фрезерний шаблон, ступінь 1, TECTUS TE 340 3D | H108: =I108*Змiст!$K$4 -> 3326.9889 | I108: =IF(Змiст!$K$5>Змiст!$AP$38,J108*(1-Змiст!$K$5),J108*(1-Змiст!$AP$38)) -> 105.6187 | J108: =VLOOKUP(F108,Price,2,FALSE)*1.2 -> 105.6187 | K108: шт
F109: 924.17.612 | G109: Фрезерний шаблон, ступінь 2, TECTUS TE 340 3D | H109: =I109*Змiст!$K$4 -> 3326.9889 | I109: =IF(Змiст!$K$5>Змiст!$AP$38,J109*(1-Змiст!$K$5),J109*(1-Змiст!$AP$38)) -> 105.6187 | J109: =VLOOKUP(F109,Price,2,FALSE)*1.2 -> 105.6187 | K109: шт
F110: 924.17.621 | G110: Фрезерний шаблон, ступінь 1, TECTUS TE 540 3D | H110: =I110*Змiст!$K$4 -> 3326.9889 | I110: =IF(Змiст!$K$5>Змiст!$AP$38,J110*(1-Змiст!$K$5),J110*(1-Змiст!$AP$38)) -> 105.6187 | J110: =VLOOKUP(F110,Price,2,FALSE)*1.2 -> 105.6187 | K110: шт
F111: 924.17.622 | G111: Фрезерний шаблон, ступінь 2, TECTUS TE 540 3D | H111: =I111*Змiст!$K$4 -> 3326.9889 | I111: =IF(Змiст!$K$5>Змiст!$AP$38,J111*(1-Змiст!$K$5),J111*(1-Змiст!$AP$38)) -> 105.6187 | J111: =VLOOKUP(F111,Price,2,FALSE)*1.2 -> 105.6187 | K111: шт
F112: 924.17.623 | G112: Фрезерний шаблон, ступінь 3, TECTUS TE 540 3D A8 | H112: =I112*Змiст!$K$4 -> 6920.1367 | I112: =IF(Змiст!$K$5>Змiст!$AP$38,J112*(1-Змiст!$K$5),J112*(1-Змiст!$AP$38)) -> 219.68688 | J112: =VLOOKUP(F112,Price,2,FALSE)*1.2*2 -> 219.68688 | K112: шт
F113: 924.17.632 | G113: Фрезерний шаблон, ступінь 2, TECTUS TE 640 3D | H113: =I113*Змiст!$K$4 -> 3460.0684 | I113: =IF(Змiст!$K$5>Змiст!$AP$38,J113*(1-Змiст!$K$5),J113*(1-Змiст!$AP$38)) -> 109.84344 | J113: =VLOOKUP(F113,Price,2,FALSE)*1.2 -> 109.84344 | K113: шт
...

Sheet Дверні доводчики
F1: Ваша знижка на дану групу товарів: | H1: =IF(Змiст!$K$5>Змiст!$BH$38,Змiст!$K$5,Змiст!$BH$38) -> 0
D2: Зображення | E2: Артикул | F2: Назва | G2: Ціна грн. з ПДВ | H2: Ціна євро з ПДВ | J2: Од. | K2: Примітка
E3: 931.84.649 | F3: Доводчик DCL 11 EN (3) без фіксації колір: срібний, ширина дверного полотна <950мм, вага: <60кг | G3: =H3*Змiст!$K$4 -> 1165.1665 | H3: =IF(Змiст!$K$5>Змiст!$BH$38,I3*(1-Змiст!$K$5),I3*(1-Змiст!$BH$38)) -> 36.989412 | I3: =VLOOKUP(E3,Price,2,FALSE)*1.2 -> 36.989412 | J3: комплект
E4: 931.84.659 | F4: Доводчик DCL 12 з фіксацією колір: срібний. Ширина дверного полотна <950 мм, вага двері <60 кг | G4: =H4*Змiст!$K$4 -> 1647.5965 | H4: =IF(Змiст!$K$5>Змiст!$BH$38,I4*(1-Змiст!$K$5),I4*(1-Змiст!$BH$38)) -> 52.304652 | I4: =VLOOKUP(E4,Price,2,FALSE)*1.2 -> 52.304652 | J4: комплект
E5: 931.84.229 | F5: Доводчик DCL 110 ,без фіксації колір: срібний. Ширина дверного полотна <950 мм, вага двері <60 кг | G5: =H5*Змiст!$K$4 -> 1238.4149 | H5: =IF(Змiст!$K$5>Змiст!$BH$38,I5*(1-Змiст!$K$5),I5*(1-Змiст!$BH$38)) -> 39.31476 | I5: =VLOOKUP(E5,Price,2,FALSE)*1.2 -> 39.31476 | J5: комплект
E6: 931.84.239 | F6: Доводчик DCL 110 з фіксацією колір: срібний. Ширина дверного полотна <950 мм, вага двері <60 кг | G6: =H6*Змiст!$K$4 -> 1698.2931 | H6: =IF(Змiст!$K$5>Змiст!$BH$38,I6*(1-Змiст!$K$5),I6*(1-Змiст!$BH$38)) -> 53.914068 | I6: =VLOOKUP(E6,Price,2,FALSE)*1.2 -> 53.914068 | J6: комплект
E7: 931.84.629 | F7: Доводчик DCL 16 без фіксації колір: срібний. Ширина дверного полотна <1100 мм, вага двері <60 кг | G7: =H7*Змiст!$K$4 -> 1915.5596 | H7: =IF(Змiст!$K$5>Змiст!$BH$38,I7*(1-Змiст!$K$5),I7*(1-Змiст!$BH$38)) -> 60.811416 | I7: =VLOOKUP(E7,Price,2,FALSE)*1.2 -> 60.811416 | J7: комплект
E8: 931.84.639 | F8: Доводчик DCL 16 з фіксацією колір: срібний. Ширина дверного полотна <1100 мм, вага двері <60 кг | G8: =H8*Змiст!$K$4 -> 2371.8241 | H8: =IF(Змiст!$K$5>Змiст!$BH$38,I8*(1-Змiст!$K$5),I8*(1-Змiст!$BH$38)) -> 75.296004 | I8: =VLOOKUP(E8,Price,2,FALSE)*1.2 -> 75.296004 | J8: комплект
E9: 931.84.829 | F9: Доводчик DCL 51 EN (2-5) без фіксації колір: срібний. Ширина дверного полотна <1250 мм, вага двері <100 кг | G9: =H9*Змiст!$K$4 -> 3224.3181 | H9: =IF(Змiст!$K$5>Змiст!$BH$38,I9*(1-Змiст!$K$5),I9*(1-Змiст!$BH$38)) -> 102.3593 | I9: =VLOOKUP(E9,Price,2,FALSE)*1.2 -> 102.3593 | J9: комплект
E10: 931.84.669 | F10: Доводчик DCL 51 EN (2-5) з фіксацією колір: срібний. Ширина дверного полотна <1250 мм, вага двері <100 кг | G10: =H10*Змiст!$K$4 -> 3298.4223 | H10: =IF(Змiст!$K$5>Змiст!$BH$38,I10*(1-Змiст!$K$5),I10*(1-Змiст!$BH$38)) -> 104.71182 | I10: =VLOOKUP(E10,Price,2,FALSE)*1.2 -> 104.71182 | J10: комплект
E11: 931.84.769 | F11: Доводчик дверний DCL 55 EN (2-6) без фіксації колір: сріблястий. Ширина дверного полотна <1400 мм, вага двері <150 кг | G11: =H11*Змiст!$K$4 -> 5331.45 | H11: =IF(Змiст!$K$5>Змiст!$BH$38,I11*(1-Змiст!$K$5),I11*(1-Змiст!$BH$38)) -> 169.25238 | I11: =VLOOKUP(E11,Price,2,FALSE)*1.2 -> 169.25238 | J11: комплект
E12: 931.84.819 | F12: Доводчик дверний DCL 55 EN (2-6) з фіксації колір: сріблястий. Ширина дверного полотна <1400 мм, вага двері <150 кг | G12: =H12*Змiст!$K$4 -> 5881.5783 | H12: =IF(Змiст!$K$5>Змiст!$BH$38,I12*(1-Змiст!$K$5),I12*(1-Змiст!$BH$38)) -> 186.71677 | I12: =VLOOKUP(E12,Price,2,FALSE)*1.2 -> 186.71677 | J12: комплект
E13: 931.84.139 | F13: Доводчик DCL 61 EN (2-4) без фіксації колір: срібний. Ширина дверного полотна <1100 мм, вага двері <80 кг | G13: =H13*Змiст!$K$4 -> 3447.2908 | H13: =IF(Змiст!$K$5>Змiст!$BH$38,I13*(1-Змiст!$K$5),I13*(1-Змiст!$BH$38)) -> 109.4378 | I13: =VLOOKUP(E13,Price,2,FALSE)*1.2 -> 109.4378 | J13: комплект
E14: 931.84.119 | F14: Доводчик DCL 61 EN (2-4) з фіксації колір: срібний. Ширина дверного полотна <1100 мм, вага двері <80 кг | G14: =H14*Змiст!$K$4 -> 3555.9205 | H14: =IF(Змiст!$K$5>Змiст!$BH$38,I14*(1-Змiст!$K$5),I14*(1-Змiст!$BH$38)) -> 112.88636 | I14: =VLOOKUP(E14,Price,2,FALSE)*1.2 -> 112.88636 | J14: комплект
... E28: 931.90.428 | F28: Доводчик для фальцованих дверей колір: латунь 2 ланцюги | G28: =H28*Змiст!$K$4 -> 12221.998 | H28: =IF(Змiст!$K$5>Змiст!$BH$38,I28*(1-Змiст!$K$5),I28*(1-Змiст!$BH$38)) -> 387.99992 | I28: =VLOOKUP(E28,Price,2,FALSE)*1.2 -> 387.99992 | J28: комплект

Sheet Ущільнювачі і пороги
F1: Ваша знижка на дану групу товарів: | H1: =IF(Змiст!$K$5>Змiст!$F$55,Змiст!$K$5,Змiст!$F$55) -> 0
D2: Зображення | E2: Артикул | F2: Назва | G2: Ціна грн. з ПДВ | H2: Ціна євро з ПДВ | J2: Од. | K2: Примітка
E3: 950.09.552 | F3: Ущільнювач для міжкімнатних дверей TPE (S 6577a) темно-коричневий (25 м) | G3: =IFERROR((H3)*Змiст!$K$4/25,"") -> 31.884905 | H3: =IFERROR(IF(Змiст!$K$5>Змiст!$F$55,I3*(1-Змiст!$K$5),I3*(1-Змiст!$F$55)),"") -> 25.30548 | I3: =VLOOKUP(E3,Price,2,FALSE)*1.2 -> 25.30548 | J3: 25 м | K3: Мінімальне замовлення 25 м
E4: 950.09.X01 | F4: Ущільнювач Deventer M 3967 для міжкімнатних дверей PVC прозорий (50м) | G4: =IFERROR((H4)*Змiст!$K$4/25,"") -> 0.65077992 | H4: =IFERROR(IF(Змiст!$K$5>Змiст!$F$55,I4*(1-Змiст!$K$5),I4*(1-Змiст!$F$55)),"") -> 0.516492 | I4: =VLOOKUP(E4,Price,2,FALSE)*1.2 -> 0.516492 | J4: м | K4: Мінімальне замовлення 50 м
E5: 950.09.X02 | F5: Ущільнювач Deventer M 3967 для міжкімнатних дверей PVC бежевий (50м) | G5: =IFERROR((H5)*Змiст!$K$4/25,"") -> 0.65077992 | H5: =IFERROR(IF(Змiст!$K$5>Змiст!$F$55,I5*(1-Змiст!$K$5),I5*(1-Змiст!$F$55)),"") -> 0.516492 | I5: =VLOOKUP(E5,Price,2,FALSE)*1.2 -> 0.516492 | J5: м | K5: Мінімальне замовлення 50 м
E6: 950.09.X03 | F6: Ущільнювач Deventer M 3967 для міжкімнатних дверей PVC, колір: білий (50м) | G6: =IFERROR((H6)*Змiст!$K$4/25,"") -> 0.65077992 | H6: =IFERROR(IF(Змiст!$K$5>Змiст!$F$55,I6*(1-Змiст!$K$5),I6*(1-Змiст!$F$55)),"") -> 0.516492 | I6: =VLOOKUP(E6,Price,2,FALSE)*1.2 -> 0.516492 | J6: м | K6: Мінімальне замовлення 50 м
E7: 950.09.X04 | F7: Ущільнювач Deventer M 3967 для міжкімнатних дверей PVC, колір: коричневий (50м) | G7: =IFERROR((H7)*Змiст!$K$4/25,"") -> 0.65077992 | H7: =IFERROR(IF(Змiст!$K$5>Змiст!$F$55,I7*(1-Змiст!$K$5),I7*(1-Змiст!$F$55)),"") -> 0.516492 | I7: =VLOOKUP(E7,Price,2,FALSE)*1.2 -> 0.516492 | J7: м | K7: Мінімальне замовлення 50 м
F8: Ущільнювач Deventer M 3967 для міжкімнатних дверей PVC, колір: темно-коричн.(50м) | G8: =IFERROR((H8)*Змiст!$K$4/25,"") | H8: =IFERROR(IF(Змiст!$K$5>Змiст!$F$55,I8*(1-Змiст!$K$5),I8*(1-Змiст!$F$55)),"") | I8: =VLOOKUP(E8,Price,2,FALSE)*1.2 -> #N/A | J8: м | K8: Мінімальне замовлення 50 м
F9: Ущільнювач Deventer M 3967 для міжкімнатних дверей PVC, колір: чорний (50м) | G9: =IFERROR((H9)*Змiст!$K$4/25,"") | H9: =IFERROR(IF(Змiст!$K$5>Змiст!$F$55,I9*(1-Змiст!$K$5),I9*(1-Змiст!$F$55)),"") | I9: =VLOOKUP(E9,Price,2,FALSE)*1.2 -> #N/A | J9: м | K9: Мінімальне замовлення 50 м
E10: 950.10.X05 | F10: Ущільнювач Deventer M 7292 для міжкімнатних дверей PVC, колір: бежевий (50м) | G10: =IFERROR((H10)*Змiст!$K$4/25,"") -> 0.62754048 | H10: =IFERROR(IF(Змiст!$K$5>Змiст!$F$55,I10*(1-Змiст!$K$5),I10*(1-Змiст!$F$55)),"") -> 0.498048 | I10: =VLOOKUP(E10,Price,2,FALSE)*1.2 -> 0.498048 | J10: м | K10: Мінімальне замовлення 50 м
E11: 950.10.1XX | F11: Ущільнювач Deventer M 7292 для міжкімн.дверей PVC, колір: прозор.(50м) | G11: =IFERROR((H11)*Змiст!$K$4/25,"") -> 0.62754048 | H11: =IFERROR(IF(Змiст!$K$5>Змiст!$F$55,I11*(1-Змiст!$K$5),I11*(1-Змiст!$F$55)),"") -> 0.498048 | I11: =VLOOKUP(E11,Price,2,FALSE)*1.2 -> 0.498048 | J11: м | K11: Мінімальне замовлення 50 м
E12: 950.10.2XX | F12: Ущільнювач Deventer M 7292 для міжкімнатних дверей PVC, колір: білий (50м) | G12: =IFERROR((H12)*Змiст!$K$4/25,"") -> 0.62754048 | H12: =IFERROR(IF(Змiст!$K$5>Змiст!$F$55,I12*(1-Змiст!$K$5),I12*(1-Змiст!$F$55)),"") -> 0.498048 | I12: =VLOOKUP(E12,Price,2,FALSE)*1.2 -> 0.498048 | J12: м | K12: Мінімальне замовлення 50 м
E13: 950.10.3XX | F13: Ущільнювач Deventer M 7292 для міжкімн.дверей PVC, колір: темно-коричн.(50м) | G13: =IFERROR((H13)*Змiст!$K$4/25,"") -> 0.62754048 | H13: =IFERROR(IF(Змiст!$K$5>Змiст!$F$55,I13*(1-Змiст!$K$5),I13*(1-Змiст!$F$55)),"") -> 0.498048 | I13: =VLOOKUP(E13,Price,2,FALSE)*1.2 -> 0.498048 | J13: м | K13: Мінімальне замовлення 50 м
F14: Ущільнювач Deventer M 7292 для міжкімнатних дверей PVC, колір: коричневий (50м) | G14: =IFERROR((H14)*Змiст!$K$4/25,"") | H14: =IFERROR(IF(Змiст!$K$5>Змiст!$F$55,I14*(1-Змiст!$K$5),I14*(1-Змiст!$F$55)),"") | I14: =VLOOKUP(E14,Price,2,FALSE)*1.2 -> #N/A | J14: м | K14: Мінімальне замовлення 50 м
F15: Ущільнювач Deventer M 7292 для міжкімн.дверей PVC, колір: чорний (50м) | G15: =IFERROR((H15)*Змiст!$K$4/25,"") | H15: =IFERROR(IF(Змiст!$K$5>Змiст!$F$55,I15*(1-Змiст!$K$5),I15*(1-Змiст!$F$55)),"") | I15: =VLOOKUP(E15,Price,2,FALSE)*1.2 -> #N/A | J15: м | K15: Мінімальне замовлення 50 м
E16: 950.07.X36 | F16: Ущільнювач Deventer S 6577 для міжкімн.дверей ТПЕ, колір: темно-коричн.(200м) | G16: =IFERROR((H16)*Змiст!$K$4/25,"") -> 0.80154144 | H16: =IFERROR(IF(Змiст!$K$5>Змiст!$F$55,I16*(1-Змiст!$K$5),I16*(1-Змiст!$F$55)),"") -> 0.636144 | I16: =VLOOKUP(E16,Price,2,FALSE)*1.2 -> 0.636144 | J16: м | K16: Мінімальне замовлення 200 м
E17: 950.07.X37 | F17: Ущільнювач Deventer S 6577 для міжкімнатних дверей ТПЕ, колір: білий (200м) | G17: =IFERROR((H17)*Змiст!$K$4/25,"") -> 0.80154144 | H17: =IFERROR(IF(Змiст!$K$5>Змiст!$F$55,I17*(1-Змiст!$K$5),I17*(1-Змiст!$F$55)),"") -> 0.636144 | I17: =VLOOKUP(E17,Price,2,FALSE)*1.2 -> 0.636144 | J17: м | K17: Мінімальне замовлення 200 м
E18: 950.09.X05 | F18: Ущільнювач Deventer S 6577 для міжкімнатних дверей ТПЕ, колір: бежевий (200м) | G18: =IFERROR((H18)*Змiст!$K$4/25,"") -> 0.86566536 | H18: =IFERROR(IF(Змiст!$K$5>Змiст!$F$55,I18*(1-Змiст!$K$5),I18*(1-Змiст!$F$55)),"") -> 0.687036 | I18: =VLOOKUP(E18,Price,2,FALSE)*1.2 -> 0.687036 | J18: м | K18: Мінімальне замовлення 200 м
F19: Ущільнювач Deventer S 6577 для міжкімнатних дверей ТПЕ, колір: коричневий (200м) | G19: =IFERROR((H19)*Змiст!$K$4/25,"") | H19: =IFERROR(IF(Змiст!$K$5>Змiст!$F$55,I19*(1-Змiст!$K$5),I19*(1-Змiст!$F$55)),"") | I19: =VLOOKUP(E19,Price,2,FALSE)*1.2 -> #N/A | J19: м | K19: Мінімальне замовлення 200 м
F20: Ущільнювач Deventer S 6577 для міжкімнатних дверей ТПЕ, колір: чорний (200м) | G20: =IFERROR((H20)*Змiст!$K$4/25,"") | H20: =IFERROR(IF(Змiст!$K$5>Змiст!$F$55,I20*(1-Змiст!$K$5),I20*(1-Змiст!$F$55)),"") | I20: =VLOOKUP(E20,Price,2,FALSE)*1.2 -> #N/A | J20: м | K20: Мінімальне замовлення 200 м
F21: Ущільнювач Deventer S 6577 для міжкімнатних дверей ТПЕ, колір: прозор. (200м) | G21: =IFERROR((H21)*Змiст!$K$4/25,"") | H21: =IFERROR(IF(Змiст!$K$5>Змiст!$F$55,I21*(1-Змiст!$K$5),I21*(1-Змiст!$F$55)),"") | I21: =VLOOKUP(E21,Price,2,FALSE)*1.2 -> #N/A | J21: м | K21: Мінімальне замовлення 200 м
E22: 950.07.X93 | F22: Ущільнювач Deventer S 6612 для міжкімнатних та вхідних дверей ТПЕ, колір: білий (50м) | G22: =IFERROR((H22)*Змiст!$K$4/25,"") -> 0.86769144 | H22: =IFERROR(IF(Змiст!$K$5>Змiст!$F$55,I22*(1-Змiст!$K$5),I22*(1-Змiст!$F$55)),"") -> 0.688644 | I22: =VLOOKUP(E22,Price,2,FALSE)*1.2 -> 0.688644 | J22: м | K22: Мінімальне замовлення 50 м
E23: 950.07.9XX | F23: Ущільнювач Deventer S 6612 для міжкімнатних та вхідних дверей ТПЕ, колір: темно-коричн.(50м) | G23: =IFERROR((H23)*Змiст!$K$4/25,"") -> 0.86769144 | H23: =IFERROR(IF(Змiст!$K$5>Змiст!$F$55,I23*(1-Змiст!$K$5),I23*(1-Змiст!$F$55)),"") -> 0.688644 | I23: =VLOOKUP(E23,Price,2,FALSE)*1.2 -> 0.688644 | J23: м | K23: Мінімальне замовлення 50 м
F24: Ущільнювач Deventer S 6612 для міжкімнатних та вхідних дверей ТПЕ, колір: бежевий (50м) | G24: =IFERROR((H24)*Змiст!$K$4/25,"") | H24: =IFERROR(IF(Змiст!$K$5>Змiст!$F$55,I24*(1-Змiст!$K$5),I24*(1-Змiст!$F$55)),"") | I24: =VLOOKUP(E24,Price,2,FALSE)*1.2 -> #N/A | J24: м | K24: Мінімальне замовлення 50 м
F25: Ущільнювач Deventer S 6612 для міжкімнатних та вхідних дверей ТПЕ, колір: коричневий (50м) | G25: =IFERROR((H25)*Змiст!$K$4/25,"") | H25: =IFERROR(IF(Змiст!$K$5>Змiст!$F$55,I25*(1-Змiст!$K$5),I25*(1-Змiст!$F$55)),"") | I25: =VLOOKUP(E25,Price,2,FALSE)*1.2 -> #N/A | J25: м | K25: Мінімальне замовлення 50 м
F26: Ущільнювач Deventer S 6612 для міжкімнатних та вхідних дверей ТПЕ, колір: чорний (50м) | G26: =IFERROR((H26)*Змiст!$K$4/25,"") | H26: =IFERROR(IF(Змiст!$K$5>Змiст!$F$55,I26*(1-Змiст!$K$5),I26*(1-Змiст!$F$55)),"") | I26: =VLOOKUP(E26,Price,2,FALSE)*1.2 -> #N/A | J26: м | K26: Мінімальне замовлення 50 м
F27: Ущільнювач Deventer S 6612 для міжкімнатних та вхідних дверей ТПЕ, колір: прозор. (50м) | G27: =IFERROR((H27)*Змiст!$K$4/25,"") | H27: =IFERROR(IF(Змiст!$K$5>Змiст!$F$55,I27*(1-Змiст!$K$5),I27*(1-Змiст!$F$55)),"") | I27: =VLOOKUP(E27,Price,2,FALSE)*1.2 -> #N/A | J27: м | K27: Мінімальне замовлення 50 м
E28: 950.09.73X | F28: Ущільнювач Deventer SV 12 для міжкімнатних та вхідних дверей ТПЕ, колір: бежевий (200м) | G28: =IFERROR((H28)*Змiст!$K$4/25,"") -> 0.81347112 | H28: =IFERROR(IF(Змiст!$K$5>Змiст!$F$55,I28*(1-Змiст!$K$5),I28*(1-Змiст!$F$55)),"") -> 0.645612 | I28: =VLOOKUP(E28,Price,2,FALSE)*1.2 -> 0.645612 | J28: м | K28: Мінімальне замовлення 200 м
E29: 950.09.70X | F29: Ущільнювач Deventer SV 12 для міжкімнатних та вхідних дверей ТПЕ, колір: білий (200м) | G29: =IFERROR((H29)*Змiст!$K$4/25,"") -> 0.81347112 | H29: =IFERROR(IF(Змiст!$K$5>Змiст!$F$55,I29*(1-Змiст!$K$5),I29*(1-Змiст!$F$55)),"") -> 0.645612 | I29: =VLOOKUP(E29,Price,2,FALSE)*1.2 -> 0.645612 | J29: м | K29: Мінімальне замовлення 200 м
E30: 950.09.72X | F30: Ущільнювач Deventer SV 12 для міжкімнатних та вхідних дверей ТПЕ, колір: темно-коричн. (200м) | G30: =IFERROR((H30)*Змiст!$K$4/25,"") -> 0.77473368 | H30: =IFERROR(IF(Змiст!$K$5>Змiст!$F$55,I30*(1-Змiст!$K$5),I30*(1-Змiст!$F$55)),"") -> 0.614868 | I30: =VLOOKUP(E30,Price,2,FALSE)*1.2 -> 0.614868 | J30: м | K30: Мінімальне замовлення 200 м
E31: 950.09.X57 | F31: Ущільнювач Deventer SV 12 для міжкімнатних та вхідних дверей ТПЕ, колір: сірий (200м) | G31: =IFERROR((H31)*Змiст!$K$4/25,"") -> 0.81347112 | H31: =IFERROR(IF(Змiст!$K$5>Змiст!$F$55,I31*(1-Змiст!$K$5),I31*(1-Змiст!$F$55)),"") -> 0.645612 | I31: =VLOOKUP(E31,Price,2,FALSE)*1.2 -> 0.645612 | J31: м | K31: Мінімальне замовлення 200 м
F32: Ущільнювач Deventer SV 12 для міжкімнатних та вхідних дверей ТПЕ, колір: коричневий (200м) | G32: =IFERROR((H32)*Змiст!$K$4/25,"") | H32: =IFERROR(IF(Змiст!$K$5>Змiст!$F$55,I32*(1-Змiст!$K$5),I32*(1-Змiст!$F$55)),"") | I32: =VLOOKUP(E32,Price,2,FALSE)*1.2 -> #N/A | J32: м | K32: Мінімальне замовлення 200 м
F33: Ущільнювач Deventer SV 12 для міжкімнатних та вхідних дверей ТПЕ, колір: чорний (200м) | G33: =IFERROR((H33)*Змiст!$K$4/25,"") | H33: =IFERROR(IF(Змiст!$K$5>Змiст!$F$55,I33*(1-Змiст!$K$5),I33*(1-Змiст!$F$55)),"") | I33: =VLOOKUP(E33,Price,2,FALSE)*1.2 -> #N/A | J33: м | K33: Мінімальне замовлення 200 м
E34: 950.09.51X | F34: Ущільнювач Deventer SV 155 для міжкімнатних та вхідних дверей ТПЕ, колір: темно-коричн.(150м) | G34: =IFERROR((H34)*Змiст!$K$4/25,"") -> 1.2827808 | H34: =IFERROR(IF(Змiст!$K$5>Змiст!$F$55,I34*(1-Змiст!$K$5),I34*(1-Змiст!$F$55)),"") -> 1.01808 | I34: =VLOOKUP(E34,Price,2,FALSE)*1.2 -> 1.01808 | J34: м | K34: Мінімальне замовлення 150 м
E35: 950.09.52X | F35: Ущільнювач Deventer SV 155 для міжкімнатних та вхідних дверей ТПЕ, колір: білий (150м) | G35: =IFERROR((H35)*Змiст!$K$4/25,"") -> 1.2827808 | H35: =IFERROR(IF(Змiст!$K$5>Змiст!$F$55,I35*(1-Змiст!$K$5),I35*(1-Змiст!$F$55)),"") -> 1.01808 | I35: =VLOOKUP(E35,Price,2,FALSE)*1.2 -> 1.01808 | J35: м | K35: Мінімальне замовлення 150 м
E36: 950.09.X53 | F36: Ущільнювач Deventer SV 155 для міжкімнатних та вхідних дверей ТПЕ, колір: бежевий (150м) | G36: =IFERROR((H36)*Змiст!$K$4/25,"") -> 1.2827808 | H36: =IFERROR(IF(Змiст!$K$5>Змiст!$F$55,I36*(1-Змiст!$K$5),I36*(1-Змiст!$F$55)),"") -> 1.01808 | I36: =VLOOKUP(E36,Price,2,FALSE)*1.2 -> 1.01808 | J36: м | K36: Мінімальне замовлення 150 м
F37: Ущільнювач Deventer SV 155 для міжкімнатних та вхідних дверей ТПЕ, колір: коричневий (150м) | G37: =IFERROR((H37)*Змiст!$K$4/25,"") | H37: =IFERROR(IF(Змiст!$K$5>Змiст!$F$55,I37*(1-Змiст!$K$5),I37*(1-Змiст!$F$55)),"") | I37: =VLOOKUP(E37,Price,2,FALSE)*1.2 -> #N/A | J37: м | K37: Мінімальне замовлення 150 м
F38: Ущільнювач Deventer SV 155 для міжкімнатних та вхідних дверей ТПЕ, колір: чорний (150м) | G38: =IFERROR((H38)*Змiст!$K$4/25,"") | H38: =IFERROR(IF(Змiст!$K$5>Змiст!$F$55,I38*(1-Змiст!$K$5),I38*(1-Змiст!$F$55)),"") | I38: =VLOOKUP(E38,Price,2,FALSE)*1.2 -> #N/A | J38: м | K38: Мінімальне замовлення 150 м
F39: Ущільнювач Deventer SV 155 для міжкімнатних та вхідних дверей ТПЕ, колір: сірий (150м) | G39: =IFERROR((H39)*Змiст!$K$4/25,"") | H39: =IFERROR(IF(Змiст!$K$5>Змiст!$F$55,I39*(1-Змiст!$K$5),I39*(1-Змiст!$F$55)),"") | I39: =VLOOKUP(E39,Price,2,FALSE)*1.2 -> #N/A | J39: м | K39: Мінімальне замовлення 150 м
E40: 950.09.92X | F40: Ущільнювач Deventer SV 185 для міжкімнатних та вхідних дверей ТПЕ, колір: темно-коричн.(150м) | G40: =IFERROR((H40)*Змiст!$K$4/25,"") -> 1.3259786 | H40: =IFERROR(IF(Змiст!$K$5>Змiст!$F$55,I40*(1-Змiст!$K$5),I40*(1-Змiст!$F$55)),"") -> 1.052364 | I40: =VLOOKUP(E40,Price,2,FALSE)*1.2 -> 1.052364 | J40: м | K40: Мінімальне замовлення 150 м
E41: 950.09.93X | F41: Ущільнювач Deventer SV 185 для міжкімнатних та вхідних дверей ТПЕ, колір: бежевий (150м) | G41: =IFERROR((H41)*Змiст!$K$4/25,"") -> 1.3259786 | H41: =IFERROR(IF(Змiст!$K$5>Змiст!$F$55,I41*(1-Змiст!$K$5),I41*(1-Змiст!$F$55)),"") -> 1.052364 | I41: =VLOOKUP(E41,Price,2,FALSE)*1.2 -> 1.052364 | J41: м | K41: Мінімальне замовлення 150 м
E42: 950.09.90X | F42: Ущільнювач Deventer SV 185 для міжкімнатних та вхідних дверей ТПЕ, колір: білий (150м) | G42: =IFERROR((H42)*Змiст!$K$4/25,"") -> 1.3259786 | H42: =IFERROR(IF(Змiст!$K$5>Змiст!$F$55,I42*(1-Змiст!$K$5),I42*(1-Змiст!$F$55)),"") -> 1.052364 | I42: =VLOOKUP(E42,Price,2,FALSE)*1.2 -> 1.052364 | J42: м | K42: Мінімальне замовлення 150 м
F43: Ущільнювач Deventer SV 185 для міжкімнатних та вхідних дверей ТПЕ, колір: коричневий (150м) | G43: =IFERROR((H43)*Змiст!$K$4/25,"") | H43: =IFERROR(IF(Змiст!$K$5>Змiст!$F$55,I43*(1-Змiст!$K$5),I43*(1-Змiст!$F$55)),"") | I43: =VLOOKUP(E43,Price,2,FALSE)*1.2 -> #N/A | J43: м | K43: Мінімальне замовлення 150 м
F44: Ущільнювач Deventer SV 185 для міжкімнатних та вхідних дверей ТПЕ, колір: чорний (150м) | G44: =IFERROR((H44)*Змiст!$K$4/25,"") | H44: =IFERROR(IF(Змiст!$K$5>Змiст!$F$55,I44*(1-Змiст!$K$5),I44*(1-Змiст!$F$55)),"") | I44: =VLOOKUP(E44,Price,2,FALSE)*1.2 -> #N/A | J44: м | K44: Мінімальне замовлення 150 м
F45: Ущільнювач Deventer SV 185 для міжкімнатних та вхідних дверей ТПЕ, колір: сірий (150м) | G45: =IFERROR((H45)*Змiст!$K$4/25,"") | H45: =IFERROR(IF(Змiст!$K$5>Змiст!$F$55,I45*(1-Змiст!$K$5),I45*(1-Змiст!$F$55)),"") | I45: =VLOOKUP(E45,Price,2,FALSE)*1.2 -> #N/A | J45: м | K45: Мінімальне замовлення 150 м
E46: 950.10.261 | F46: Ущільнювач для міжкімнатних дверей PVC коричневий 10мм (25м) | G46: =IFERROR((H46)*Змiст!$K$4/25,"") -> 0.8509536 | H46: =IFERROR(IF(Змiст!$K$5>Змiст!$F$55,I46*(1-Змiст!$K$5),I46*(1-Змiст!$F$55)),"") -> 0.67536 | I46: =VLOOKUP(E46,Price,2,FALSE)*1.2/25 -> 0.67536 | J46: м | K46: Мінімальне замовлення 25 м
E47: 950.10.262 | F47: Ущільнювач для міжкімн.дверей PVC темно-коричн.10мм (25м) | G47: =IFERROR((H47)*Змiст!$K$4/25,"") -> 0.88499174 | H47: =IFERROR(IF(Змiст!$K$5>Змiст!$F$55,I47*(1-Змiст!$K$5),I47*(1-Змiст!$F$55)),"") -> 0.7023744 | I47: =VLOOKUP(E47,Price,2,FALSE)*1.2/25 -> 0.7023744 | J47: м | K47: Мінімальне замовлення 25 м
E48: 950.10.263 | F48: Ущільнювач для міжкімн.дверей PVC чорн.10мм (25м) | G48: =IFERROR((H48)*Змiст!$K$4/25,"") -> 0.88521189 | H48: =IFERROR(IF(Змiст!$K$5>Змiст!$F$55,I48*(1-Змiст!$K$5),I48*(1-Змiст!$F$55)),"") -> 0.70254912 | I48: =VLOOKUP(E48,Price,2,FALSE)*1.2/25 -> 0.70254912 | J48: м | K48: Мінімальне замовлення 25 м
E49: 950.10.264 | F49: Ущільнювач для міжкімнатних дверей PVC бежевий 10мм (25м) | G49: =IFERROR((H49)*Змiст!$K$4/25,"") -> 0.88499174 | H49: =IFERROR(IF(Змiст!$K$5>Змiст!$F$55,I49*(1-Змiст!$K$5),I49*(1-Змiст!$F$55)),"") -> 0.7023744 | I49: =VLOOKUP(E49,Price,2,FALSE)*1.2/25 -> 0.7023744 | J49: м | K49: Мінімальне замовлення 25 м
E50: 950.10.267 | F50: Ущільнювач для міжкімнатних дверей PVC білий 10мм (25м) | G50: =IFERROR((H50)*Змiст!$K$4/25,"") -> 0.88521189 | H50: =IFERROR(IF(Змiст!$K$5>Змiст!$F$55,I50*(1-Змiст!$K$5),I50*(1-Змiст!$F$55)),"") -> 0.70254912 | I50: =VLOOKUP(E50,Price,2,FALSE)*1.2/25 -> 0.70254912 | J50: м | K50: Мінімальне замовлення 25 м
E51: 950.10.266 | F51: Ущільнювач для міжкімн.дверей PVC прозор.10мм (25м) | G51: =IFERROR((H51)*Змiст!$K$4/25,"") -> 0.85116528 | H51: =IFERROR(IF(Змiст!$K$5>Змiст!$F$55,I51*(1-Змiст!$K$5),I51*(1-Змiст!$F$55)),"") -> 0.675528 | I51: =VLOOKUP(E51,Price,2,FALSE)*1.2/25 -> 0.675528 | J51: м | K51: Мінімальне замовлення 25 м
E52: 950.10.311 | F52: Ущільнювач для міжкімнатних дверей TPE коричневий 10мм (25 м) | G52: =IFERROR((H52)*Змiст!$K$4/25,"") -> 1.3677703 | H52: =IFERROR(IF(Змiст!$K$5>Змiст!$F$55,I52*(1-Змiст!$K$5),I52*(1-Змiст!$F$55)),"") -> 1.085532 | I52: =VLOOKUP(E52,Price,2,FALSE)*1.2 -> 1.085532 | J52: 25 м | K52: Мінімальне замовлення 25 м
E53: 950.10.312 | F53: Ущільнювач для міжкімн.дверей TPE темно-коричн.10мм (25м) | G53: =IFERROR((H53)*Змiст!$K$4/25,"") -> 1.3677703 | H53: =IFERROR(IF(Змiст!$K$5>Змiст!$F$55,I53*(1-Змiст!$K$5),I53*(1-Змiст!$F$55)),"") -> 1.085532 | I53: =VLOOKUP(E53,Price,2,FALSE)*1.2 -> 1.085532 | J53: 25 м | K53: Мінімальне замовлення 25 м
E54: 950.10.313 | F54: Ущільнювач для міжкімнатних дверей TPE чорний 10мм (25м) | G54: =IFERROR((H54)*Змiст!$K$4/25,"") -> 1.3677703 | H54: =IFERROR(IF(Змiст!$K$5>Змiст!$F$55,I54*(1-Змiст!$K$5),I54*(1-Змiст!$F$55)),"") -> 1.085532 | I54: =VLOOKUP(E54,Price,2,FALSE)*1.2 -> 1.085532 | J54: 25 м | K54: Мінімальне замовлення 25 м
E55: 950.10.314 | F55: Ущільнювач для міжкімнатних дверей TPE бежевий 10мм (25м) | G55: =IFERROR((H55)*Змiст!$K$4/25,"") -> 1.3677703 | H55: =IFERROR(IF(Змiст!$K$5>Змiст!$F$55,I55*(1-Змiст!$K$5),I55*(1-Змiст!$F$55)),"") -> 1.085532 | I55: =VLOOKUP(E55,Price,2,FALSE)*1.2 -> 1.085532 | J55: 25 м | K55: Мінімальне замовлення 25 м
E56: 950.09.521 | F56: Ущільнювач для міжкімнатних дверей PVC (М-680) чорний (25 м) | G56: =IFERROR((H56)*Змiст!$K$4/25,"") -> 27.080706 | H56: =IFERROR(IF(Змiст!$K$5>Змiст!$F$55,I56*(1-Змiст!$K$5),I56*(1-Змiст!$F$55)),"") -> 21.492624 | I56: =VLOOKUP(E56,Price,2,FALSE)*1.2 -> 21.492624 | J56: 25 м | K56: Мінімальне замовлення 25 м
E57: 950.09.522 | F57: Ущільнювач для міжкімнатних дверей PVC (М-680) темно коричневий (25 м) | G57: =IFERROR((H57)*Змiст!$K$4/25,"") -> 27.86864 | H57: =IFERROR(IF(Змiст!$K$5>Змiст!$F$55,I57*(1-Змiст!$K$5),I57*(1-Змiст!$F$55)),"") -> 22.117968 | I57: =VLOOKUP(E57,Price,2,FALSE)*1.2 -> 22.117968 | J57: 25 м | K57: Мінімальне замовлення 25 м
E58: 950.09.523 | F58: Ущільнювач для міжкімнатних дверей PVC (М-680) коричневий (25 м) | G58: =IFERROR((H58)*Змiст!$K$4/25,"") -> 27.080706 | H58: =IFERROR(IF(Змiст!$K$5>Змiст!$F$55,I58*(1-Змiст!$K$5),I58*(1-Змiст!$F$55)),"") -> 21.492624 | I58: =VLOOKUP(E58,Price,2,FALSE)*1.2 -> 21.492624 | J58: 25 м | K58: Мінімальне замовлення 25 м
E59: 950.09.524 | F59: Ущільнювач для міжкімнатних дверей PVC (М-680) цегляно-коричневий (25 м) | G59: =IFERROR((H59)*Змiст!$K$4/25,"") -> 27.86864 | H59: =IFERROR(IF(Змiст!$K$5>Змiст!$F$55,I59*(1-Змiст!$K$5),I59*(1-Змiст!$F$55)),"") -> 22.117968 | I59: =VLOOKUP(E59,Price,2,FALSE)*1.2 -> 22.117968 | J59: 25 м | K59: Мінімальне замовлення 25 м
E60: 950.09.525 | F60: Ущільнювач для міжкімнатних дверей PVC (М-680) прозорий (25 м) | G60: =IFERROR((H60)*Змiст!$K$4/25,"") -> 27.86864 | H60: =IFERROR(IF(Змiст!$K$5>Змiст!$F$55,I60*(1-Змiст!$K$5),I60*(1-Змiст!$F$55)),"") -> 22.117968 | I60: =VLOOKUP(E60,Price,2,FALSE)*1.2 -> 22.117968 | J60: 25 м | K60: Мінімальне замовлення 25 м
E61: 950.09.531 | F61: Ущільнювач для міжкімнатних дверей PVC (М-3967) чорний (25 м) | G61: =IFERROR((H61)*Змiст!$K$4/25,"") -> 24.854952 | H61: =IFERROR(IF(Змiст!$K$5>Змiст!$F$55,I61*(1-Змiст!$K$5),I61*(1-Змiст!$F$55)),"") -> 19.726152 | I61: =VLOOKUP(E61,Price,2,FALSE)*1.2 -> 19.726152 | J61: 25 м | K61: Мінімальне замовлення 25 м
E62: 950.09.532 | F62: Ущільнювач для міжкімнатних дверей PVC (М-3967) темно-коричневий (25 м) | G62: =IFERROR((H62)*Змiст!$K$4/25,"") -> 24.80495 | H62: =IFERROR(IF(Змiст!$K$5>Змiст!$F$55,I62*(1-Змiст!$K$5),I62*(1-Змiст!$F$55)),"") -> 19.686468 | I62: =VLOOKUP(E62,Price,2,FALSE)*1.2 -> 19.686468 | J62: 25 м | K62: Мінімальне замовлення 25 м
E63: 950.09.533 | F63: Ущільнювач для міжкімнатних дверей PVC (М-3967) бежевий (25 м) | G63: =IFERROR((H63)*Змiст!$K$4/25,"") -> 20.644319 | H63: =IFERROR(IF(Змiст!$K$5>Змiст!$F$55,I63*(1-Змiст!$K$5),I63*(1-Змiст!$F$55)),"") -> 16.38438 | I63: =VLOOKUP(E63,Price,2,FALSE)*1.2 -> 16.38438 | J63: 25 м | K63: Мінімальне замовлення 25 м
... E78: 950.09.484 | F78: Ущільнювач колір алюм. колір син. Silikon (DS 9608) 25м | G78: =IFERROR((H78)*Змiст!$K$4/25,"") -> 63.321713 | H78: =IFERROR(IF(Змiст!$K$5>Змiст!$F$55,I78*(1-Змiст!$K$5),I78*(1-Змiст!$F$55)),"") -> 50.255328 | I78: =VLOOKUP(E78,Price,2,FALSE)*1.2 -> 50.255328 | J78: 25 м | K78: Мінімальне замовлення 25 м
E79: 950.05.340 | F79: =VLOOKUP(E79,Price,3,FALSE) -> Ущільнювач випадаючий алюміній/силікон сірий 630мм 1-сторонній | G79: =IFERROR((H79)*[1]Змiст!$K$4,"") -> 709.32265 | H79: =IFERROR(IF(Змiст!$K$5>Змiст!$F$55,I79*(1-Змiст!$K$5),I79*(1-Змiст!$F$55)),"") -> 22.669308 | I79: =VLOOKUP(E79,Price,2,FALSE)*1.2 -> 22.669308 | J79: шт | K79: може бути вкорочений до 583 мм
E80: 950.05.341 | F80: =VLOOKUP(E80,Price,3,FALSE) -> Ущільнювач випадаючий алюміній/силікон сірий 730мм 1-сторонній | G80: =IFERROR((H80)*[1]Змiст!$K$4,"") -> 732.41241 | H80: =IFERROR(IF(Змiст!$K$5>Змiст!$F$55,I80*(1-Змiст!$K$5),I80*(1-Змiст!$F$55)),"") -> 23.407236 | I80: =VLOOKUP(E80,Price,2,FALSE)*1.2 -> 23.407236 | J80: шт | K80: може бути вкорочений до 708 мм
E81: 950.05.902 | F81: =VLOOKUP(E81,Price,3,FALSE) -> Ущільнювач випадаючий алюміній/силікон сірий 830мм 1-сторонній | G81: =IFERROR((H81)*[1]Змiст!$K$4,"") -> 861.35262 | H81: =IFERROR(IF(Змiст!$K$5>Змiст!$F$55,I81*(1-Змiст!$K$5),I81*(1-Змiст!$F$55)),"") -> 27.528048 | I81: =VLOOKUP(E81,Price,2,FALSE)*1.2 -> 27.528048 | J81: шт | K81: може бути вкорочений до 708 мм
E82: 950.05.343 | F82: =VLOOKUP(E82,Price,3,FALSE) -> Ущільнювач випадаючий алюміній/силікон сірий 930мм 1-сторонній | G82: =IFERROR((H82)*[1]Змiст!$K$4,"") -> 776.35709 | H82: =IFERROR(IF(Змiст!$K$5>Змiст!$F$55,I82*(1-Змiст!$K$5),I82*(1-Змiст!$F$55)),"") -> 24.811668 | I82: =VLOOKUP(E82,Price,2,FALSE)*1.2 -> 24.811668 | J82: шт | K82: може бути вкорочений до 833 мм
E83: 950.05.344 | F83: =VLOOKUP(E83,Price,3,FALSE) -> Ущільнювач випадаючий алюміній/силікон сірий 1030мм 1-сторонній | G83: =IFERROR((H83)*[1]Змiст!$K$4,"") -> 750.69341 | H83: =IFERROR(IF(Змiст!$K$5>Змiст!$F$55,I83*(1-Змiст!$K$5),I83*(1-Змiст!$F$55)),"") -> 23.99148 | I83: =VLOOKUP(E83,Price,2,FALSE)*1.2 -> 23.99148 | J83: шт | K83: може бути вкорочений до 958 мм
E84: 950.05.345 | F84: =VLOOKUP(E84,Price,3,FALSE) -> Ущільнювач випадаючий алюміній/силікон сірий 1130мм 1-сторонній | G84: =IFERROR((H84)*[1]Змiст!$K$4,"") -> 770.7921 | H84: =IFERROR(IF(Змiст!$K$5>Змiст!$F$55,I84*(1-Змiст!$K$5),I84*(1-Змiст!$F$55)),"") -> 24.633816 | I84: =VLOOKUP(E84,Price,2,FALSE)*1.2 -> 24.633816 | J84: шт | K84: може бути вкорочений до 1083 мм
E85: 950.05.961 | F85: =VLOOKUP(E85,Price,3,FALSE) -> Ущільнювач випадаючий алюміній/силікон сірий 730мм 2-ох сторонній | G85: =IFERROR((H85)*[1]Змiст!$K$4,"") -> 688.38663 | H85: =IFERROR(IF(Змiст!$K$5>Змiст!$F$55,I85*(1-Змiст!$K$5),I85*(1-Змiст!$F$55)),"") -> 22.000212 | I85: =VLOOKUP(E85,Price,2,FALSE)*1.2 -> 22.000212 | J85: шт | K85: може бути вкорочений до 708 мм
E86: 950.05.962 | F86: =VLOOKUP(E86,Price,3,FALSE) -> Ущільнювач випадаючий алюміній/силікон сірий 830мм 2-ох сторонній | G86: =IFERROR((H86)*[1]Змiст!$K$4,"") -> 709.49011 | H86: =IFERROR(IF(Змiст!$K$5>Змiст!$F$55,I86*(1-Змiст!$K$5),I86*(1-Змiст!$F$55)),"") -> 22.67466 | I86: =VLOOKUP(E86,Price,2,FALSE)*1.2 -> 22.67466 | J86: шт | K86: може бути вкорочений до 708 мм
E87: 950.05.963 | F87: =VLOOKUP(E87,Price,3,FALSE) -> Ущільнювач випадаючий алюміній/силікон сірий 930мм 2-ох сторонній | G87: =IFERROR((H87)*[1]Змiст!$K$4,"") -> 729.58918 | H87: =IFERROR(IF(Змiст!$K$5>Змiст!$F$55,I87*(1-Змiст!$K$5),I87*(1-Змiст!$F$55)),"") -> 23.317008 | I87: =VLOOKUP(E87,Price,2,FALSE)*1.2 -> 23.317008 | J87: шт | K87: може бути вкорочений до 833 мм
E88: 950.05.964 | F88: =VLOOKUP(E88,Price,3,FALSE) -> Ущільнювач випадаючий алюміній/силікон сірий 1030мм 2-ох сторонній | G88: =IFERROR((H88)*[1]Змiст!$K$4,"") -> 749.68787 | H88: =IFERROR(IF(Змiст!$K$5>Змiст!$F$55,I88*(1-Змiст!$K$5),I88*(1-Змiст!$F$55)),"") -> 23.959344 | I88: =VLOOKUP(E88,Price,2,FALSE)*1.2 -> 23.959344 | J88: шт | K88: може бути вкорочений до 958 мм
E89: 950.05.965 | F89: =VLOOKUP(E89,Price,3,FALSE) -> Ущільнювач випадаючий алюміній/силікон сірий 1130мм 2-ох сторонній | G89: =IFERROR((H89)*[1]Змiст!$K$4,"") -> 769.78694 | H89: =IFERROR(IF(Змiст!$K$5>Змiст!$F$55,I89*(1-Змiст!$K$5),I89*(1-Змiст!$F$55)),"") -> 24.601692 | I89: =VLOOKUP(E89,Price,2,FALSE)*1.2 -> 24.601692 | J89: шт | K89: може бути вкорочений до 1083 мм

Sheet Фурнітура для скляних дверей
F1: Ваша знижка на дану групу товарів: | H1: =IF(Змiст!$K$5>Змiст!$X$55,Змiст!$K$5,Змiст!$X$55) -> 0
D2: Зображення | E2: Артикул | F2: Назва | G2: Ціна грн. з ПДВ | H2: Ціна євро з ПДВ | J2: Од. | K2: Примітка
E3: 932.84.030 | F3: Доводчик BTS DCL 41 з фіксацією 90° нержавіюча сталь матова | G3: =(H3)*Змiст!$K$4 -> 4030.6681 | H3: =IFERROR(IF(Змiст!$K$5>Змiст!$X$55,I3*(1-Змiст!$K$5),I3*(1-Змiст!$X$55)),"") -> 127.95772 | I3: =VLOOKUP(E3,Price,2,FALSE)*1.2 -> 127.95772 | J3: шт
E4: 981.00.000 | F4: Петля нижня для маятникових дверей нержавіюча сталь матова 162х51х31мм | G4: =(H4)*Змiст!$K$4 -> 570.1064 | H4: =IFERROR(IF(Змiст!$K$5>Змiст!$X$55,I4*(1-Змiст!$K$5),I4*(1-Змiст!$X$55)),"") -> 18.098616 | I4: =VLOOKUP(E4,Price,2,FALSE)*1.2 -> 18.098616 | J4: шт
E5: 981.00.010 | F5: Петля верхня для маятникових дверей нержавіюча сталь матова 162х51х31мм | G5: =(H5)*Змiст!$K$4 -> 570.1064 | H5: =IFERROR(IF(Змiст!$K$5>Змiст!$X$55,I5*(1-Змiст!$K$5),I5*(1-Змiст!$X$55)),"") -> 18.098616 | I5: =VLOOKUP(E5,Price,2,FALSE)*1.2 -> 18.098616 | J5: шт
E6: 981.00.020 | F6: Відповідна частина до петлі верхньої для маятникових дверей нержавіюча сталь матова 162х51х31мм | G6: =(H6)*Змiст!$K$4 -> 422.79262 | H6: =IFERROR(IF(Змiст!$K$5>Змiст!$X$55,I6*(1-Змiст!$K$5),I6*(1-Змiст!$X$55)),"") -> 13.421988 | I6: =VLOOKUP(E6,Price,2,FALSE)*1.2 -> 13.421988 | J6: шт
E7: 981.00.110 | F7: Відповідна частина до петлі верхньої для маятникових дверей нержавіюча сталь матова 164.9х71х63мм | G7: =(H7)*Змiст!$K$4 -> 196.81439 | H7: =IFERROR(IF(Змiст!$K$5>Змiст!$X$55,I7*(1-Змiст!$K$5),I7*(1-Змiст!$X$55)),"") -> 6.248076 | I7: =VLOOKUP(E7,Price,2,FALSE)*1.2 -> 6.248076 | J7: шт
E8: 981.00.030 | F8: Відповідна частина кутова до петлі верхньої для маятникових дверей нержавіюча сталь матова 218х106х31мм | G8: =(H8)*Змiст!$K$4 -> 996.77844 | H8: =IFERROR(IF(Змiст!$K$5>Змiст!$X$55,I8*(1-Змiст!$K$5),I8*(1-Змiст!$X$55)),"") -> 31.64376 | I8: =VLOOKUP(E8,Price,2,FALSE)*1.2 -> 31.64376 | J8: шт
E9: 981.00.060 | F9: Кутовий з'єднувач скло/скло для маятникових дверей нержавіюча сталь матова 106x106x31мм | G9: =(H9)*Змiст!$K$4 -> 766.58891 | H9: =IFERROR(IF(Змiст!$K$5>Змiст!$X$55,I9*(1-Змiст!$K$5),I9*(1-Змiст!$X$55)),"") -> 24.336156 | I9: =VLOOKUP(E9,Price,2,FALSE)*1.2 -> 24.336156 | J9: шт
E10: 981.00.130 | F10: Кріплення для скла 10-12мм нержавіюча сталь матова | G10: =(H10)*Змiст!$K$4 -> 486.67651 | H10: =IFERROR(IF(Змiст!$K$5>Змiст!$X$55,I10*(1-Змiст!$K$5),I10*(1-Змiст!$X$55)),"") -> 15.450048 | I10: =VLOOKUP(E10,Price,2,FALSE)*1.2 -> 15.450048 | J10: шт
E11: 981.00.140 | F11: З'єднувач скло/скло/стіна нержавіюча сталь матова 105х51х31мм | G11: =(H11)*Змiст!$K$4 -> 691.99024 | H11: =IFERROR(IF(Змiст!$K$5>Змiст!$X$55,I11*(1-Змiст!$K$5),I11*(1-Змiст!$X$55)),"") -> 21.967944 | I11: =VLOOKUP(E11,Price,2,FALSE)*1.2 -> 21.967944 | J11: шт
E12: 981.00.120 | F12: Кріплення для скла середнє нержавіюча сталь матова для товщини скла 10-12 мм | G12: =(H12)*Змiст!$K$4 -> 883.15391 | H12: =IFERROR(IF(Змiст!$K$5>Змiст!$X$55,I12*(1-Змiст!$K$5),I12*(1-Змiст!$X$55)),"") -> 28.036632 | I12: =VLOOKUP(E12,Price,2,FALSE)*1.2 -> 28.036632 | J12: шт
E13: 981.00.400 | F13: Замок-накладка PC кутовий нижній нержавіюча сталь матова 162х51х58мм | G13: =(H13)*Змiст!$K$4 -> 775.05838 | H13: =IFERROR(IF(Змiст!$K$5>Змiст!$X$55,I13*(1-Змiст!$K$5),I13*(1-Змiст!$X$55)),"") -> 24.605028 | I13: =VLOOKUP(E13,Price,2,FALSE)*1.2 -> 24.605028 | J13: шт
E14: 981.00.470 | F14: Відповідна частина до замка на скло нержавіюча сталь матова для товщини скла 10-12 мм | G14: =(H14)*Змiст!$K$4 -> 600.73612 | H14: =IFERROR(IF(Змiст!$K$5>Змiст!$X$55,I14*(1-Змiст!$K$5),I14*(1-Змiст!$X$55)),"") -> 19.070988 | I14: =VLOOKUP(E14,Price,2,FALSE)*1.2 -> 19.070988 | J14: шт
... E32: 903.03.584 | F32: Ручка для дверей нержавіюча сталь матова 600мм | G32: =(H32)*Змiст!$K$4 -> 1922.0075 | H32: =IFERROR(IF(Змiст!$K$5>Змiст!$X$55,I32*(1-Змiст!$K$5),I32*(1-Змiст!$X$55)),"") -> 61.016112 | I32: =VLOOKUP(E32,Price,2,FALSE)*1.2 -> 61.016112 | J32: шт

Sheet Фурнітура для ванних кімнат
F1: Ваша знижка на дану групу товарів: | H1: =IF(Змiст!$K$5>Змiст!$AP$55,Змiст!$K$5,Змiст!$AP$55) -> 0
D2: Зображення | E2: Артикул | F2: Назва | G2: Ціна грн. з ПДВ | H2: Ціна євро з ПДВ | J2: Од. | K2: Примітка
E3: 981.53.152 | F3: Петля для дверей душ.кабіни AquaSys пряма лат. хром. пол.90град. кут розкр. в обидві сторони для прикруч. до стіни навант.до 30 кг товщ.скла 8-12мм | G3: =(H3)*Змiст!$K$4 -> 1390.792 | H3: =IFERROR(IF(Змiст!$K$5>Змiст!$AP$55,I3*(1-Змiст!$K$5),I3*(1-Змiст!$AP$55)),"") -> 44.152128 | I3: =VLOOKUP(E3,Price,2,FALSE)*1.2 -> 44.152128 | J3: шт
E4: 981.53.162 | F4: Петля для дверей душ.кабіни AquaSys під кутом 90 гр.лат. хром. пол.90град. кут розкр. в об.стор.для прикруч. до стіни нав.до 30 кг товщ.скла 8-12мм | G4: =(H4)*Змiст!$K$4 -> 2182.5845 | H4: =IFERROR(IF(Змiст!$K$5>Змiст!$AP$55,I4*(1-Змiст!$K$5),I4*(1-Змiст!$AP$55)),"") -> 69.288396 | I4: =VLOOKUP(E4,Price,2,FALSE)*1.2 -> 69.288396 | J4: шт
E5: 981.53.172 | F5: Петля для дв. душ.кабіни AquaSys під кутом 135 лат.хром.пол.90град. кут розкр. в одну сторону для прик. до ст.нав.до 30 кг т.скла 8-12мм | G5: =(H5)*Змiст!$K$4 -> 2182.5845 | H5: =IFERROR(IF(Змiст!$K$5>Змiст!$AP$55,I5*(1-Змiст!$K$5),I5*(1-Змiст!$AP$55)),"") -> 69.288396 | I5: =VLOOKUP(E5,Price,2,FALSE)*1.2 -> 69.288396 | J5: шт
E6: 981.53.182 | F6: Петля для душової кабіни для скла 8мм 180° латунь хромована полірована | G6: =(H6)*Змiст!$K$4 -> 2140.583 | H6: =IFERROR(IF(Змiст!$K$5>Змiст!$AP$55,I6*(1-Змiст!$K$5),I6*(1-Змiст!$AP$55)),"") -> 67.955016 | I6: =VLOOKUP(E6,Price,2,FALSE)*1.2 -> 67.955016 | J6: шт
E7: 981.53.052 | F7: Тримач для скла 8-12мм латунь хромована полірована прямий | G7: =(H7)*Змiст!$K$4 -> 484.57786 | H7: =IFERROR(IF(Змiст!$K$5>Змiст!$AP$55,I7*(1-Змiст!$K$5),I7*(1-Змiст!$AP$55)),"") -> 15.383424 | I7: =VLOOKUP(E7,Price,2,FALSE)*1.2 -> 15.383424 | J7: шт
E8: 981.53.072 | F8: Тримач для скла 8-12мм латунь хромована полірована 90° прямий | G8: =(H8)*Змiст!$K$4 -> 659.57711 | H8: =IFERROR(IF(Змiст!$K$5>Змiст!$AP$55,I8*(1-Змiст!$K$5),I8*(1-Змiст!$AP$55)),"") -> 20.938956 | I8: =VLOOKUP(E8,Price,2,FALSE)*1.2 -> 20.938956 | J8: шт
E9: 981.53.102 | F9: Тримач для скла 8-12мм кутовий латунь хромована полірована 90° прямий | G9: =(H9)*Змiст!$K$4 -> 804.08387 | H9: =IFERROR(IF(Змiст!$K$5>Змiст!$AP$55,I9*(1-Змiст!$K$5),I9*(1-Змiст!$AP$55)),"") -> 25.526472 | I9: =VLOOKUP(E9,Price,2,FALSE)*1.2 -> 25.526472 | J9: шт
E10: 981.53.082 | F10: Тримач для скла 8-12мм латунь хромована полірована 180° прямий | G10: =(H10)*Змiст!$K$4 -> 765.79398 | H10: =IFERROR(IF(Змiст!$K$5>Змiст!$AP$55,I10*(1-Змiст!$K$5),I10*(1-Змiст!$AP$55)),"") -> 24.31092 | I10: =VLOOKUP(E10,Price,2,FALSE)*1.2 -> 24.31092 | J10: шт
E11: 981.39.012 | F11: Штанга піідтримуюча алюм. хромов. поліров. 1050мм | G11: =(H11)*Змiст!$K$4 -> 4578.9196 | H11: =IFERROR(IF(Змiст!$K$5>Змiст!$AP$55,I11*(1-Змiст!$K$5),I11*(1-Змiст!$AP$55)),"") -> 145.36253 | I11: =VLOOKUP(E11,Price,2,FALSE)*1.2 -> 145.36253 | J11: шт
E12: 950.06.680 | F12: Ущільнювач кромковий наземний для склян. дверей 8-10 | G12: =(H12)*Змiст!$K$4 -> 129.12404 | H12: =IFERROR(IF(Змiст!$K$5>Змiст!$AP$55,I12*(1-Змiст!$K$5),I12*(1-Змiст!$AP$55)),"") -> 4.099176 | I12: =VLOOKUP(E12,Price,2,FALSE)*1.2 -> 4.099176 | J12: шт
E13: 950.06.620 | F13: Ущільнювач кутовий для склян. дверей 90° 8-10/217 | G13: =(H13)*Змiст!$K$4 -> 136.46632 | H13: =IFERROR(IF(Змiст!$K$5>Змiст!$AP$55,I13*(1-Змiст!$K$5),I13*(1-Змiст!$AP$55)),"") -> 4.332264 | I13: =VLOOKUP(E13,Price,2,FALSE)*1.2 -> 4.332264 | J13: шт
E14: 950.06.590 | F14: Ущільнювач центральний для склян. дверей180° 8-10 | G14: =(H14)*Змiст!$K$4 -> 143.84563 | H14: =IFERROR(IF(Змiст!$K$5>Змiст!$AP$55,I14*(1-Змiст!$K$5),I14*(1-Змiст!$AP$55)),"") -> 4.566528 | I14: =VLOOKUP(E14,Price,2,FALSE)*1.2 -> 4.566528 | J14: шт
... E47: 980.62.122 | F47: Вішак/полиця для рушників, латунь хромована полірована, круглий | G47: =(H47)*Змiст!$K$4 -> 2949.0702 | H47: =IFERROR(IF(Змiст!$K$5>Змiст!$AP$55,I47*(1-Змiст!$K$5),I47*(1-Змiст!$AP$55)),"") -> 93.621276 | I47: =VLOOKUP(E47,Price,2,FALSE)*1.2 -> 93.621276 | J47: шт

Sheet Фурнітура для розсувних дверей 
J1: Ваша знижка на дану групу товарів: | L1: 0
D2: Зображення | F2: № | G2: Артикул | J2: Назва | K2: Ціна грн. з ПДВ | L2: Ціна євро з ПДВ | O2: Од. | P2: Примітка
D3: Slido Classic 40 - 120P | G3: 940.42.048* | J3: =VLOOKUP(G3,прайс!A:C,3,FALSE) -> Комплект фурнітури Slido Classic 40-P, вагою дверного полотна до 40 кг з ходовою шиною, алюміній без покриття 2 м | K3: =L3*курс -> 573.92987 | L3: =SUM(M3:M8) -> 18.219996 | M3: =N3 -> 18.219996 | N3: =IFERROR(VLOOKUP(G3,Price,2,FALSE)*1.2,0) -> 18.219996 | O3: компл | P3: Складська
M4: =N4 -> 0 | N4: =IFERROR(VLOOKUP(G4,Price,2,FALSE)*1.2,0) -> 0
M5: =N5 -> 0 | N5: =IFERROR(VLOOKUP(G5,Price,2,FALSE)*1.2,0) -> 0
D6: Технічні дані | M6: =N6 -> 0 | N6: =IFERROR(VLOOKUP(G6,Price,2,FALSE)*1.2,0) -> 0
D7: Вага дверей | E7: 40 - 120 кг | M7: =N7 -> 0 | N7: =IFERROR(VLOOKUP(G7,Price,2,FALSE)*1.2,0) -> 0
D8: Толщина дверей | E8: min. 28 мм | M8: =N8 -> 0 | N8: =IFERROR(VLOOKUP(G8,Price,2,FALSE)*1.2,0) -> 0
D9: Ширина дверей | E9: min. 600 мм | G9: 940.60.089* | J9: =VLOOKUP(G9,прайс!A:C,3,FALSE) -> Комплект фурнітури Slido Classic 60-P, вагою дверного полотна до 60 кг з ходовою шиною, алюміній без покриття 2 м | K9: =L9*курс -> 611.415 | L9: =SUM(M9:M14) -> 19.41 | M9: =N9 -> 19.41 | N9: =IFERROR(VLOOKUP(G9,Price,2,FALSE)*1.2,0) -> 19.41 | O9: компл | P9: Складська
M10: =N10 -> 0 | N10: =IFERROR(VLOOKUP(G10,Price,2,FALSE)*1.2,0) -> 0
M11: =N11 -> 0 | N11: =IFERROR(VLOOKUP(G11,Price,2,FALSE)*1.2,0) -> 0
M12: =N12 -> 0 | N12: =IFERROR(VLOOKUP(G12,Price,2,FALSE)*1.2,0) -> 0
M13: =N13 -> 0 | N13: =IFERROR(VLOOKUP(G13,Price,2,FALSE)*1.2,0) -> 0
M14: =N14 -> 0 | N14: =IFERROR(VLOOKUP(G14,Price,2,FALSE)*1.2,0) -> 0
G15: 940.82.093* | J15: =VLOOKUP(G15,прайс!A:C,3,FALSE) -> Комплект фурнітури Slido Classic 80-P, вагою дверного полотна до 80 кг з ходовою шиною, алюміній без покриття 2 м | K15: =L15*курс -> 649.52987 | L15: =SUM(M15:M20) -> 20.619996 | M15: =N15 -> 20.619996 | N15: =IFERROR(VLOOKUP(G15,Price,2,FALSE)*1.2,0) -> 20.619996 | O15: компл | P15: Складська
M16: =N16 -> 0 | N16: =IFERROR(VLOOKUP(G16,Price,2,FALSE)*1.2,0) -> 0
M17: =N17 -> 0 | N17: =IFERROR(VLOOKUP(G17,Price,2,FALSE)*1.2,0) -> 0
M18: =N18 -> 0 | N18: =IFERROR(VLOOKUP(G18,Price,2,FALSE)*1.2,0) -> 0
M19: =N19 -> 0 | N19: =IFERROR(VLOOKUP(G19,Price,2,FALSE)*1.2,0) -> 0
M20: =N20 -> 0 | N20: =IFERROR(VLOOKUP(G20,Price,2,FALSE)*1.2,0) -> 0
G21: 941.02.045* | J21: =VLOOKUP(G21,прайс!A:C,3,FALSE) -> Комплект фурнітури Slido Classic 120-P, вагою дверного полотна до 120 кг з ходовою шиною, алюміній без покриття 2 м | K21: =L21*курс -> 682.60487 | L21: =SUM(M21:M26) -> 21.669996 | M21: =N21 -> 21.669996 | N21: =IFERROR(VLOOKUP(G21,Price,2,FALSE)*1.2,0) -> 21.669996 | O21: компл | P21: Складська
M22: =N22 -> 0 | N22: =IFERROR(VLOOKUP(G22,Price,2,FALSE)*1.2,0) -> 0
M23: =N23 -> 0 | N23: =IFERROR(VLOOKUP(G23,Price,2,FALSE)*1.2,0) -> 0
M24: =N24 -> 0 | N24: =IFERROR(VLOOKUP(G24,Price,2,FALSE)*1.2,0) -> 0
M25: =N25 -> 0 | N25: =IFERROR(VLOOKUP(G27,Price,2,FALSE)*1.2,0) -> 0
M26: =N26 -> 0 | N26: =IFERROR(VLOOKUP(#REF!,Price,2,FALSE)*1.2,0) -> 0
G27: *Акційна ціна діє лише з 01.10.2018 до 01.04.2019
D29: Slido Classic 40 - 120P | G29: 1940.43.X15 | H29: 940.43.115 | I29: 1 | J29: Комплект фурнітури Slido Classic 40-P, вагою дверного полотна до 40 кг, ширина ≥ 592 мм, з 1-стороннім доводчиком, ходовою шиною 2 м (монтаж до стелі) | K29: =L29*курс -> 2766.6852 | L29: =SUM(M29:M34) -> 87.831276 | M29: =IFERROR(IF(Змiст!$K$5>Змiст!$BH$55,N29*(1-Змiст!$K$5),N29*(1-Змiст!$BH$55)),0)*I29 -> 69.77412 | N29: =IFERROR(VLOOKUP(H29,Price,2,FALSE)*1.2,0) -> 69.77412 | O29: компл | P29: Складська
M30: =IFERROR(IF(Змiст!$K$5>Змiст!$BH$55,N30*(1-Змiст!$K$5),N30*(1-Змiст!$BH$55)),0)*I30 -> 0 | N30: =IFERROR(VLOOKUP(H30,Price,2,FALSE)*1.2,0) -> 0
D31: (з 1-стороннім доводчиком) | M31: =IFERROR(IF(Змiст!$K$5>Змiст!$BH$55,N31*(1-Змiст!$K$5),N31*(1-Змiст!$BH$55)),0)*I31 -> 0 | N31: =IFERROR(VLOOKUP(H31,Price,2,FALSE)*1.2,0) -> 0
D32: Технічні дані | H32: 940.43.921 | I32: 1 | M32: =IFERROR(IF(Змiст!$K$5>Змiст!$BH$55,N32*(1-Змiст!$K$5),N32*(1-Змiст!$BH$55)),0)*I32 -> 18.057156 | N32: =IFERROR(VLOOKUP(H32,Price,2,FALSE)*1.2,0) -> 18.057156
D33: Вага дверей | E33: 40 - 120 кг | M33: =IFERROR(IF(Змiст!$K$5>Змiст!$BH$55,N33*(1-Змiст!$K$5),N33*(1-Змiст!$BH$55)),0)*I33 -> 0 | N33: =IFERROR(VLOOKUP(H33,Price,2,FALSE)*1.2,0) -> 0
D34: Толщина дверей | E34: min. 28 мм | M34: =IFERROR(IF(Змiст!$K$5>Змiст!$BH$55,N34*(1-Змiст!$K$5),N34*(1-Змiст!$BH$55)),0)*I34 -> 0 | N34: =IFERROR(VLOOKUP(H34,Price,2,FALSE)*1.2,0) -> 0
D35: Ширина дверей | E35: min. 592 мм | G35: 940.82.X21 | H35: 940.82.121 | I35: 1 | J35: Комплект фурнітури Slido Classic 80-P, вагою дверного полотна до 80 кг, ширина ≥ 592 мм, з 1-стороннім доводчиком, ходовою шиною 2 м (монтаж до стелі) | K35: =L35*курс -> 2799.9428 | L35: =SUM(M35:M40) -> 88.887072 | M35: =IFERROR(IF(Змiст!$K$5>Змiст!$BH$55,N35*(1-Змiст!$K$5),N35*(1-Змiст!$BH$55)),0)*I35 -> 70.829916 | N35: =IFERROR(VLOOKUP(H35,Price,2,FALSE)*1.2,0) -> 70.829916 | O35: компл | P35: Складська
M36: =IFERROR(IF(Змiст!$K$5>Змiст!$BH$55,N36*(1-Змiст!$K$5),N36*(1-Змiст!$BH$55)),0)*I36 -> 0 | N36: =IFERROR(VLOOKUP(H36,Price,2,FALSE)*1.2,0) -> 0
M37: =IFERROR(IF(Змiст!$K$5>Змiст!$BH$55,N37*(1-Змiст!$K$5),N37*(1-Змiст!$BH$55)),0)*I37 -> 0 | N37: =IFERROR(VLOOKUP(H37,Price,2,FALSE)*1.2,0) -> 0
H38: 940.43.921 | I38: 1 | M38: =IFERROR(IF(Змiст!$K$5>Змiст!$BH$55,N38*(1-Змiст!$K$5),N38*(1-Змiст!$BH$55)),0)*I38 -> 18.057156 | N38: =IFERROR(VLOOKUP(H38,Price,2,FALSE)*1.2,0) -> 18.057156
M39: =IFERROR(IF(Змiст!$K$5>Змiст!$BH$55,N39*(1-Змiст!$K$5),N39*(1-Змiст!$BH$55)),0)*I39 -> 0 | N39: =IFERROR(VLOOKUP(H39,Price,2,FALSE)*1.2,0) -> 0
M40: =IFERROR(IF(Змiст!$K$5>Змiст!$BH$55,N40*(1-Змiст!$K$5),N40*(1-Змiст!$BH$55)),0)*I40 -> 0 | N40: =IFERROR(VLOOKUP(H40,Price,2,FALSE)*1.2,0) -> 0
G41: 941.25.X32 | H41: 941.25.132 | I41: 1 | J41: Комплект фурнітури Slido Classic 120-P, вагою дверного полотна до 120 кг, ширина ≥ 681 мм, з 1-стороннім доводчиком, ходовою шиною 2 м (монтаж до стелі) | K41: =L41*курс -> 3248.3816 | L41: =SUM(M41:M46) -> 103.12322 | M41: =IFERROR(IF(Змiст!$K$5>Змiст!$BH$55,N41*(1-Змiст!$K$5),N41*(1-Змiст!$BH$55)),0)*I41 -> 85.066068 | N41: =IFERROR(VLOOKUP(H41,Price,2,FALSE)*1.2,0) -> 85.066068 | O41: компл | P41: Складська
M42: =IFERROR(IF(Змiст!$K$5>Змiст!$BH$55,N42*(1-Змiст!$K$5),N42*(1-Змiст!$BH$55)),0)*I42 -> 0 | N42: =IFERROR(VLOOKUP(H42,Price,2,FALSE)*1.2,0) -> 0
M43: =IFERROR(IF(Змiст!$K$5>Змiст!$BH$55,N43*(1-Змiст!$K$5),N43*(1-Змiст!$BH$55)),0)*I43 -> 0 | N43: =IFERROR(VLOOKUP(H43,Price,2,FALSE)*1.2,0) -> 0
H44: 940.43.921 | I44: 1 | M44: =IFERROR(IF(Змiст!$K$5>Змiст!$BH$55,N44*(1-Змiст!$K$5),N44*(1-Змiст!$BH$55)),0)*I44 -> 18.057156 | N44: =IFERROR(VLOOKUP(H44,Price,2,FALSE)*1.2,0) -> 18.057156
M45: =IFERROR(IF(Змiст!$K$5>Змiст!$BH$55,N45*(1-Змiст!$K$5),N45*(1-Змiст!$BH$55)),0)*I45 -> 0 | N45: =IFERROR(VLOOKUP(H45,Price,2,FALSE)*1.2,0) -> 0
M46: =IFERROR(IF(Змiст!$K$5>Змiст!$BH$55,N46*(1-Змiст!$K$5),N46*(1-Змiст!$BH$55)),0)*I46 -> 0 | N46: =IFERROR(VLOOKUP(H46,Price,2,FALSE)*1.2,0) -> 0
D54: Slido Classic 40 - 120P | G54: 940.60.05X | H54: 940.60.06X | I54: 2 | J54: Комплект фурнітури Slido Classic 40-P з 2-стороннім амортизатором з ходовою шиною 2 м (монтаж до стелі) | K54: =L54*курс -> 1733.2748 | L54: =SUM(M54:M59) -> 55.024596 | M54: =IFERROR(IF(Змiст!$K$5>Змiст!$BH$55,N54*(1-Змiст!$K$5),N54*(1-Змiст!$BH$55)),0)*I54 -> 13.837848 | N54: =IFERROR(VLOOKUP(H54,Price,2,FALSE)*1.2,0) -> 6.918924 | O54: компл | P54: Складська
H55: 941.02.03X | I55: 2 | M55: =IFERROR(IF(Змiст!$K$5>Змiст!$BH$55,N55*(1-Змiст!$K$5),N55*(1-Змiст!$BH$55)),0)*I55 -> 20.228088 | N55: =IFERROR(VLOOKUP(H55,Price,2,FALSE)*1.2,0) -> 10.114044
D56: (з 2-стороннім амортизатором) | H56: 940.42.030 | I56: 1 | M56: =IFERROR(IF(Змiст!$K$5>Змiст!$BH$55,N56*(1-Змiст!$K$5),N56*(1-Змiст!$BH$55)),0)*I56 -> 2.901504 | N56: =IFERROR(VLOOKUP(H56,Price,2,FALSE)*1.2,0) -> 2.901504
D57: Технічні дані | H57: 940.43.921 | I57: 1 | M57: =IFERROR(IF(Змiст!$K$5>Змiст!$BH$55,N57*(1-Змiст!$K$5),N57*(1-Змiст!$BH$55)),0)*I57 -> 18.057156 | N57: =IFERROR(VLOOKUP(H57,Price,2,FALSE)*1.2,0) -> 18.057156
D58: Вага дверей | E58: 40 - 160 кг | M58: =IFERROR(IF(Змiст!$K$5>Змiст!$BH$55,N58*(1-Змiст!$K$5),N58*(1-Змiст!$BH$55)),0)*I58 -> 0 | N58: =IFERROR(VLOOKUP(H58,Price,2,FALSE)*1.2,0) -> 0
D59: Толщина дверей | E59: min. 28 мм | M59: =IFERROR(IF(Змiст!$K$5>Змiст!$BH$55,N59*(1-Змiст!$K$5),N59*(1-Змiст!$BH$55)),0)*I59 -> 0 | N59: =IFERROR(VLOOKUP(H59,Price,2,FALSE)*1.2,0) -> 0
D60: Ширина дверей | E60: min. 600 мм | G60: 940.60.07X | H60: 940.60.06X | I60: 2 | J60: Комплект фурнітури Slido Classic 60-80P з 2-стороннім амортизатором з ходовою шиною 2 м (монтаж до стелі) | K60: =L60*курс -> 1733.2748 | L60: =SUM(M60:M65) -> 55.024596 | M60: =IFERROR(IF(Змiст!$K$5>Змiст!$BH$55,N60*(1-Змiст!$K$5),N60*(1-Змiст!$BH$55)),0)*I60 -> 13.837848 | N60: =IFERROR(VLOOKUP(H60,Price,2,FALSE)*1.2,0) -> 6.918924 | O60: компл | P60: Складська
H61: 941.02.04X | I61: 2 | M61: =IFERROR(IF(Змiст!$K$5>Змiст!$BH$55,N61*(1-Змiст!$K$5),N61*(1-Змiст!$BH$55)),0)*I61 -> 20.228088 | N61: =IFERROR(VLOOKUP(H61,Price,2,FALSE)*1.2,0) -> 10.114044
H62: 940.42.030 | I62: 1 | M62: =IFERROR(IF(Змiст!$K$5>Змiст!$BH$55,N62*(1-Змiст!$K$5),N62*(1-Змiст!$BH$55)),0)*I62 -> 2.901504 | N62: =IFERROR(VLOOKUP(H62,Price,2,FALSE)*1.2,0) -> 2.901504
H63: 940.43.921 | I63: 1 | M63: =IFERROR(IF(Змiст!$K$5>Змiст!$BH$55,N63*(1-Змiст!$K$5),N63*(1-Змiст!$BH$55)),0)*I63 -> 18.057156 | N63: =IFERROR(VLOOKUP(H63,Price,2,FALSE)*1.2,0) -> 18.057156
M64: =IFERROR(IF(Змiст!$K$5>Змiст!$BH$55,N64*(1-Змiст!$K$5),N64*(1-Змiст!$BH$55)),0)*I64 -> 0 | N64: =IFERROR(VLOOKUP(H64,Price,2,FALSE)*1.2,0) -> 0
M65: =IFERROR(IF(Змiст!$K$5>Змiст!$BH$55,N65*(1-Змiст!$K$5),N65*(1-Змiст!$BH$55)),0)*I65 -> 0 | N65: =IFERROR(VLOOKUP(H65,Price,2,FALSE)*1.2,0) -> 0
G66: 940.60.08X | H66: 940.60.06X | I66: 2 | J66: Комплект фурнітури Slido Classic 120-P з 2-стороннім амортизатором з ходовою шиною 2 м (монтаж до стелі) | K66: =L66*курс -> 1733.2748 | L66: =SUM(M66:M71) -> 55.024596 | M66: =IFERROR(IF(Змiст!$K$5>Змiст!$BH$55,N66*(1-Змiст!$K$5),N66*(1-Змiст!$BH$55)),0)*I66 -> 13.837848 | N66: =IFERROR(VLOOKUP(H66,Price,2,FALSE)*1.2,0) -> 6.918924 | O66: компл | P66: Складська
H67: 941.02.041 | I67: 2 | M67: =IFERROR(IF(Змiст!$K$5>Змiст!$BH$55,N67*(1-Змiст!$K$5),N67*(1-Змiст!$BH$55)),0)*I67 -> 20.228088 | N67: =IFERROR(VLOOKUP(H67,Price,2,FALSE)*1.2,0) -> 10.114044
H68: 940.42.030 | I68: 1 | M68: =IFERROR(IF(Змiст!$K$5>Змiст!$BH$55,N68*(1-Змiст!$K$5),N68*(1-Змiст!$BH$55)),0)*I68 -> 2.901504 | N68: =IFERROR(VLOOKUP(H68,Price,2,FALSE)*1.2,0) -> 2.901504
H69: 940.43.921 | I69: 1 | M69: =IFERROR(IF(Змiст!$K$5>Змiст!$BH$55,N69*(1-Змiст!$K$5),N69*(1-Змiст!$BH$55)),0)*I69 -> 18.057156 | N69: =IFERROR(VLOOKUP(H69,Price,2,FALSE)*1.2,0) -> 18.057156
M70: =IFERROR(IF(Змiст!$K$5>Змiст!$BH$55,N70*(1-Змiст!$K$5),N70*(1-Змiст!$BH$55)),0)*I70 -> 0 | N70: =IFERROR(VLOOKUP(H70,Price,2,FALSE)*1.2,0) -> 0
M71: =IFERROR(IF(Змiст!$K$5>Змiст!$BH$55,N71*(1-Змiст!$K$5),N71*(1-Змiст!$BH$55)),0)*I71 -> 0 | N71: =IFERROR(VLOOKUP(H71,Price,2,FALSE)*1.2,0) -> 0
D79: Slido Classic 40 - 120P | G79: 940.43.X16 | H79: 940.43.116 | I79: 1 | J79: Комплект фурнітури Slido Classic 40-P, вагою дверного полотна до 40 кг, ширина ≥ 727 - 846 мм, з 2-стороннім доводчиком (парний амортизатор), ходовою шиною 2 м (монтаж до стелі) | K79: =L79*курс -> 4135.4995 | L79: =SUM(M79:M84) -> 131.2857 | M79: =IFERROR(IF(Змiст!$K$5>Змiст!$BH$55,N79*(1-Змiст!$K$5),N79*(1-Змiст!$BH$55)),0)*I79 -> 113.22854 | N79: =IFERROR(VLOOKUP(H79,Price,2,FALSE)*1.2,0) -> 113.22854 | O79: компл | P79: Складська
M80: =IFERROR(IF(Змiст!$K$5>Змiст!$BH$55,N80*(1-Змiст!$K$5),N80*(1-Змiст!$BH$55)),0)*I80 -> 0 | N80: =IFERROR(VLOOKUP(H80,Price,2,FALSE)*1.2,0) -> 0
D81: (з 2-стороннім доводчиком) | M81: =IFERROR(IF(Змiст!$K$5>Змiст!$BH$55,N81*(1-Змiст!$K$5),N81*(1-Змiст!$BH$55)),0)*I81 -> 0 | N81: =IFERROR(VLOOKUP(H81,Price,2,FALSE)*1.2,0) -> 0
D82: Технічні дані | H82: 940.43.921 | I82: 1 | M82: =IFERROR(IF(Змiст!$K$5>Змiст!$BH$55,N82*(1-Змiст!$K$5),N82*(1-Змiст!$BH$55)),0)*I82 -> 18.057156 | N82: =IFERROR(VLOOKUP(H82,Price,2,FALSE)*1.2,0) -> 18.057156
D83: Вага дверей | E83: 40 - 120 кг | M83: =IFERROR(IF(Змiст!$K$5>Змiст!$BH$55,N83*(1-Змiст!$K$5),N83*(1-Змiст!$BH$55)),0)*I83 -> 0 | N83: =IFERROR(VLOOKUP(H83,Price,2,FALSE)*1.2,0) -> 0
D84: Толщина дверей | E84: min. 28 мм | M84: =IFERROR(IF(Змiст!$K$5>Змiст!$BH$55,N84*(1-Змiст!$K$5),N84*(1-Змiст!$BH$55)),0)*I84 -> 0 | N84: =IFERROR(VLOOKUP(H84,Price,2,FALSE)*1.2,0) -> 0
D85: Ширина дверей | E85: min. 727 мм | G85: 940.82.X25 | H85: 940.82.125 | I85: 1 | J85: Комплект фурнітури Slido Classic 80-P, вагою дверного полотна до 80 кг, ширина ≥ 727 - 846 мм, з 2-стороннім доводчиком (парний амортизатор), ходовою шиною 2 м (монтаж до стелі) | K85: =L85*курс -> 4168.5628 | L85: =SUM(M85:M90) -> 132.33533 | M85: =IFERROR(IF(Змiст!$K$5>Змiст!$BH$55,N85*(1-Змiст!$K$5),N85*(1-Змiст!$BH$55)),0)*I85 -> 114.27817 | N85: =IFERROR(VLOOKUP(H85,Price,2,FALSE)*1.2,0) -> 114.27817 | O85: компл | P85: Складська
M86: =IFERROR(IF(Змiст!$K$5>Змiст!$BH$55,N86*(1-Змiст!$K$5),N86*(1-Змiст!$BH$55)),0)*I86 -> 0 | N86: =IFERROR(VLOOKUP(H86,Price,2,FALSE)*1.2,0) -> 0
M87: =IFERROR(IF(Змiст!$K$5>Змiст!$BH$55,N87*(1-Змiст!$K$5),N87*(1-Змiст!$BH$55)),0)*I87 -> 0 | N87: =IFERROR(VLOOKUP(H87,Price,2,FALSE)*1.2,0) -> 0
H88: 940.43.921 | I88: 1 | M88: =IFERROR(IF(Змiст!$K$5>Змiст!$BH$55,N88*(1-Змiст!$K$5),N88*(1-Змiст!$BH$55)),0)*I88 -> 18.057156 | N88: =IFERROR(VLOOKUP(H88,Price,2,FALSE)*1.2,0) -> 18.057156
M89: =IFERROR(IF(Змiст!$K$5>Змiст!$BH$55,N89*(1-Змiст!$K$5),N89*(1-Змiст!$BH$55)),0)*I89 -> 0 | N89: =IFERROR(VLOOKUP(H89,Price,2,FALSE)*1.2,0) -> 0
M90: =IFERROR(IF(Змiст!$K$5>Змiст!$BH$55,N90*(1-Змiст!$K$5),N90*(1-Змiст!$BH$55)),0)*I90 -> 0 | N90: =IFERROR(VLOOKUP(H90,Price,2,FALSE)*1.2,0) -> 0
G91: 940.82.X29 | H91: 940.82.129 | I91: 1 | J91: Комплект фурнітури Slido Classic 80-P, вагою дверного полотна до 80 кг, ширина ≥ 847 - 966 мм, з 2-стороннім доводчиком (парний амортизатор), ходовою шиною 2 м (монтаж до стелі) | K91: =L91*курс -> 4320.7827 | L91: =SUM(M91:M96) -> 137.1677 | M91: =IFERROR(IF(Змiст!$K$5>Змiст!$BH$55,N91*(1-Змiст!$K$5),N91*(1-Змiст!$BH$55)),0)*I91 -> 119.11055 | N91: =IFERROR(VLOOKUP(H91,Price,2,FALSE)*1.2,0) -> 119.11055 | O91: компл | P91: Складська
M92: =IFERROR(IF(Змiст!$K$5>Змiст!$BH$55,N92*(1-Змiст!$K$5),N92*(1-Змiст!$BH$55)),0)*I92 -> 0 | N92: =IFERROR(VLOOKUP(H92,Price,2,FALSE)*1.2,0) -> 0
M93: =IFERROR(IF(Змiст!$K$5>Змiст!$BH$55,N93*(1-Змiст!$K$5),N93*(1-Змiст!$BH$55)),0)*I93 -> 0 | N93: =IFERROR(VLOOKUP(H93,Price,2,FALSE)*1.2,0) -> 0
H94: 940.43.921 | I94: 1 | M94: =IFERROR(IF(Змiст!$K$5>Змiст!$BH$55,N94*(1-Змiст!$K$5),N94*(1-Змiст!$BH$55)),0)*I94 -> 18.057156 | N94: =IFERROR(VLOOKUP(H94,Price,2,FALSE)*1.2,0) -> 18.057156
M95: =IFERROR(IF(Змiст!$K$5>Змiст!$BH$55,N95*(1-Змiст!$K$5),N95*(1-Змiст!$BH$55)),0)*I95 -> 0 | N95: =IFERROR(VLOOKUP(H95,Price,2,FALSE)*1.2,0) -> 0
M96: =IFERROR(IF(Змiст!$K$5>Змiст!$BH$55,N96*(1-Змiст!$K$5),N96*(1-Змiст!$BH$55)),0)*I96 -> 0 | N96: =IFERROR(VLOOKUP(H96,Price,2,FALSE)*1.2,0) -> 0
G97: 940.82.X39 | H97: 940.82.139 | I97: 1 | J97: Комплект фурнітури Slido Classic 80-P, вагою дверного полотна до 80 кг, ширина ≥ 916 мм, з 2-стороннім доводчиком, ходовою шиною 2 м (монтаж до стелі) | K97: =L97*курс -> 4194.2789 | L97: =SUM(M97:M102) -> 133.15171 | M97: =IFERROR(IF(Змiст!$K$5>Змiст!$BH$55,N97*(1-Змiст!$K$5),N97*(1-Змiст!$BH$55)),0)*I97 -> 115.09456 | N97: =IFERROR(VLOOKUP(H97,Price,2,FALSE)*1.2,0) -> 115.09456 | O97: компл | P97: Складська
M98: =IFERROR(IF(Змiст!$K$5>Змiст!$BH$55,N98*(1-Змiст!$K$5),N98*(1-Змiст!$BH$55)),0)*I98 -> 0 | N98: =IFERROR(VLOOKUP(H98,Price,2,FALSE)*1.2,0) -> 0
M99: =IFERROR(IF(Змiст!$K$5>Змiст!$BH$55,N99*(1-Змiст!$K$5),N99*(1-Змiст!$BH$55)),0)*I99 -> 0 | N99: =IFERROR(VLOOKUP(H99,Price,2,FALSE)*1.2,0) -> 0
H100: 940.43.921 | I100: 1 | M100: =IFERROR(IF(Змiст!$K$5>Змiст!$BH$55,N100*(1-Змiст!$K$5),N100*(1-Змiст!$BH$55)),0)*I100 -> 18.057156 | N100: =IFERROR(VLOOKUP(H100,Price,2,FALSE)*1.2,0) -> 18.057156
M101: =IFERROR(IF(Змiст!$K$5>Змiст!$BH$55,N101*(1-Змiст!$K$5),N101*(1-Змiст!$BH$55)),0)*I101 -> 0 | N101: =IFERROR(VLOOKUP(H101,Price,2,FALSE)*1.2,0) -> 0
M102: =IFERROR(IF(Змiст!$K$5>Змiст!$BH$55,N102*(1-Змiст!$K$5),N102*(1-Змiст!$BH$55)),0)*I102 -> 0 | N102: =IFERROR(VLOOKUP(H102,Price,2,FALSE)*1.2,0) -> 0
G103: 941.25.X35 | H103: 941.25.135 | I103: 1 | J103: Комплект фурнітури Slido Classic 120-P, вагою дверного полотна до 120 кг, ширина ≥ 1094 мм, з 2-стороннім доводчиком, ходовою шиною 2 м (монтаж до стелі) | K103: =L103*курс -> 4569.0894 | L103: =SUM(M103:M108) -> 145.05046 | M103: =IFERROR(IF(Змiст!$K$5>Змiст!$BH$55,N103*(1-Змiст!$K$5),N103*(1-Змiст!$BH$55)),0)*I103 -> 126.9933 | N103: =IFERROR(VLOOKUP(H103,Price,2,FALSE)*1.2,0) -> 126.9933 | O103: компл | P103: Складська
M104: =IFERROR(IF(Змiст!$K$5>Змiст!$BH$55,N104*(1-Змiст!$K$5),N104*(1-Змiст!$BH$55)),0)*I104 -> 0 | N104: =IFERROR(VLOOKUP(H104,Price,2,FALSE)*1.2,0) -> 0
M105: =IFERROR(IF(Змiст!$K$5>Змiст!$BH$55,N105*(1-Змiст!$K$5),N105*(1-Змiст!$BH$55)),0)*I105 -> 0 | N105: =IFERROR(VLOOKUP(H105,Price,2,FALSE)*1.2,0) -> 0
H106: 940.43.921 | I106: 1 | M106: =IFERROR(IF(Змiст!$K$5>Змiст!$BH$55,N106*(1-Змiст!$K$5),N106*(1-Змiст!$BH$55)),0)*I106 -> 18.057156 | N106: =IFERROR(VLOOKUP(H106,Price,2,FALSE)*1.2,0) -> 18.057156
M107: =IFERROR(IF(Змiст!$K$5>Змiст!$BH$55,N107*(1-Змiст!$K$5),N107*(1-Змiст!$BH$55)),0)*I107 -> 0 | N107: =IFERROR(VLOOKUP(H107,Price,2,FALSE)*1.2,0) -> 0
M108: =IFERROR(IF(Змiст!$K$5>Змiст!$BH$55,N108*(1-Змiст!$K$5),N108*(1-Змiст!$BH$55)),0)*I108 -> 0 | N108: =IFERROR(VLOOKUP(H108,Price,2,FALSE)*1.2,0) -> 0
D110: Slido Classic 80I | G110: 940.82.14X | H110: 940.82.148 | I110: 1 | J110: Комплект фурнітури Slido Classic 80-I, вагою дверного полотна до 80 кг, з ходовою шиною, алюміній без покриття 2 м | K110: =L110*курс -> 8240.0428 | L110: =SUM(M110:M115) -> 261.58866 | M110: =IFERROR(IF(Змiст!$K$5>Змiст!$BH$55,N110*(1-Змiст!$K$5),N110*(1-Змiст!$BH$55)),0) -> 60.4395 | N110: =IFERROR(VLOOKUP(H110,Price,2,FALSE)*1.2,0) -> 60.4395 | O110: компл
M111: =IFERROR(IF(Змiст!$K$5>Змiст!$BH$55,N111*(1-Змiст!$K$5),N111*(1-Змiст!$BH$55)),0) -> 0 | N111: =IFERROR(VLOOKUP(H111,Price,2,FALSE)*1.2,0) -> 0
H112: 940.42.038 | I112: 1 | M112: =IFERROR(IF(Змiст!$K$5>Змiст!$BH$55,N112*(1-Змiст!$K$5),N112*(1-Змiст!$BH$55)),0) -> 1.270032 | N112: =IFERROR(VLOOKUP(H112,Price,2,FALSE)*1.2,0) -> 1.270032
D113: Технічні дані | M113: =IFERROR(IF(Змiст!$K$5>Змiст!$BH$55,N113*(1-Змiст!$K$5),N113*(1-Змiст!$BH$55)),0) -> 0 | N113: =IFERROR(VLOOKUP(H113,Price,2,FALSE)*1.2,0) -> 0
D114: Вага дверей | E114: 80 кг | H114: 940.43.291 | I114: 1 | M114: =IFERROR(IF(Змiст!$K$5>Змiст!$BH$55,N114*(1-Змiст!$K$5),N114*(1-Змiст!$BH$55)),0) -> 181.82197 | N114: =IFERROR(VLOOKUP(H114,Price,2,FALSE)*1.2,0) -> 181.82197
D115: Толщина дверей | E115: min. 40 мм | H115: 940.43.921 | I115: 1 | M115: =IFERROR(IF(Змiст!$K$5>Змiст!$BH$55,N115*(1-Змiст!$K$5),N115*(1-Змiст!$BH$55)),0) -> 18.057156 | N115: =IFERROR(VLOOKUP(H115,Price,2,FALSE)*1.2,0) -> 18.057156
D116: Ширина дверей | E116: min. 594 мм | G116: 940.82.X01 | H116: 940.82.149 | I116: 1 | J116: Комплект фурнітури Slido Classic 80-I, вагою дверного полотна до 80 кг, ширина ≥ 594 мм, з 1-стороннім доводчиком, ходовою шиною 2 м | K116: =L116*курс -> 10274.917 | L116: =SUM(M116:M121) -> 326.18783 | M116: =IFERROR(IF(Змiст!$K$5>Змiст!$BH$55,N116*(1-Змiст!$K$5),N116*(1-Змiст!$BH$55)),0) -> 125.03867 | N116: =IFERROR(VLOOKUP(H116,Price,2,FALSE)*1.2,0) -> 125.03867 | O116: компл
...

Sheet Аксесуари для дверей
F1: Ваша знижка на дану групу товарів: | H1: =IF(Змiст!$K$5>Змiст!$F$73,Змiст!$K$5,Змiст!$F$73) -> 0
D2: Зображення | E2: Артикул | F2: Назва | G2: Ціна грн. з ПДВ | H2: Ціна євро з ПДВ | J2: Од. | K2: Примітка
E3: 959.00.001 | F3: Вічко для дверей 170° латунь хромована полірована D12 мм | G3: =(H3)*Змiст!$K$4 -> 68.256594 | H3: =IFERROR(IF(Змiст!$K$5>Змiст!$F$73,I3*(1-Змiст!$K$5),I3*(1-Змiст!$F$73)),"") -> 2.166876 | I3: =VLOOKUP(E3,Price,2,FALSE)*1.2 -> 2.166876 | J3: шт
E4: 959.00.002 | F4: Вічко для дверей 170° латунь полірована D12 мм | G4: =(H4)*Змiст!$K$4 -> 118.17149 | H4: =IFERROR(IF(Змiст!$K$5>Змiст!$F$73,I4*(1-Змiст!$K$5),I4*(1-Змiст!$F$73)),"") -> 3.751476 | I4: =VLOOKUP(E4,Price,2,FALSE)*1.2 -> 3.751476 | J4: шт
E5: 959.00.007 | F5: Вічко для дверей 170° латунь воронена D12 мм | G5: =(H5)*Змiст!$K$4 -> 118.17149 | H5: =IFERROR(IF(Змiст!$K$5>Змiст!$F$73,I5*(1-Змiст!$K$5),I5*(1-Змiст!$F$73)),"") -> 3.751476 | I5: =VLOOKUP(E5,Price,2,FALSE)*1.2 -> 3.751476 | J5: шт
E6: 959.00.003 | F6: Вічко для дверей 200° латунь хромована полірована D14мм | G6: =(H6)*Змiст!$K$4 -> 240.43068 | H6: =IFERROR(IF(Змiст!$K$5>Змiст!$F$73,I6*(1-Змiст!$K$5),I6*(1-Змiст!$F$73)),"") -> 7.63272 | I6: =VLOOKUP(E6,Price,2,FALSE)*1.2 -> 7.63272 | J6: шт
E7: 959.00.004 | F7: Вічко для дверей 200° латунь поліров.14мм | G7: =(H7)*Змiст!$K$4 -> 250.04776 | H7: =IFERROR(IF(Змiст!$K$5>Змiст!$F$73,I7*(1-Змiст!$K$5),I7*(1-Змiст!$F$73)),"") -> 7.938024 | I7: =VLOOKUP(E7,Price,2,FALSE)*1.2 -> 7.938024 | J7: шт
E8: 959.00.008 | F8: Вічко для дверей 200° латунь воронена 14мм | G8: =(H8)*Змiст!$K$4 -> 242.76483 | H8: =IFERROR(IF(Змiст!$K$5>Змiст!$F$73,I8*(1-Змiст!$K$5),I8*(1-Змiст!$F$73)),"") -> 7.70682 | I8: =VLOOKUP(E8,Price,2,FALSE)*1.2 -> 7.70682 | J8: шт
E9: 959.00.005 | F9: Вічко для дверей 200° латунь хромована 14мм для товщини дверей до 70 мм | G9: =(H9)*Змiст!$K$4 -> 255.60965 | H9: =IFERROR(IF(Змiст!$K$5>Змiст!$F$73,I9*(1-Змiст!$K$5),I9*(1-Змiст!$F$73)),"") -> 8.114592 | I9: =VLOOKUP(E9,Price,2,FALSE)*1.2 -> 8.114592 | J9: шт
E10: 959.00.006 | F10: Вічко для дверей 200° латунь полірована 14мм для товщини дверей до 70 мм | G10: =(H10)*Змiст!$K$4 -> 271.02335 | H10: =IFERROR(IF(Змiст!$K$5>Змiст!$F$73,I10*(1-Змiст!$K$5),I10*(1-Змiст!$F$73)),"") -> 8.603916 | I10: =VLOOKUP(E10,Price,2,FALSE)*1.2 -> 8.603916 | J10: шт
E11: 959.00.009 | F11: Вічко для дверей 200° латунь воронена 14мм для товщини дверей до 70 мм | G11: =(H11)*Змiст!$K$4 -> 255.60965 | H11: =IFERROR(IF(Змiст!$K$5>Змiст!$F$73,I11*(1-Змiст!$K$5),I11*(1-Змiст!$F$73)),"") -> 8.114592 | I11: =VLOOKUP(E11,Price,2,FALSE)*1.2 -> 8.114592 | J11: шт
E12: 959.01.020 | F12: Вічко для дверей 160° латунь хромована 12 мм для товщини дверей до 52 мм | G12: =(H12)*Змiст!$K$4 -> 383.92704 | H12: =IFERROR(IF(Змiст!$K$5>Змiст!$F$73,I12*(1-Змiст!$K$5),I12*(1-Змiст!$F$73)),"") -> 12.18816 | I12: =VLOOKUP(E12,Price,2,FALSE)*1.2 -> 12.18816 | J12: шт
E13: 959.01.021 | F13: Вічко для дверей 160° латунь полірована 12 мм для товщини дверей до 52 мм | G13: =(H13)*Змiст!$K$4 -> 415.72667 | H13: =IFERROR(IF(Змiст!$K$5>Змiст!$F$73,I13*(1-Змiст!$K$5),I13*(1-Змiст!$F$73)),"") -> 13.197672 | I13: =VLOOKUP(E13,Price,2,FALSE)*1.2 -> 13.197672 | J13: шт
E14: 959.01.022 | F14: Вічко для дверей 160° латунь воронена 12 мм для товщини дверей до 52 мм | G14: =(H14)*Змiст!$K$4 -> 428.44561 | H14: =IFERROR(IF(Змiст!$K$5>Змiст!$F$73,I14*(1-Змiст!$K$5),I14*(1-Змiст!$F$73)),"") -> 13.601448 | I14: =VLOOKUP(E14,Price,2,FALSE)*1.2 -> 13.601448 | J14: шт
... E61: 938.02.121 | F61: Фіксатор дверний алюміній, срібний 370мм, модель 1046 | G61: =(H61)*Змiст!$K$4 -> 4373.4789 | H61: =IFERROR(IF(Змiст!$K$5>Змiст!$F$73,I61*(1-Змiст!$K$5),I61*(1-Змiст!$F$73)),"") -> 138.8406 | I61: =VLOOKUP(E61,Price,2,FALSE)*1.2 -> 138.8406 | J61: шт
